| Back to Multiple platform build/check report for BioC 3.22: simplified long |
|
This page was generated on 2025-10-25 12:04 -0400 (Sat, 25 Oct 2025).
| Hostname | OS | Arch (*) | R version | Installed pkgs |
|---|---|---|---|---|
| nebbiolo2 | Linux (Ubuntu 24.04.3 LTS) | x86_64 | 4.5.1 Patched (2025-08-23 r88802) -- "Great Square Root" | 4901 |
| lconway | macOS 12.7.6 Monterey | x86_64 | 4.5.1 Patched (2025-09-10 r88807) -- "Great Square Root" | 4691 |
| kjohnson3 | macOS 13.7.7 Ventura | arm64 | 4.5.1 Patched (2025-09-10 r88807) -- "Great Square Root" | 4637 |
| taishan | Linux (openEuler 24.03 LTS) | aarch64 | 4.5.0 (2025-04-11) -- "How About a Twenty-Six" | 4658 |
| Click on any hostname to see more info about the system (e.g. compilers) (*) as reported by 'uname -p', except on Windows and Mac OS X | ||||
| Package 744/2361 | Hostname | OS / Arch | INSTALL | BUILD | CHECK | BUILD BIN | ||||||||
| FLAMES 2.3.5 (landing page) Changqing Wang
| nebbiolo2 | Linux (Ubuntu 24.04.3 LTS) / x86_64 | OK | OK | OK | |||||||||
| lconway | macOS 12.7.6 Monterey / x86_64 | OK | OK | OK | OK | |||||||||
| kjohnson3 | macOS 13.7.7 Ventura / arm64 | OK | OK | OK | OK | |||||||||
| taishan | Linux (openEuler 24.03 LTS) / aarch64 | ERROR | NA | NA | ||||||||||
|
To the developers/maintainers of the FLAMES package: - Allow up to 24 hours (and sometimes 48 hours) for your latest push to git@git.bioconductor.org:packages/FLAMES.git to reflect on this report. See Troubleshooting Build Report for more information. - Use the following Renviron settings to reproduce errors and warnings. - If 'R CMD check' started to fail recently on the Linux builder(s) over a missing dependency, add the missing dependency to 'Suggests:' in your DESCRIPTION file. See Renviron.bioc for more information. |
| Package: FLAMES |
| Version: 2.3.5 |
| Command: rm -rf FLAMES.buildbin-libdir && mkdir FLAMES.buildbin-libdir && /Users/biocbuild/BBS/utils/build-universal.sh FLAMES_2.3.5.tar.gz /Library/Frameworks/R.framework/Resources/bin/R FLAMES.buildbin-libdir |
| StartedAt: 2025-10-25 01:40:22 -0400 (Sat, 25 Oct 2025) |
| EndedAt: 2025-10-25 01:43:07 -0400 (Sat, 25 Oct 2025) |
| EllapsedTime: 165.0 seconds |
| RetCode: 0 |
| Status: OK |
| PackageFile: FLAMES_2.3.5.tgz |
| PackageFileSize: 4.846 MiB |
##############################################################################
##############################################################################
###
### Running command:
###
### rm -rf FLAMES.buildbin-libdir && mkdir FLAMES.buildbin-libdir && /Users/biocbuild/BBS/utils/build-universal.sh FLAMES_2.3.5.tar.gz /Library/Frameworks/R.framework/Resources/bin/R FLAMES.buildbin-libdir
###
##############################################################################
##############################################################################
>>>>>>>
>>>>>>> INSTALLATION WITH 'R CMD INSTALL --preclean --no-multiarch --library=FLAMES.buildbin-libdir FLAMES_2.3.5.tar.gz'
>>>>>>>
* installing *source* package ‘FLAMES’ ...
** this is package ‘FLAMES’ version ‘2.3.5’
** using non-staged installation via StagedInstall field
** libs
/bin/sh: rustc: command not found
using C++ compiler: ‘Apple clang version 14.0.0 (clang-1400.0.29.202)’
using C++17
using SDK: ‘MacOSX11.3.1.sdk’
/bin/sh: rustc: command not found
/bin/sh: rustc: command not found
clang++ -arch x86_64 -std=gnu++17 -I"/Library/Frameworks/R.framework/Resources/include" -DNDEBUG -pthread -D_FILE_OFFSET_BITS=64 -I'/Library/Frameworks/R.framework/Versions/4.5-x86_64/Resources/library/Rcpp/include' -I'/Library/Frameworks/R.framework/Versions/4.5-x86_64/Resources/library/Rhtslib/include' -I'/Library/Frameworks/R.framework/Versions/4.5-x86_64/Resources/library/testthat/include' -I/opt/R/x86_64/include -fPIC -falign-functions=64 -Wall -g -O2 -c RcppExports.cpp -o RcppExports.o
clang++ -arch x86_64 -std=gnu++17 -I"/Library/Frameworks/R.framework/Resources/include" -DNDEBUG -pthread -D_FILE_OFFSET_BITS=64 -I'/Library/Frameworks/R.framework/Versions/4.5-x86_64/Resources/library/Rcpp/include' -I'/Library/Frameworks/R.framework/Versions/4.5-x86_64/Resources/library/Rhtslib/include' -I'/Library/Frameworks/R.framework/Versions/4.5-x86_64/Resources/library/testthat/include' -I/opt/R/x86_64/include -fPIC -falign-functions=64 -Wall -g -O2 -c RcppFunctions.cpp -o RcppFunctions.o
clang++ -arch x86_64 -std=gnu++17 -I"/Library/Frameworks/R.framework/Resources/include" -DNDEBUG -pthread -D_FILE_OFFSET_BITS=64 -I'/Library/Frameworks/R.framework/Versions/4.5-x86_64/Resources/library/Rcpp/include' -I'/Library/Frameworks/R.framework/Versions/4.5-x86_64/Resources/library/Rhtslib/include' -I'/Library/Frameworks/R.framework/Versions/4.5-x86_64/Resources/library/testthat/include' -I/opt/R/x86_64/include -fPIC -falign-functions=64 -Wall -g -O2 -c classes/BamRecord.cpp -o classes/BamRecord.o
clang++ -arch x86_64 -std=gnu++17 -I"/Library/Frameworks/R.framework/Resources/include" -DNDEBUG -pthread -D_FILE_OFFSET_BITS=64 -I'/Library/Frameworks/R.framework/Versions/4.5-x86_64/Resources/library/Rcpp/include' -I'/Library/Frameworks/R.framework/Versions/4.5-x86_64/Resources/library/Rhtslib/include' -I'/Library/Frameworks/R.framework/Versions/4.5-x86_64/Resources/library/testthat/include' -I/opt/R/x86_64/include -fPIC -falign-functions=64 -Wall -g -O2 -c classes/GFFRecord.cpp -o classes/GFFRecord.o
clang++ -arch x86_64 -std=gnu++17 -I"/Library/Frameworks/R.framework/Resources/include" -DNDEBUG -pthread -D_FILE_OFFSET_BITS=64 -I'/Library/Frameworks/R.framework/Versions/4.5-x86_64/Resources/library/Rcpp/include' -I'/Library/Frameworks/R.framework/Versions/4.5-x86_64/Resources/library/Rhtslib/include' -I'/Library/Frameworks/R.framework/Versions/4.5-x86_64/Resources/library/testthat/include' -I/opt/R/x86_64/include -fPIC -falign-functions=64 -Wall -g -O2 -c classes/GeneAnnotationParser.cpp -o classes/GeneAnnotationParser.o
clang++ -arch x86_64 -std=gnu++17 -I"/Library/Frameworks/R.framework/Resources/include" -DNDEBUG -pthread -D_FILE_OFFSET_BITS=64 -I'/Library/Frameworks/R.framework/Versions/4.5-x86_64/Resources/library/Rcpp/include' -I'/Library/Frameworks/R.framework/Versions/4.5-x86_64/Resources/library/Rhtslib/include' -I'/Library/Frameworks/R.framework/Versions/4.5-x86_64/Resources/library/testthat/include' -I/opt/R/x86_64/include -fPIC -falign-functions=64 -Wall -g -O2 -c classes/Isoforms.cpp -o classes/Isoforms.o
clang++ -arch x86_64 -std=gnu++17 -I"/Library/Frameworks/R.framework/Resources/include" -DNDEBUG -pthread -D_FILE_OFFSET_BITS=64 -I'/Library/Frameworks/R.framework/Versions/4.5-x86_64/Resources/library/Rcpp/include' -I'/Library/Frameworks/R.framework/Versions/4.5-x86_64/Resources/library/Rhtslib/include' -I'/Library/Frameworks/R.framework/Versions/4.5-x86_64/Resources/library/testthat/include' -I/opt/R/x86_64/include -fPIC -falign-functions=64 -Wall -g -O2 -c classes/junctions.cpp -o classes/junctions.o
clang++ -arch x86_64 -std=gnu++17 -I"/Library/Frameworks/R.framework/Resources/include" -DNDEBUG -pthread -D_FILE_OFFSET_BITS=64 -I'/Library/Frameworks/R.framework/Versions/4.5-x86_64/Resources/library/Rcpp/include' -I'/Library/Frameworks/R.framework/Versions/4.5-x86_64/Resources/library/Rhtslib/include' -I'/Library/Frameworks/R.framework/Versions/4.5-x86_64/Resources/library/testthat/include' -I/opt/R/x86_64/include -fPIC -falign-functions=64 -Wall -g -O2 -c main-functions/find_isoform.cpp -o main-functions/find_isoform.o
clang++ -arch x86_64 -std=gnu++17 -I"/Library/Frameworks/R.framework/Resources/include" -DNDEBUG -pthread -D_FILE_OFFSET_BITS=64 -I'/Library/Frameworks/R.framework/Versions/4.5-x86_64/Resources/library/Rcpp/include' -I'/Library/Frameworks/R.framework/Versions/4.5-x86_64/Resources/library/Rhtslib/include' -I'/Library/Frameworks/R.framework/Versions/4.5-x86_64/Resources/library/testthat/include' -I/opt/R/x86_64/include -fPIC -falign-functions=64 -Wall -g -O2 -c main-functions/flexiplex.cpp -o main-functions/flexiplex.o
clang++ -arch x86_64 -std=gnu++17 -I"/Library/Frameworks/R.framework/Resources/include" -DNDEBUG -pthread -D_FILE_OFFSET_BITS=64 -I'/Library/Frameworks/R.framework/Versions/4.5-x86_64/Resources/library/Rcpp/include' -I'/Library/Frameworks/R.framework/Versions/4.5-x86_64/Resources/library/Rhtslib/include' -I'/Library/Frameworks/R.framework/Versions/4.5-x86_64/Resources/library/testthat/include' -I/opt/R/x86_64/include -fPIC -falign-functions=64 -Wall -g -O2 -c main-functions/get_transcript_seq.cpp -o main-functions/get_transcript_seq.o
clang++ -arch x86_64 -std=gnu++17 -I"/Library/Frameworks/R.framework/Resources/include" -DNDEBUG -pthread -D_FILE_OFFSET_BITS=64 -I'/Library/Frameworks/R.framework/Versions/4.5-x86_64/Resources/library/Rcpp/include' -I'/Library/Frameworks/R.framework/Versions/4.5-x86_64/Resources/library/Rhtslib/include' -I'/Library/Frameworks/R.framework/Versions/4.5-x86_64/Resources/library/testthat/include' -I/opt/R/x86_64/include -fPIC -falign-functions=64 -Wall -g -O2 -c main-functions/group_bam2isoform.cpp -o main-functions/group_bam2isoform.o
clang++ -arch x86_64 -std=gnu++17 -I"/Library/Frameworks/R.framework/Resources/include" -DNDEBUG -pthread -D_FILE_OFFSET_BITS=64 -I'/Library/Frameworks/R.framework/Versions/4.5-x86_64/Resources/library/Rcpp/include' -I'/Library/Frameworks/R.framework/Versions/4.5-x86_64/Resources/library/Rhtslib/include' -I'/Library/Frameworks/R.framework/Versions/4.5-x86_64/Resources/library/testthat/include' -I/opt/R/x86_64/include -fPIC -falign-functions=64 -Wall -g -O2 -c main-functions/pileup_readid.cpp -o main-functions/pileup_readid.o
main-functions/pileup_readid.cpp:86:16: warning: unused variable 'end' [-Wunused-variable]
unsigned int end;
^
1 warning generated.
clang++ -arch x86_64 -std=gnu++17 -I"/Library/Frameworks/R.framework/Resources/include" -DNDEBUG -pthread -D_FILE_OFFSET_BITS=64 -I'/Library/Frameworks/R.framework/Versions/4.5-x86_64/Resources/library/Rcpp/include' -I'/Library/Frameworks/R.framework/Versions/4.5-x86_64/Resources/library/Rhtslib/include' -I'/Library/Frameworks/R.framework/Versions/4.5-x86_64/Resources/library/testthat/include' -I/opt/R/x86_64/include -fPIC -falign-functions=64 -Wall -g -O2 -c tests/test-junctions.cpp -o tests/test-junctions.o
clang++ -arch x86_64 -std=gnu++17 -I"/Library/Frameworks/R.framework/Resources/include" -DNDEBUG -pthread -D_FILE_OFFSET_BITS=64 -I'/Library/Frameworks/R.framework/Versions/4.5-x86_64/Resources/library/Rcpp/include' -I'/Library/Frameworks/R.framework/Versions/4.5-x86_64/Resources/library/Rhtslib/include' -I'/Library/Frameworks/R.framework/Versions/4.5-x86_64/Resources/library/testthat/include' -I/opt/R/x86_64/include -fPIC -falign-functions=64 -Wall -g -O2 -c tests/test-parsing.cpp -o tests/test-parsing.o
clang++ -arch x86_64 -std=gnu++17 -I"/Library/Frameworks/R.framework/Resources/include" -DNDEBUG -pthread -D_FILE_OFFSET_BITS=64 -I'/Library/Frameworks/R.framework/Versions/4.5-x86_64/Resources/library/Rcpp/include' -I'/Library/Frameworks/R.framework/Versions/4.5-x86_64/Resources/library/Rhtslib/include' -I'/Library/Frameworks/R.framework/Versions/4.5-x86_64/Resources/library/testthat/include' -I/opt/R/x86_64/include -fPIC -falign-functions=64 -Wall -g -O2 -c utility/cigars.cpp -o utility/cigars.o
clang++ -arch x86_64 -std=gnu++17 -I"/Library/Frameworks/R.framework/Resources/include" -DNDEBUG -pthread -D_FILE_OFFSET_BITS=64 -I'/Library/Frameworks/R.framework/Versions/4.5-x86_64/Resources/library/Rcpp/include' -I'/Library/Frameworks/R.framework/Versions/4.5-x86_64/Resources/library/Rhtslib/include' -I'/Library/Frameworks/R.framework/Versions/4.5-x86_64/Resources/library/testthat/include' -I/opt/R/x86_64/include -fPIC -falign-functions=64 -Wall -g -O2 -c utility/edlib-1.2.7/edlib.cpp -o utility/edlib-1.2.7/edlib.o
clang -arch x86_64 -I"/Library/Frameworks/R.framework/Resources/include" -DNDEBUG -pthread -D_FILE_OFFSET_BITS=64 -I'/Library/Frameworks/R.framework/Versions/4.5-x86_64/Resources/library/Rcpp/include' -I'/Library/Frameworks/R.framework/Versions/4.5-x86_64/Resources/library/Rhtslib/include' -I'/Library/Frameworks/R.framework/Versions/4.5-x86_64/Resources/library/testthat/include' -I/opt/R/x86_64/include -fPIC -falign-functions=64 -Wall -g -O2 -c utility/bam.c -o utility/bam.o
clang++ -arch x86_64 -std=gnu++17 -dynamiclib -Wl,-headerpad_max_install_names -undefined dynamic_lookup -L/Library/Frameworks/R.framework/Resources/lib -L/opt/R/x86_64/lib -o FLAMES.so RcppExports.o RcppFunctions.o classes/BamRecord.o classes/GFFRecord.o classes/GeneAnnotationParser.o classes/Isoforms.o classes/junctions.o main-functions/find_isoform.o main-functions/flexiplex.o main-functions/get_transcript_seq.o main-functions/group_bam2isoform.o main-functions/pileup_readid.o tests/test-junctions.o tests/test-parsing.o utility/cigars.o utility/edlib-1.2.7/edlib.o utility/bam.o -pthread -lz /Library/Frameworks/R.framework/Versions/4.5-x86_64/Resources/library/Rhtslib/usrlib/libhts.a -lcurl -lbz2 -llzma -lz -F/Library/Frameworks/R.framework/.. -framework R
if test -e "/usr/bin/strip" & test -e "/bin/uname" & [[ `uname` == "Linux" ]] ; then /usr/bin/strip --strip-debug FLAMES.so; fi
Building for x86_64
(cd submodule/minimap2 && make -f Makefile CFLAGS="-falign-functions=64 -Wall -g -O2 -Wno-unused-result" minimap2)
cc -c -falign-functions=64 -Wall -g -O2 -Wno-unused-result -DHAVE_KALLOC main.c -o main.o
cc -c -falign-functions=64 -Wall -g -O2 -Wno-unused-result -DHAVE_KALLOC kthread.c -o kthread.o
cc -c -falign-functions=64 -Wall -g -O2 -Wno-unused-result -DHAVE_KALLOC kalloc.c -o kalloc.o
cc -c -falign-functions=64 -Wall -g -O2 -Wno-unused-result -DHAVE_KALLOC misc.c -o misc.o
cc -c -falign-functions=64 -Wall -g -O2 -Wno-unused-result -DHAVE_KALLOC bseq.c -o bseq.o
cc -c -falign-functions=64 -Wall -g -O2 -Wno-unused-result -DHAVE_KALLOC sketch.c -o sketch.o
cc -c -falign-functions=64 -Wall -g -O2 -Wno-unused-result -DHAVE_KALLOC sdust.c -o sdust.o
cc -c -falign-functions=64 -Wall -g -O2 -Wno-unused-result -DHAVE_KALLOC options.c -o options.o
cc -c -falign-functions=64 -Wall -g -O2 -Wno-unused-result -DHAVE_KALLOC index.c -o index.o
cc -c -falign-functions=64 -Wall -g -O2 -Wno-unused-result -DHAVE_KALLOC lchain.c -o lchain.o
cc -c -falign-functions=64 -Wall -g -O2 -Wno-unused-result -DHAVE_KALLOC align.c -o align.o
cc -c -falign-functions=64 -Wall -g -O2 -Wno-unused-result -DHAVE_KALLOC hit.c -o hit.o
cc -c -falign-functions=64 -Wall -g -O2 -Wno-unused-result -DHAVE_KALLOC seed.c -o seed.o
cc -c -falign-functions=64 -Wall -g -O2 -Wno-unused-result -DHAVE_KALLOC jump.c -o jump.o
cc -c -falign-functions=64 -Wall -g -O2 -Wno-unused-result -DHAVE_KALLOC map.c -o map.o
cc -c -falign-functions=64 -Wall -g -O2 -Wno-unused-result -DHAVE_KALLOC format.c -o format.o
cc -c -falign-functions=64 -Wall -g -O2 -Wno-unused-result -DHAVE_KALLOC pe.c -o pe.o
cc -c -falign-functions=64 -Wall -g -O2 -Wno-unused-result -DHAVE_KALLOC esterr.c -o esterr.o
cc -c -falign-functions=64 -Wall -g -O2 -Wno-unused-result -DHAVE_KALLOC splitidx.c -o splitidx.o
cc -c -falign-functions=64 -Wall -g -O2 -Wno-unused-result -msse2 -DHAVE_KALLOC ksw2_ll_sse.c -o ksw2_ll_sse.o
cc -c -falign-functions=64 -Wall -g -O2 -Wno-unused-result -msse4.1 -DHAVE_KALLOC -DKSW_CPU_DISPATCH ksw2_extz2_sse.c -o ksw2_extz2_sse41.o
cc -c -falign-functions=64 -Wall -g -O2 -Wno-unused-result -msse4.1 -DHAVE_KALLOC -DKSW_CPU_DISPATCH ksw2_extd2_sse.c -o ksw2_extd2_sse41.o
cc -c -falign-functions=64 -Wall -g -O2 -Wno-unused-result -msse4.1 -DHAVE_KALLOC -DKSW_CPU_DISPATCH ksw2_exts2_sse.c -o ksw2_exts2_sse41.o
cc -c -falign-functions=64 -Wall -g -O2 -Wno-unused-result -msse2 -mno-sse4.1 -DHAVE_KALLOC -DKSW_CPU_DISPATCH -DKSW_SSE2_ONLY ksw2_extz2_sse.c -o ksw2_extz2_sse2.o
cc -c -falign-functions=64 -Wall -g -O2 -Wno-unused-result -msse2 -mno-sse4.1 -DHAVE_KALLOC -DKSW_CPU_DISPATCH -DKSW_SSE2_ONLY ksw2_extd2_sse.c -o ksw2_extd2_sse2.o
cc -c -falign-functions=64 -Wall -g -O2 -Wno-unused-result -msse2 -mno-sse4.1 -DHAVE_KALLOC -DKSW_CPU_DISPATCH -DKSW_SSE2_ONLY ksw2_exts2_sse.c -o ksw2_exts2_sse2.o
cc -c -falign-functions=64 -Wall -g -O2 -Wno-unused-result -msse4.1 -DHAVE_KALLOC -DKSW_CPU_DISPATCH ksw2_dispatch.c -o ksw2_dispatch.o
ar -csru libminimap2.a kthread.o kalloc.o misc.o bseq.o sketch.o sdust.o options.o index.o lchain.o align.o hit.o seed.o jump.o map.o format.o pe.o esterr.o splitidx.o ksw2_ll_sse.o ksw2_extz2_sse41.o ksw2_extd2_sse41.o ksw2_exts2_sse41.o ksw2_extz2_sse2.o ksw2_extd2_sse2.o ksw2_exts2_sse2.o ksw2_dispatch.o
cc -falign-functions=64 -Wall -g -O2 -Wno-unused-result main.o -o minimap2 -L. -lminimap2 -lm -lz -lpthread
echo "Installing binary to /private/tmp/RtmpXZclSY/R.INSTALL682832c2ac9a/FLAMES/src/../inst/bin"
Installing binary to /private/tmp/RtmpXZclSY/R.INSTALL682832c2ac9a/FLAMES/src/../inst/bin
mkdir -p ../inst/bin
cp submodule/minimap2/minimap2 ../inst/bin/
Cargo not found, skipping oarfish installation.
installing to /Users/biocbuild/bbs-3.22-bioc/meat/FLAMES.buildbin-libdir/FLAMES/libs
** R
** data
** inst
** byte-compile and prepare package for lazy loading
** help
*** installing help indices
*** copying figures
** building package indices
** installing vignettes
** testing if installed package can be loaded
* DONE (FLAMES)
>>>>>>>
>>>>>>> FIXING PATHS TO DYNAMIC LIBRARIES FOR FLAMES.buildbin-libdir/FLAMES/libs/FLAMES.so
>>>>>>>
>>>>>>> Paths before fix:
FLAMES.buildbin-libdir/FLAMES/libs/FLAMES.so:
FLAMES.so (compatibility version 0.0.0, current version 0.0.0)
/usr/lib/libz.1.dylib (compatibility version 1.0.0, current version 1.2.11)
/usr/lib/libcurl.4.dylib (compatibility version 7.0.0, current version 9.0.0)
/usr/lib/libbz2.1.0.dylib (compatibility version 1.0.0, current version 1.0.5)
/Library/Frameworks/R.framework/Versions/4.5-x86_64/Resources/lib/libR.dylib (compatibility version 4.5.0, current version 4.5.1)
/usr/lib/libc++.1.dylib (compatibility version 1.0.0, current version 905.6.0)
/usr/lib/libSystem.B.dylib (compatibility version 1.0.0, current version 1292.100.5)
>>>>>>> Fix with install_name_tool:
install_name_tool -change "/usr/local/lib/libgcc_s.1.1.dylib" "/Library/Frameworks/R.framework/Versions/4.5-x86_64/Resources/lib/libgcc_s.1.1.dylib" "FLAMES.buildbin-libdir/FLAMES/libs/FLAMES.so"
install_name_tool -change "/usr/local/lib/libgfortran.5.dylib" "/Library/Frameworks/R.framework/Versions/4.5-x86_64/Resources/lib/libgfortran.5.dylib" "FLAMES.buildbin-libdir/FLAMES/libs/FLAMES.so"
install_name_tool -change "/usr/local/lib/libquadmath.0.dylib" "/Library/Frameworks/R.framework/Versions/4.5-x86_64/Resources/lib/libquadmath.0.dylib" "FLAMES.buildbin-libdir/FLAMES/libs/FLAMES.so"
>>>>>>> Paths after fix:
FLAMES.buildbin-libdir/FLAMES/libs/FLAMES.so:
FLAMES.so (compatibility version 0.0.0, current version 0.0.0)
/usr/lib/libz.1.dylib (compatibility version 1.0.0, current version 1.2.11)
/usr/lib/libcurl.4.dylib (compatibility version 7.0.0, current version 9.0.0)
/usr/lib/libbz2.1.0.dylib (compatibility version 1.0.0, current version 1.0.5)
/Library/Frameworks/R.framework/Versions/4.5-x86_64/Resources/lib/libR.dylib (compatibility version 4.5.0, current version 4.5.1)
/usr/lib/libc++.1.dylib (compatibility version 1.0.0, current version 905.6.0)
/usr/lib/libSystem.B.dylib (compatibility version 1.0.0, current version 1292.100.5)