| Back to Multiple platform build/check report for BioC 3.22: simplified long |
|
This page was generated on 2025-07-28 12:13 -0400 (Mon, 28 Jul 2025).
| Hostname | OS | Arch (*) | R version | Installed pkgs |
|---|---|---|---|---|
| nebbiolo2 | Linux (Ubuntu 24.04.2 LTS) | x86_64 | 4.5.1 (2025-06-13) -- "Great Square Root" | 4796 |
| palomino8 | Windows Server 2022 Datacenter | x64 | 4.5.1 (2025-06-13 ucrt) -- "Great Square Root" | 4536 |
| lconway | macOS 12.7.1 Monterey | x86_64 | 4.5.1 (2025-06-13) -- "Great Square Root" | 4578 |
| kjohnson3 | macOS 13.7.1 Ventura | arm64 | 4.5.1 Patched (2025-06-14 r88325) -- "Great Square Root" | 4519 |
| taishan | Linux (openEuler 24.03 LTS) | aarch64 | 4.5.0 (2025-04-11) -- "How About a Twenty-Six" | 4512 |
| Click on any hostname to see more info about the system (e.g. compilers) (*) as reported by 'uname -p', except on Windows and Mac OS X | ||||
| Package 715/2313 | Hostname | OS / Arch | INSTALL | BUILD | CHECK | BUILD BIN | ||||||||
| FELLA 1.29.0 (landing page) Sergio Picart-Armada
| nebbiolo2 | Linux (Ubuntu 24.04.2 LTS) / x86_64 | OK | ERROR | skipped | |||||||||
| palomino8 | Windows Server 2022 Datacenter / x64 | OK | ERROR | skipped | skipped | |||||||||
| lconway | macOS 12.7.1 Monterey / x86_64 | OK | ERROR | skipped | skipped | |||||||||
| kjohnson3 | macOS 13.7.1 Ventura / arm64 | OK | ERROR | skipped | skipped | |||||||||
| taishan | Linux (openEuler 24.03 LTS) / aarch64 | OK | OK | ERROR | ||||||||||
|
To the developers/maintainers of the FELLA package: - Allow up to 24 hours (and sometimes 48 hours) for your latest push to git@git.bioconductor.org:packages/FELLA.git to reflect on this report. See Troubleshooting Build Report for more information. - Use the following Renviron settings to reproduce errors and warnings. - If 'R CMD check' started to fail recently on the Linux builder(s) over a missing dependency, add the missing dependency to 'Suggests:' in your DESCRIPTION file. See Renviron.bioc for more information. - See Martin Grigorov's blog post for how to debug Linux ARM64 related issues on a x86_64 host. |
| Package: FELLA |
| Version: 1.29.0 |
| Command: /home/biocbuild/R/R/bin/R CMD check --install=check:FELLA.install-out.txt --library=/home/biocbuild/R/R/site-library --no-vignettes --timings FELLA_1.29.0.tar.gz |
| StartedAt: 2025-07-25 08:36:27 -0000 (Fri, 25 Jul 2025) |
| EndedAt: 2025-07-25 08:39:35 -0000 (Fri, 25 Jul 2025) |
| EllapsedTime: 188.1 seconds |
| RetCode: 1 |
| Status: ERROR |
| CheckDir: FELLA.Rcheck |
| Warnings: NA |
##############################################################################
##############################################################################
###
### Running command:
###
### /home/biocbuild/R/R/bin/R CMD check --install=check:FELLA.install-out.txt --library=/home/biocbuild/R/R/site-library --no-vignettes --timings FELLA_1.29.0.tar.gz
###
##############################################################################
##############################################################################
* using log directory ‘/home/biocbuild/bbs-3.22-bioc/meat/FELLA.Rcheck’
* using R version 4.5.0 (2025-04-11)
* using platform: aarch64-unknown-linux-gnu
* R was compiled by
aarch64-unknown-linux-gnu-gcc (GCC) 14.2.0
GNU Fortran (GCC) 14.2.0
* running under: openEuler 24.03 (LTS)
* using session charset: UTF-8
* using option ‘--no-vignettes’
* checking for file ‘FELLA/DESCRIPTION’ ... OK
* checking extension type ... Package
* this is package ‘FELLA’ version ‘1.29.0’
* package encoding: UTF-8
* checking package namespace information ... OK
* checking package dependencies ... OK
* checking if this is a source package ... OK
* checking if there is a namespace ... OK
* checking for hidden files and directories ... OK
* checking for portable file names ... OK
* checking for sufficient/correct file permissions ... OK
* checking whether package ‘FELLA’ can be installed ... OK
* checking installed package size ... OK
* checking package directory ... OK
* checking ‘build’ directory ... OK
* checking DESCRIPTION meta-information ... OK
* checking top-level files ... OK
* checking for left-over files ... OK
* checking index information ... OK
* checking package subdirectories ... OK
* checking code files for non-ASCII characters ... OK
* checking R files for syntax errors ... OK
* checking whether the package can be loaded ... OK
* checking whether the package can be loaded with stated dependencies ... OK
* checking whether the package can be unloaded cleanly ... OK
* checking whether the namespace can be loaded with stated dependencies ... OK
* checking whether the namespace can be unloaded cleanly ... OK
* checking loading without being on the library search path ... OK
* checking dependencies in R code ... OK
* checking S3 generic/method consistency ... OK
* checking replacement functions ... OK
* checking foreign function calls ... OK
* checking R code for possible problems ... NOTE
buildGraphFromKEGGREST: no visible global function definition for
‘capture.output’
Undefined global functions or variables:
capture.output
Consider adding
importFrom("utils", "capture.output")
to your NAMESPACE file.
* checking Rd files ... OK
* checking Rd metadata ... OK
* checking Rd cross-references ... OK
* checking for missing documentation entries ... OK
* checking for code/documentation mismatches ... OK
* checking Rd \usage sections ... NOTE
Documented arguments not in \usage in Rd file 'dot-params.Rd':
‘databaseDir’ ‘internalDir’ ‘object’ ‘data’ ‘type’ ‘level’ ‘method’
‘methods’ ‘approx’ ‘loadMatrix’ ‘threshold’
‘thresholdConnectedComponent’ ‘plimit’ ‘nlimit’ ‘niter’ ‘layout’
‘graph’ ‘GOterm’ ‘GONamesAsLabels’ ‘LabelLengthAtPlot’
‘godata.options’ ‘mart.options’ ‘p.adjust’ ‘dampingFactor’ ‘t.df’
‘compounds’ ‘compoundsBackground’ ‘NamesAsLabels’ ‘capPscores’
Documented arguments not in \usage in Rd file 'infere.con2ec.Rd':
‘gene2enyzme’
Functions with \usage entries need to have the appropriate \alias
entries, and all their arguments documented.
The \usage entries must correspond to syntactically valid R code.
See chapter ‘Writing R documentation files’ in the ‘Writing R
Extensions’ manual.
* checking Rd contents ... OK
* checking for unstated dependencies in examples ... OK
* checking contents of ‘data’ directory ... OK
* checking data for non-ASCII characters ... OK
* checking data for ASCII and uncompressed saves ... OK
* checking files in ‘vignettes’ ... OK
* checking examples ... OK
Examples with CPU (user + system) or elapsed time > 5s
user system elapsed
data-funs 8.973 0.422 9.423
* checking for unstated dependencies in ‘tests’ ... OK
* checking tests ...
Running ‘testthat.R’
ERROR
Running the tests in ‘tests/testthat.R’ failed.
Last 13 lines of output:
11. │ ├─httr:::request_fetch(req$output, req$url, handle)
12. │ └─httr:::request_fetch.write_memory(req$output, req$url, handle)
13. │ └─curl::curl_fetch_memory(url, handle = handle)
14. └─curl:::raise_libcurl_error(...)
── Error ('test-databaseCreation.R:31:5'): The graph can be parsed from KEGGREST ──
Error in `eval(code, test_env)`: object 'g.full' not found
Backtrace:
▆
1. └─testthat::expect_is(g.full, "igraph") at test-databaseCreation.R:31:5
2. └─testthat::quasi_label(enquo(object), label, arg = "object")
3. └─rlang::eval_bare(expr, quo_get_env(quo))
[ FAIL 2 | WARN 9 | SKIP 0 | PASS 166 ]
Error: Test failures
Execution halted
* checking for unstated dependencies in vignettes ... OK
* checking package vignettes ... OK
* checking running R code from vignettes ... SKIPPED
* checking re-building of vignette outputs ... SKIPPED
* checking PDF version of manual ... OK
* DONE
Status: 1 ERROR, 2 NOTEs
See
‘/home/biocbuild/bbs-3.22-bioc/meat/FELLA.Rcheck/00check.log’
for details.
FELLA.Rcheck/00install.out
############################################################################## ############################################################################## ### ### Running command: ### ### /home/biocbuild/R/R/bin/R CMD INSTALL FELLA ### ############################################################################## ############################################################################## * installing to library ‘/home/biocbuild/R/R-4.5.0/site-library’ * installing *source* package ‘FELLA’ ... ** this is package ‘FELLA’ version ‘1.29.0’ ** using staged installation ** R ** data ** inst ** byte-compile and prepare package for lazy loading ** help *** installing help indices ** building package indices ** installing vignettes ** testing if installed package can be loaded from temporary location ** testing if installed package can be loaded from final location ** testing if installed package keeps a record of temporary installation path * DONE (FELLA)
FELLA.Rcheck/tests/testthat.Rout.fail
R version 4.5.0 (2025-04-11) -- "How About a Twenty-Six"
Copyright (C) 2025 The R Foundation for Statistical Computing
Platform: aarch64-unknown-linux-gnu
R is free software and comes with ABSOLUTELY NO WARRANTY.
You are welcome to redistribute it under certain conditions.
Type 'license()' or 'licence()' for distribution details.
R is a collaborative project with many contributors.
Type 'contributors()' for more information and
'citation()' on how to cite R or R packages in publications.
Type 'demo()' for some demos, 'help()' for on-line help, or
'help.start()' for an HTML browser interface to help.
Type 'q()' to quit R.
> library(testthat)
> library(FELLA)
>
> test_check("FELLA")
|
| | 0%
|
|======= | 10%
|
|============== | 20%
|
|===================== | 30%
|
|============================ | 40%
|
|=================================== | 50%
|
|========================================== | 60%
|
|================================================= | 70%
|
|======================================================== | 80%
|
|=============================================================== | 90%
|
|======================================================================| 100%
|
| | 0%
|
|======= | 10%
|
|============== | 20%
|
|===================== | 30%
|
|============================ | 40%
|
|=================================== | 50%
|
|========================================== | 60%
|
|================================================= | 70%
|
|======================================================== | 80%
|
|=============================================================== | 90%
|
|======================================================================| 100%
[ FAIL 2 | WARN 9 | SKIP 0 | PASS 166 ]
══ Failed tests ════════════════════════════════════════════════════════════════
── Failure ('test-databaseCreation.R:27:5'): The graph can be parsed from KEGGREST ──
`{ ... }` threw an error.
Message: Timeout was reached [rest.kegg.jp]:
Connection timed out after 10002 milliseconds
Class: curl_error_operation_timedout/curl_error/error/condition
Backtrace:
▆
1. ├─testthat::expect_error(...) at test-databaseCreation.R:27:5
2. │ └─testthat:::quasi_capture(...)
3. │ ├─testthat (local) .capture(...)
4. │ │ └─base::withCallingHandlers(...)
5. │ └─rlang::eval_bare(quo_get_expr(.quo), quo_get_env(.quo))
6. ├─FELLA::buildGraphFromKEGGREST(organism = "gla") at test-databaseCreation.R:28:9
7. │ └─KEGGREST::keggInfo(organism)
8. │ └─KEGGREST:::.getUrl(url, .textParser)
9. │ └─httr::GET(url)
10. │ └─httr:::request_perform(req, hu$handle$handle)
11. │ ├─httr:::request_fetch(req$output, req$url, handle)
12. │ └─httr:::request_fetch.write_memory(req$output, req$url, handle)
13. │ └─curl::curl_fetch_memory(url, handle = handle)
14. └─curl:::raise_libcurl_error(...)
── Error ('test-databaseCreation.R:31:5'): The graph can be parsed from KEGGREST ──
Error in `eval(code, test_env)`: object 'g.full' not found
Backtrace:
▆
1. └─testthat::expect_is(g.full, "igraph") at test-databaseCreation.R:31:5
2. └─testthat::quasi_label(enquo(object), label, arg = "object")
3. └─rlang::eval_bare(expr, quo_get_env(quo))
[ FAIL 2 | WARN 9 | SKIP 0 | PASS 166 ]
Error: Test failures
Execution halted
FELLA.Rcheck/FELLA-Ex.timings
| name | user | system | elapsed | |
| FELLA | 0.308 | 0.023 | 0.364 | |
| FELLA.sample | 0.012 | 0.000 | 0.012 | |
| checkArguments | 0.002 | 0.000 | 0.003 | |
| data-funs | 8.973 | 0.422 | 9.423 | |
| enrich-funs | 4.353 | 0.104 | 4.472 | |
| export-funs | 0.294 | 0.020 | 0.315 | |
| getBackground | 0.479 | 0.020 | 0.500 | |
| getCom | 0.007 | 0.004 | 0.011 | |
| getExcluded | 0.009 | 0.004 | 0.013 | |
| getGraph | 0.011 | 0.000 | 0.010 | |
| getInfo | 0.006 | 0.004 | 0.011 | |
| getInput | 0.013 | 0.000 | 0.013 | |
| getMatrix | 0.021 | 0.000 | 0.020 | |
| getName | 0.010 | 0.000 | 0.011 | |
| getPscores | 0.058 | 0.000 | 0.059 | |
| getPvaluesSize | 0.026 | 0.000 | 0.026 | |
| getStatus | 0.008 | 0.003 | 0.011 | |
| getSums | 0.349 | 0.004 | 0.354 | |
| getValid | 0.053 | 0.000 | 0.053 | |
| infere.con2ec | 0.002 | 0.000 | 0.002 | |
| input.sample | 0.001 | 0.000 | 0.001 | |
| is.FELLA.DATA | 0.011 | 0.000 | 0.011 | |
| is.FELLA.USER | 0.051 | 0.000 | 0.051 | |
| largestcc | 0.092 | 0.000 | 0.092 | |
| launchApp | 0 | 0 | 0 | |
| listApprox | 0 | 0 | 0 | |
| listCategories | 0.001 | 0.000 | 0.000 | |
| listInternalDatabases | 0.001 | 0.000 | 0.002 | |
| listMethods | 0 | 0 | 0 | |
| mytriangle | 0.058 | 0.000 | 0.057 | |
| plotBipartite | 0.091 | 0.000 | 0.091 | |
| plotLegend | 0.038 | 0.000 | 0.038 | |
| sanitise | 0.001 | 0.000 | 0.001 | |