| Back to Multiple platform build/check report for BioC 3.22: simplified long |
|
This page was generated on 2025-10-24 12:04 -0400 (Fri, 24 Oct 2025).
| Hostname | OS | Arch (*) | R version | Installed pkgs |
|---|---|---|---|---|
| nebbiolo2 | Linux (Ubuntu 24.04.3 LTS) | x86_64 | 4.5.1 Patched (2025-08-23 r88802) -- "Great Square Root" | 4898 |
| lconway | macOS 12.7.6 Monterey | x86_64 | 4.5.1 Patched (2025-09-10 r88807) -- "Great Square Root" | 4688 |
| kjohnson3 | macOS 13.7.7 Ventura | arm64 | 4.5.1 Patched (2025-09-10 r88807) -- "Great Square Root" | 4634 |
| taishan | Linux (openEuler 24.03 LTS) | aarch64 | 4.5.0 (2025-04-11) -- "How About a Twenty-Six" | 4658 |
| Click on any hostname to see more info about the system (e.g. compilers) (*) as reported by 'uname -p', except on Windows and Mac OS X | ||||
| Package 615/2359 | Hostname | OS / Arch | INSTALL | BUILD | CHECK | BUILD BIN | ||||||||
| DNEA 0.99.14 (landing page) Christopher Patsalis
| nebbiolo2 | Linux (Ubuntu 24.04.3 LTS) / x86_64 | OK | OK | OK | |||||||||
| lconway | macOS 12.7.6 Monterey / x86_64 | OK | OK | OK | OK | |||||||||
| kjohnson3 | macOS 13.7.7 Ventura / arm64 | OK | OK | OK | OK | |||||||||
| taishan | Linux (openEuler 24.03 LTS) / aarch64 | OK | OK | NA | ||||||||||
|
To the developers/maintainers of the DNEA package: - Allow up to 24 hours (and sometimes 48 hours) for your latest push to git@git.bioconductor.org:packages/DNEA.git to reflect on this report. See Troubleshooting Build Report for more information. - Use the following Renviron settings to reproduce errors and warnings. - If 'R CMD check' started to fail recently on the Linux builder(s) over a missing dependency, add the missing dependency to 'Suggests:' in your DESCRIPTION file. See Renviron.bioc for more information. |
| Package: DNEA |
| Version: 0.99.14 |
| Command: /Library/Frameworks/R.framework/Resources/bin/R CMD check --install=check:DNEA.install-out.txt --library=/Library/Frameworks/R.framework/Resources/library --no-vignettes --timings DNEA_0.99.14.tar.gz |
| StartedAt: 2025-10-23 20:47:23 -0400 (Thu, 23 Oct 2025) |
| EndedAt: 2025-10-23 20:56:35 -0400 (Thu, 23 Oct 2025) |
| EllapsedTime: 552.6 seconds |
| RetCode: 0 |
| Status: OK |
| CheckDir: DNEA.Rcheck |
| Warnings: 0 |
##############################################################################
##############################################################################
###
### Running command:
###
### /Library/Frameworks/R.framework/Resources/bin/R CMD check --install=check:DNEA.install-out.txt --library=/Library/Frameworks/R.framework/Resources/library --no-vignettes --timings DNEA_0.99.14.tar.gz
###
##############################################################################
##############################################################################
* using log directory ‘/Users/biocbuild/bbs-3.22-bioc/meat/DNEA.Rcheck’
* using R version 4.5.1 Patched (2025-09-10 r88807)
* using platform: x86_64-apple-darwin20
* R was compiled by
Apple clang version 14.0.0 (clang-1400.0.29.202)
GNU Fortran (GCC) 14.2.0
* running under: macOS Monterey 12.7.6
* using session charset: UTF-8
* using option ‘--no-vignettes’
* checking for file ‘DNEA/DESCRIPTION’ ... OK
* this is package ‘DNEA’ version ‘0.99.14’
* package encoding: UTF-8
* checking package namespace information ... OK
* checking package dependencies ... INFO
Package which this enhances but not available for checking: ‘massdataset’
* checking if this is a source package ... OK
* checking if there is a namespace ... OK
* checking for hidden files and directories ... OK
* checking for portable file names ... OK
* checking for sufficient/correct file permissions ... OK
* checking whether package ‘DNEA’ can be installed ... OK
* checking installed package size ... OK
* checking package directory ... OK
* checking ‘build’ directory ... OK
* checking DESCRIPTION meta-information ... OK
* checking top-level files ... OK
* checking for left-over files ... OK
* checking index information ... OK
* checking package subdirectories ... NOTE
Problems with news in ‘NEWS.md’:
Cannot extract version info from the following section titles:
DNEA v.0.99.12
* checking code files for non-ASCII characters ... OK
* checking R files for syntax errors ... OK
* checking whether the package can be loaded ... OK
* checking whether the package can be loaded with stated dependencies ... OK
* checking whether the package can be unloaded cleanly ... OK
* checking whether the namespace can be loaded with stated dependencies ... OK
* checking whether the namespace can be unloaded cleanly ... OK
* checking dependencies in R code ... OK
* checking S3 generic/method consistency ... OK
* checking replacement functions ... OK
* checking foreign function calls ... OK
* checking R code for possible problems ... OK
* checking Rd files ... OK
* checking Rd metadata ... OK
* checking Rd cross-references ... NOTE
Found the following Rd file(s) with Rd \link{} targets missing package
anchors:
BICtune-methods.Rd: BiocParallel
adjacencyGraph-methods.Rd: igraph
clusterNet.Rd: igraph
consensusClusteringResults-class.Rd: igraph
getNetworks.Rd: BiocParallel
Please provide package anchors for all Rd \link{} targets not in the
package itself and the base packages.
* checking for missing documentation entries ... OK
* checking for code/documentation mismatches ... OK
* checking Rd \usage sections ... OK
* checking Rd contents ... OK
* checking for unstated dependencies in examples ... OK
* checking contents of ‘data’ directory ... OK
* checking data for non-ASCII characters ... OK
* checking data for ASCII and uncompressed saves ... OK
* checking files in ‘vignettes’ ... OK
* checking examples ... OK
Examples with CPU (user + system) or elapsed time > 5s
user system elapsed
stabilitySelection 24.200 6.130 10.289
BICtune-methods 23.326 3.583 11.778
* checking for unstated dependencies in ‘tests’ ... OK
* checking tests ...
Running ‘testthat.R’
OK
* checking for unstated dependencies in vignettes ... OK
* checking package vignettes ... OK
* checking running R code from vignettes ... SKIPPED
* checking re-building of vignette outputs ... SKIPPED
* checking PDF version of manual ... OK
* DONE
Status: 2 NOTEs
See
‘/Users/biocbuild/bbs-3.22-bioc/meat/DNEA.Rcheck/00check.log’
for details.
DNEA.Rcheck/00install.out
############################################################################## ############################################################################## ### ### Running command: ### ### /Library/Frameworks/R.framework/Resources/bin/R CMD INSTALL DNEA ### ############################################################################## ############################################################################## * installing to library ‘/Library/Frameworks/R.framework/Versions/4.5-x86_64/Resources/library’ * installing *source* package ‘DNEA’ ... ** this is package ‘DNEA’ version ‘0.99.14’ ** using staged installation ** R ** data ** inst ** byte-compile and prepare package for lazy loading ** help *** installing help indices ** building package indices ** installing vignettes ** testing if installed package can be loaded from temporary location ** testing if installed package can be loaded from final location ** testing if installed package keeps a record of temporary installation path * DONE (DNEA)
DNEA.Rcheck/tests/testthat.Rout
R version 4.5.1 Patched (2025-09-10 r88807) -- "Great Square Root"
Copyright (C) 2025 The R Foundation for Statistical Computing
Platform: x86_64-apple-darwin20
R is free software and comes with ABSOLUTELY NO WARRANTY.
You are welcome to redistribute it under certain conditions.
Type 'license()' or 'licence()' for distribution details.
R is a collaborative project with many contributors.
Type 'contributors()' for more information and
'citation()' on how to cite R or R packages in publications.
Type 'demo()' for some demos, 'help()' for on-line help, or
'help.start()' for an HTML browser interface to help.
Type 'q()' to quit R.
> # This file is part of the standard setup for testthat.
> # It is recommended that you do not modify it.
> #
> # Where should you do additional test configuration?
> # Learn more about the roles of various files in:
> # * https://r-pkgs.org/testing-design.html#sec-tests-files-overview
> # * https://testthat.r-lib.org/articles/special-files.html
>
> library(testthat)
> library(DNEA)
>
> test_check("DNEA")
Optimizing the lambda hyperparameter using Bayesian-Information Criterion outlined in Guo et al. (2011)
A Link to this reference can be found in the function documentation by running ?BICtune() in the console.
The log_scaled_data expression data will be used for analysis.
Provided lambda values will be used for optimization...
Optimizing the lambda hyperparameter using Bayesian-Information Criterion outlined in Guo et al. (2011)
A Link to this reference can be found in the function documentation by running ?BICtune() in the console.
The log_scaled_data expression data will be used for analysis.
Provided lambda values will be used for optimization...
The raw peak intensity data was used for aggregation
The aggregated log-scaled data is in the @assay slot
(The orginal DNEA object can be found in the @original_experiment slot)
Data has been normalized for further analysis. New data can be found in the log_scaled_data assay!
Data diagnostics was performed on log_scaled_data assay. To check a different assay, please specify the assay parameter.
Diagnostic criteria are as follows:
DNEAinputSummary
Number of Samples - 322
Number of Features - 83
min_eigen condition_num
all_data 9.870990e-02 7.028033e+01
DM:control 8.577548e-02 8.229973e+01
DM:case -2.833480e-15 2.560226e+18
The log_scaled_data expression data will be used for analysis.
The log_scaled_data expression data will be used for analysis.
The log_scaled_data expression data will be used for analysis.
The log_scaled_data expression data will be used for analysis.
Optimizing the lambda hyperparameter using Bayesian-Information Criterion outlined in Guo et al. (2011)
A Link to this reference can be found in the function documentation by running ?BICtune() in the console
NOTE: if your dataset contains fewer than ~500 samples per experimental condition, consider setting "aprox=TRUE". This will provide more reliable results
TUNING LAMBDA FOR DM:control!:
--------------------------------------------------
Estimating optimal c constant range for asymptotic lambda...
Fine-tuning Lambda...
The optimal Lambda hyper-parameter has been set to: 0.0199548849358947!
TUNING LAMBDA FOR DM:case!:
--------------------------------------------------
Estimating optimal c constant range for asymptotic lambda...
Fine-tuning Lambda...
The optimal Lambda hyper-parameter has been set to: 0.0495095483188967!
selection_probabilites from stability selection will be used in glasso model!
Estimating model for DM:control...using 0.0199548849358947 for lambda...
model estimated!
Estimating model for DM:case...using 0.0495095483188967 for lambda...
model estimated!
DM:control network specific edges: 463
DM:case network specific edges: 423
-----------------------------------
Number of edges shared by both networks: 434
Total number of edges in dataset: 1320
The log_scaled_data expression data will be used for analysis.
Optimizing the lambda hyperparameter using Bayesian-Information Criterion outlined in Guo et al. (2011)
A Link to this reference can be found in the function documentation by running ?BICtune() in the console
NOTE: if your dataset contains fewer than ~500 samples per experimental condition, consider setting "aprox=TRUE". This will provide more reliable results
TUNING LAMBDA FOR DM:control!:
--------------------------------------------------
Estimating optimal c constant range for asymptotic lambda...
Fine-tuning Lambda...
The optimal Lambda hyper-parameter has been set to: 0.0199548849358947!
TUNING LAMBDA FOR DM:case!:
--------------------------------------------------
Estimating optimal c constant range for asymptotic lambda...
Fine-tuning Lambda...
The optimal Lambda hyper-parameter has been set to: 0.0495095483188967!
selection_probabilites from stability selection will be used in glasso model!
Estimating model for DM:control...using 0.0199548849358947 for lambda...
model estimated!
Estimating model for DM:case...using 0.0495095483188967 for lambda...
model estimated!
DM:control network specific edges: 463
DM:case network specific edges: 423
-----------------------------------
Number of edges shared by both networks: 434
Total number of edges in dataset: 1320
The log_input_data expression data will be used for analysis.
The log_input_data expression data will be used for analysis.
Vectors to compare are not the same length!
Vectors to compare are not the same length!
DM:control network specific edges: 11
DM:case network specific edges: 7
-----------------------------------
Number of edges shared by both networks: 10
Total number of edges in dataset: 28
DM:control network specific edges: 11
DM:case network specific edges: 7
-----------------------------------
Number of edges shared by both networks: 10
Total number of edges in dataset: 28
[ FAIL 0 | WARN 1 | SKIP 0 | PASS 53 ]
[ FAIL 0 | WARN 1 | SKIP 0 | PASS 53 ]
>
> proc.time()
user system elapsed
582.813 37.363 269.707
DNEA.Rcheck/DNEA-Ex.timings
| name | user | system | elapsed | |
| BICscores-methods | 0.205 | 0.033 | 0.240 | |
| BICtune-methods | 23.326 | 3.583 | 11.778 | |
| CCsummary-methods | 0.200 | 0.015 | 0.216 | |
| DNEA-class | 0.794 | 0.048 | 0.844 | |
| DNEAinputSummary-class | 0.805 | 0.040 | 0.848 | |
| addExpressionData | 0.823 | 0.031 | 0.857 | |
| adjacencyGraph-methods | 0.211 | 0.008 | 0.220 | |
| adjacencyMatrix-methods | 0.276 | 0.192 | 0.475 | |
| aggregateFeatures | 2.017 | 0.049 | 2.071 | |
| clusterNet | 3.500 | 0.075 | 3.588 | |
| collapsed_DNEA-class | 2.030 | 0.031 | 2.068 | |
| createDNEAobject | 0.755 | 0.013 | 0.772 | |
| datasetSummary-methods | 0.724 | 0.009 | 0.734 | |
| diagnostics-methods | 0.797 | 0.016 | 0.817 | |
| edgeList-methods | 0.229 | 0.009 | 0.239 | |
| expressionData-methods | 1.116 | 1.023 | 2.158 | |
| featureNames-methods | 0.754 | 0.014 | 0.772 | |
| filterNetworks-methods | 0.228 | 0.009 | 0.237 | |
| getNetworkFiles | 0.209 | 0.007 | 0.218 | |
| getNetworks | 0.430 | 0.012 | 0.444 | |
| includeMetadata | 0.773 | 0.016 | 0.792 | |
| lambdas2Test-methods | 0.795 | 0.014 | 0.812 | |
| massDataset2DNEA | 0.053 | 0.007 | 0.060 | |
| metaData-methods | 0.796 | 0.018 | 0.818 | |
| netGSAresults-methods | 0.209 | 0.008 | 0.218 | |
| networkGroupIDs-methods | 0.843 | 0.016 | 0.862 | |
| networkGroups-methods | 0.764 | 0.009 | 0.775 | |
| nodeList-methods | 0.803 | 0.017 | 0.823 | |
| numFeatures-methods | 0.793 | 0.009 | 0.803 | |
| numSamples-methods | 0.800 | 0.007 | 0.810 | |
| optimizedLambda-methods | 0.822 | 0.012 | 0.835 | |
| plotNetworks | 0.321 | 0.012 | 0.349 | |
| projectName-methods | 0.800 | 0.011 | 0.812 | |
| runNetGSA | 2.675 | 0.266 | 2.954 | |
| sampleNames-methods | 0.883 | 0.046 | 0.931 | |
| selectionProbabilities-methods | 0.332 | 0.256 | 0.592 | |
| selectionResults-methods | 0.284 | 0.179 | 0.464 | |
| stabilitySelection | 24.200 | 6.130 | 10.289 | |
| subnetworkMembership-methods | 0.255 | 0.044 | 0.302 | |
| sumExp2DNEA | 2.518 | 0.151 | 2.689 | |