| Back to Multiple platform build/check report for BioC 3.22: simplified long |
|
This page was generated on 2025-10-25 12:04 -0400 (Sat, 25 Oct 2025).
| Hostname | OS | Arch (*) | R version | Installed pkgs |
|---|---|---|---|---|
| nebbiolo2 | Linux (Ubuntu 24.04.3 LTS) | x86_64 | 4.5.1 Patched (2025-08-23 r88802) -- "Great Square Root" | 4901 |
| lconway | macOS 12.7.6 Monterey | x86_64 | 4.5.1 Patched (2025-09-10 r88807) -- "Great Square Root" | 4691 |
| kjohnson3 | macOS 13.7.7 Ventura | arm64 | 4.5.1 Patched (2025-09-10 r88807) -- "Great Square Root" | 4637 |
| taishan | Linux (openEuler 24.03 LTS) | aarch64 | 4.5.0 (2025-04-11) -- "How About a Twenty-Six" | 4658 |
| Click on any hostname to see more info about the system (e.g. compilers) (*) as reported by 'uname -p', except on Windows and Mac OS X | ||||
| Package 337/2361 | Hostname | OS / Arch | INSTALL | BUILD | CHECK | BUILD BIN | ||||||||
| ChemmineOB 1.47.5 (landing page) Thomas Girke
| nebbiolo2 | Linux (Ubuntu 24.04.3 LTS) / x86_64 | OK | OK | WARNINGS | |||||||||
| lconway | macOS 12.7.6 Monterey / x86_64 | OK | OK | WARNINGS | OK | |||||||||
| kjohnson3 | macOS 13.7.7 Ventura / arm64 | ERROR | ERROR | skipped | skipped | |||||||||
| taishan | Linux (openEuler 24.03 LTS) / aarch64 | ERROR | NA | NA | ||||||||||
|
To the developers/maintainers of the ChemmineOB package: - Allow up to 24 hours (and sometimes 48 hours) for your latest push to git@git.bioconductor.org:packages/ChemmineOB.git to reflect on this report. See Troubleshooting Build Report for more information. - Use the following Renviron settings to reproduce errors and warnings. - If 'R CMD check' started to fail recently on the Linux builder(s) over a missing dependency, add the missing dependency to 'Suggests:' in your DESCRIPTION file. See Renviron.bioc for more information. |
| Package: ChemmineOB |
| Version: 1.47.5 |
| Command: /Library/Frameworks/R.framework/Resources/bin/R CMD INSTALL ChemmineOB |
| StartedAt: 2025-10-24 15:21:46 -0400 (Fri, 24 Oct 2025) |
| EndedAt: 2025-10-24 15:23:53 -0400 (Fri, 24 Oct 2025) |
| EllapsedTime: 127.0 seconds |
| RetCode: 0 |
| Status: OK |
##############################################################################
##############################################################################
###
### Running command:
###
### /Library/Frameworks/R.framework/Resources/bin/R CMD INSTALL ChemmineOB
###
##############################################################################
##############################################################################
* installing to library ‘/Library/Frameworks/R.framework/Versions/4.5-x86_64/Resources/library’
* installing *source* package ‘ChemmineOB’ ...
** this is package ‘ChemmineOB’ version ‘1.47.5’
** using staged installation
checking for pkg-config... /usr/local/bin/pkg-config
checking pkg-config is at least version 0.9.0... yes
checking for OPENBABEL... no
checking for OPENBABEL... no
checking for gcc... clang -arch x86_64
checking whether the C compiler works... yes
checking for C compiler default output file name... a.out
checking for suffix of executables...
checking whether we are cross compiling... no
checking for suffix of object files... o
checking whether we are using the GNU C compiler... yes
checking whether clang -arch x86_64 accepts -g... yes
checking for clang -arch x86_64 option to accept ISO C89... none needed
checking how to run the C preprocessor... clang -arch x86_64 -E
configure: creating ./config.status
config.status: creating src/Makevars
** libs
using C++ compiler: ‘Apple clang version 14.0.0 (clang-1400.0.29.202)’
using SDK: ‘MacOSX11.3.1.sdk’
clang++ -arch x86_64 -std=gnu++17 -I"/Library/Frameworks/R.framework/Resources/include" -DNDEBUG -I/usr/include/openbabel3 -I/usr/include/eigen3 -DUSE_BOOST -DHAVE_EIGEN -D_LIBCPP_ENABLE_CXX17_REMOVED_UNARY_BINARY_FUNCTION -I/usr/local/include/eigen3 -I/usr/local/include/openbabel3 -I'/Library/Frameworks/R.framework/Versions/4.5-x86_64/Resources/library/BH/include' -I'/Library/Frameworks/R.framework/Versions/4.5-x86_64/Resources/library/Rcpp/include' -I/opt/R/x86_64/include -fPIC -falign-functions=64 -Wall -g -O2 -c ChemmineOB.cpp -o ChemmineOB.o
In file included from ChemmineOB.cpp:1576:
/usr/local/include/openbabel3/openbabel/griddata.h:74:12: warning: 'OpenBabel::OBGridData::GetValue' hides overloaded virtual function [-Woverloaded-virtual]
double GetValue(int i, int j, int k) const;
^
/usr/local/include/openbabel3/openbabel/base.h:228:32: note: hidden overloaded virtual function 'OpenBabel::OBGenericData::GetValue' declared here: different number of parameters (0 vs 3)
virtual const std::string &GetValue() const
^
In file included from ChemmineOB.cpp:1576:
/usr/local/include/openbabel3/openbabel/griddata.h:76:12: warning: 'OpenBabel::OBGridData::GetValue' hides overloaded virtual function [-Woverloaded-virtual]
double GetValue (vector3 pos) const;
^
/usr/local/include/openbabel3/openbabel/base.h:228:32: note: hidden overloaded virtual function 'OpenBabel::OBGenericData::GetValue' declared here: different number of parameters (0 vs 1)
virtual const std::string &GetValue() const
^
In file included from ChemmineOB.cpp:1582:
/usr/local/include/openbabel3/openbabel/reaction.h:99:15: warning: 'OpenBabel::OBReaction::GetTitle' hides overloaded virtual function [-Woverloaded-virtual]
std::string GetTitle() const { return _title; }
^
/usr/local/include/openbabel3/openbabel/base.h:286:28: note: hidden overloaded virtual function 'OpenBabel::OBBase::GetTitle' declared here: different number of parameters (1 vs 0)
virtual const char *GetTitle(bool UNUSED(replaceNewlines) = true) const { return "";}
^
In file included from ChemmineOB.cpp:1582:
/usr/local/include/openbabel3/openbabel/reaction.h:101:8: warning: 'OpenBabel::OBReaction::SetTitle' hides overloaded virtual function [-Woverloaded-virtual]
void SetTitle(const std::string& title) { _title=title; }
^
/usr/local/include/openbabel3/openbabel/base.h:287:21: note: hidden overloaded virtual function 'OpenBabel::OBBase::SetTitle' declared here: type mismatch at 1st parameter ('const char *' vs 'const std::string &' (aka 'const basic_string<char, char_traits<char>, allocator<char>> &'))
virtual void SetTitle(const char *) {}
^
ChemmineOB.cpp:4160:7: warning: unused variable 'ecode' [-Wunused-variable]
int ecode = 0; arg1 = (std::ios_base::event) swigarg_arg1; arg2 = (std::ios_base *) &swigarg_arg2; arg3 = (int) swigarg_arg3;
^
5 warnings generated.
clang++ -arch x86_64 -std=gnu++17 -I"/Library/Frameworks/R.framework/Resources/include" -DNDEBUG -I/usr/include/openbabel3 -I/usr/include/eigen3 -DUSE_BOOST -DHAVE_EIGEN -D_LIBCPP_ENABLE_CXX17_REMOVED_UNARY_BINARY_FUNCTION -I/usr/local/include/eigen3 -I/usr/local/include/openbabel3 -I'/Library/Frameworks/R.framework/Versions/4.5-x86_64/Resources/library/BH/include' -I'/Library/Frameworks/R.framework/Versions/4.5-x86_64/Resources/library/Rcpp/include' -I/opt/R/x86_64/include -fPIC -falign-functions=64 -Wall -g -O2 -c canonical.cpp -o canonical.o
clang++ -arch x86_64 -std=gnu++17 -dynamiclib -Wl,-headerpad_max_install_names -undefined dynamic_lookup -L/Library/Frameworks/R.framework/Resources/lib -L/opt/R/x86_64/lib -o ChemmineOB.so ChemmineOB.o canonical.o -L/usr/local/lib/openbabel3 -lopenbabel -lz -F/Library/Frameworks/R.framework/.. -framework R
ld: warning: dylib (/usr/local/lib/openbabel3/libopenbabel.dylib) was built for newer macOS version (12.0) than being linked (11.0)
installing to /Library/Frameworks/R.framework/Versions/4.5-x86_64/Resources/library/00LOCK-ChemmineOB/00new/ChemmineOB/libs
** R
** inst
** byte-compile and prepare package for lazy loading
in method for ‘copyToR’ with signature ‘"_p_std::char_traits<(char)>"’: no definition for class “_p_std::char_traits<(char)>”
in method for ‘copyToR’ with signature ‘"_p_std::pair<(unsigned int,unsigned int)>"’: no definition for class “_p_std::pair<(unsigned int,unsigned int)>”
in method for ‘copyToR’ with signature ‘"_p_OpenBabel::CharPtrLess"’: no definition for class “_p_OpenBabel::CharPtrLess”
in method for ‘copyToR’ with signature ‘"_p_OpenBabel::FptIndexHeader"’: no definition for class “_p_OpenBabel::FptIndexHeader”
in method for ‘copyToR’ with signature ‘"_p_OpenBabel::OBStereo"’: no definition for class “_p_OpenBabel::OBStereo”
in method for ‘copyToR’ with signature ‘"_p_OpenBabel::OBStereoUnit"’: no definition for class “_p_OpenBabel::OBStereoUnit”
in method for ‘copyToR’ with signature ‘"_p_OpenBabel::LineSearchType"’: no definition for class “_p_OpenBabel::LineSearchType”
in method for ‘copyToR’ with signature ‘"_p_OpenBabel::OBTetrahedralConfig"’: no definition for class “_p_OpenBabel::OBTetrahedralConfig”
in method for ‘copyToR’ with signature ‘"_p_OpenBabel::OBCisTransConfig"’: no definition for class “_p_OpenBabel::OBCisTransConfig”
in method for ‘copyToR’ with signature ‘"_p_OpenBabel::OBSquarePlanarConfig"’: no definition for class “_p_OpenBabel::OBSquarePlanarConfig”
** help
*** installing help indices
** building package indices
** installing vignettes
** testing if installed package can be loaded from temporary location
** checking absolute paths in shared objects and dynamic libraries
** testing if installed package can be loaded from final location
** testing if installed package keeps a record of temporary installation path
* DONE (ChemmineOB)