| Back to Multiple platform build/check report for BioC 3.22: simplified long |
|
This page was generated on 2025-08-15 12:06 -0400 (Fri, 15 Aug 2025).
| Hostname | OS | Arch (*) | R version | Installed pkgs |
|---|---|---|---|---|
| nebbiolo2 | Linux (Ubuntu 24.04.3 LTS) | x86_64 | 4.5.1 (2025-06-13) -- "Great Square Root" | 4818 |
| palomino8 | Windows Server 2022 Datacenter | x64 | 4.5.1 (2025-06-13 ucrt) -- "Great Square Root" | 4554 |
| lconway | macOS 12.7.1 Monterey | x86_64 | 4.5.1 (2025-06-13) -- "Great Square Root" | 4595 |
| kjohnson3 | macOS 13.7.7 Ventura | arm64 | 4.5.1 Patched (2025-06-14 r88325) -- "Great Square Root" | 4537 |
| taishan | Linux (openEuler 24.03 LTS) | aarch64 | 4.5.0 (2025-04-11) -- "How About a Twenty-Six" | 4535 |
| Click on any hostname to see more info about the system (e.g. compilers) (*) as reported by 'uname -p', except on Windows and Mac OS X | ||||
| Package 301/2317 | Hostname | OS / Arch | INSTALL | BUILD | CHECK | BUILD BIN | ||||||||
| CelliD 1.17.0 (landing page) Akira Cortal
| nebbiolo2 | Linux (Ubuntu 24.04.3 LTS) / x86_64 | OK | OK | WARNINGS | |||||||||
| palomino8 | Windows Server 2022 Datacenter / x64 | OK | OK | WARNINGS | OK | |||||||||
| lconway | macOS 12.7.1 Monterey / x86_64 | OK | OK | WARNINGS | OK | |||||||||
| kjohnson3 | macOS 13.7.7 Ventura / arm64 | OK | OK | WARNINGS | OK | |||||||||
| taishan | Linux (openEuler 24.03 LTS) / aarch64 | OK | OK | WARNINGS | ||||||||||
|
To the developers/maintainers of the CelliD package: - Allow up to 24 hours (and sometimes 48 hours) for your latest push to git@git.bioconductor.org:packages/CelliD.git to reflect on this report. See Troubleshooting Build Report for more information. - Use the following Renviron settings to reproduce errors and warnings. - If 'R CMD check' started to fail recently on the Linux builder(s) over a missing dependency, add the missing dependency to 'Suggests:' in your DESCRIPTION file. See Renviron.bioc for more information. |
| Package: CelliD |
| Version: 1.17.0 |
| Command: rm -rf CelliD.buildbin-libdir && mkdir CelliD.buildbin-libdir && F:\biocbuild\bbs-3.22-bioc\R\bin\R.exe CMD INSTALL --build --library=CelliD.buildbin-libdir CelliD_1.17.0.tar.gz |
| StartedAt: 2025-08-15 09:55:17 -0400 (Fri, 15 Aug 2025) |
| EndedAt: 2025-08-15 09:56:48 -0400 (Fri, 15 Aug 2025) |
| EllapsedTime: 91.3 seconds |
| RetCode: 0 |
| Status: OK |
| PackageFile: CelliD_1.17.0.zip |
| PackageFileSize: 1.582 MiB |
##############################################################################
##############################################################################
###
### Running command:
###
### rm -rf CelliD.buildbin-libdir && mkdir CelliD.buildbin-libdir && F:\biocbuild\bbs-3.22-bioc\R\bin\R.exe CMD INSTALL --build --library=CelliD.buildbin-libdir CelliD_1.17.0.tar.gz
###
##############################################################################
##############################################################################
* installing *source* package 'CelliD' ...
** this is package 'CelliD' version '1.17.0'
** using staged installation
** libs
using C++ compiler: 'G__~1.EXE (GCC) 14.2.0'
using C++11
g++ -std=gnu++11 -I"F:/biocbuild/bbs-3.22-bioc/R/include" -DNDEBUG -I'F:/biocbuild/bbs-3.22-bioc/R/library/Rcpp/include' -I'F:/biocbuild/bbs-3.22-bioc/R/library/RcppArmadillo/include' -I"C:/rtools45/x86_64-w64-mingw32.static.posix/include" -fopenmp -O2 -Wall -mfpmath=sse -msse2 -mstackrealign -c RcppExports.cpp -o RcppExports.o
g++ -std=gnu++11 -I"F:/biocbuild/bbs-3.22-bioc/R/include" -DNDEBUG -I'F:/biocbuild/bbs-3.22-bioc/R/library/Rcpp/include' -I'F:/biocbuild/bbs-3.22-bioc/R/library/RcppArmadillo/include' -I"C:/rtools45/x86_64-w64-mingw32.static.posix/include" -fopenmp -O2 -Wall -mfpmath=sse -msse2 -mstackrealign -c dist.cpp -o dist.o
g++ -std=gnu++11 -I"F:/biocbuild/bbs-3.22-bioc/R/include" -DNDEBUG -I'F:/biocbuild/bbs-3.22-bioc/R/library/Rcpp/include' -I'F:/biocbuild/bbs-3.22-bioc/R/library/RcppArmadillo/include' -I"C:/rtools45/x86_64-w64-mingw32.static.posix/include" -fopenmp -O2 -Wall -mfpmath=sse -msse2 -mstackrealign -c mca.cpp -o mca.o
g++ -std=gnu++11 -I"F:/biocbuild/bbs-3.22-bioc/R/include" -DNDEBUG -I'F:/biocbuild/bbs-3.22-bioc/R/library/Rcpp/include' -I'F:/biocbuild/bbs-3.22-bioc/R/library/RcppArmadillo/include' -I"C:/rtools45/x86_64-w64-mingw32.static.posix/include" -fopenmp -O2 -Wall -mfpmath=sse -msse2 -mstackrealign -c order.cpp -o order.o
order.cpp: In function 'Rcpp::NumericMatrix fastOrder(Rcpp::NumericMatrix, Rcpp::NumericMatrix)':
order.cpp:21:22: warning: comparison of integer expressions of different signedness: 'int' and 'const arma::uword' {aka 'const unsigned int'} [-Wsign-compare]
21 | for(int a = 0; a < C.n_cols; a = a + 1 ) {
| ~~^~~~~~~~~~
g++ -shared -s -static-libgcc -o CelliD.dll tmp.def RcppExports.o dist.o mca.o order.o -fopenmp -LF:/biocbuild/bbs-3.22-bioc/R/bin/x64 -lRlapack -LF:/biocbuild/bbs-3.22-bioc/R/bin/x64 -lRblas -lgfortran -lquadmath -LC:/rtools45/x86_64-w64-mingw32.static.posix/lib/x64 -LC:/rtools45/x86_64-w64-mingw32.static.posix/lib -LF:/biocbuild/bbs-3.22-bioc/R/bin/x64 -lR
installing to F:/biocbuild/bbs-3.22-bioc/meat/CelliD.buildbin-libdir/00LOCK-CelliD/00new/CelliD/libs/x64
** R
** data
*** moving datasets to lazyload DB
** inst
** byte-compile and prepare package for lazy loading
Warning: replacing previous import 'data.table::shift' by 'tictoc::shift' when loading 'CelliD'
** help
*** installing help indices
** building package indices
** installing vignettes
** testing if installed package can be loaded from temporary location
Warning: replacing previous import 'data.table::shift' by 'tictoc::shift' when loading 'CelliD'
** testing if installed package can be loaded from final location
Warning: replacing previous import 'data.table::shift' by 'tictoc::shift' when loading 'CelliD'
** testing if installed package keeps a record of temporary installation path
* MD5 sums
packaged installation of 'CelliD' as CelliD_1.17.0.zip
* DONE (CelliD)