| Back to Multiple platform build/check report for BioC 3.22: simplified long |
|
This page was generated on 2025-10-25 12:04 -0400 (Sat, 25 Oct 2025).
| Hostname | OS | Arch (*) | R version | Installed pkgs |
|---|---|---|---|---|
| nebbiolo2 | Linux (Ubuntu 24.04.3 LTS) | x86_64 | 4.5.1 Patched (2025-08-23 r88802) -- "Great Square Root" | 4901 |
| lconway | macOS 12.7.6 Monterey | x86_64 | 4.5.1 Patched (2025-09-10 r88807) -- "Great Square Root" | 4691 |
| kjohnson3 | macOS 13.7.7 Ventura | arm64 | 4.5.1 Patched (2025-09-10 r88807) -- "Great Square Root" | 4637 |
| taishan | Linux (openEuler 24.03 LTS) | aarch64 | 4.5.0 (2025-04-11) -- "How About a Twenty-Six" | 4658 |
| Click on any hostname to see more info about the system (e.g. compilers) (*) as reported by 'uname -p', except on Windows and Mac OS X | ||||
| Package 306/2361 | Hostname | OS / Arch | INSTALL | BUILD | CHECK | BUILD BIN | ||||||||
| CellBarcode 1.15.0 (landing page) Wenjie Sun
| nebbiolo2 | Linux (Ubuntu 24.04.3 LTS) / x86_64 | OK | OK | OK | |||||||||
| lconway | macOS 12.7.6 Monterey / x86_64 | OK | OK | OK | OK | |||||||||
| kjohnson3 | macOS 13.7.7 Ventura / arm64 | OK | OK | OK | OK | |||||||||
| taishan | Linux (openEuler 24.03 LTS) / aarch64 | OK | NA | NA | ||||||||||
|
To the developers/maintainers of the CellBarcode package: - Allow up to 24 hours (and sometimes 48 hours) for your latest push to git@git.bioconductor.org:packages/CellBarcode.git to reflect on this report. See Troubleshooting Build Report for more information. - Use the following Renviron settings to reproduce errors and warnings. - If 'R CMD check' started to fail recently on the Linux builder(s) over a missing dependency, add the missing dependency to 'Suggests:' in your DESCRIPTION file. See Renviron.bioc for more information. |
| Package: CellBarcode |
| Version: 1.15.0 |
| Command: /Library/Frameworks/R.framework/Resources/bin/R CMD check --install=check:CellBarcode.install-out.txt --library=/Library/Frameworks/R.framework/Resources/library --no-vignettes --timings CellBarcode_1.15.0.tar.gz |
| StartedAt: 2025-10-24 20:03:26 -0400 (Fri, 24 Oct 2025) |
| EndedAt: 2025-10-24 20:08:15 -0400 (Fri, 24 Oct 2025) |
| EllapsedTime: 288.3 seconds |
| RetCode: 0 |
| Status: OK |
| CheckDir: CellBarcode.Rcheck |
| Warnings: 0 |
##############################################################################
##############################################################################
###
### Running command:
###
### /Library/Frameworks/R.framework/Resources/bin/R CMD check --install=check:CellBarcode.install-out.txt --library=/Library/Frameworks/R.framework/Resources/library --no-vignettes --timings CellBarcode_1.15.0.tar.gz
###
##############################################################################
##############################################################################
* using log directory ‘/Users/biocbuild/bbs-3.22-bioc/meat/CellBarcode.Rcheck’
* using R version 4.5.1 Patched (2025-09-10 r88807)
* using platform: x86_64-apple-darwin20
* R was compiled by
Apple clang version 14.0.0 (clang-1400.0.29.202)
GNU Fortran (GCC) 14.2.0
* running under: macOS Monterey 12.7.6
* using session charset: UTF-8
* using option ‘--no-vignettes’
* checking for file ‘CellBarcode/DESCRIPTION’ ... OK
* checking extension type ... Package
* this is package ‘CellBarcode’ version ‘1.15.0’
* package encoding: UTF-8
* checking package namespace information ... OK
* checking package dependencies ... OK
* checking if this is a source package ... OK
* checking if there is a namespace ... OK
* checking for hidden files and directories ... OK
* checking for portable file names ... OK
* checking for sufficient/correct file permissions ... OK
* checking whether package ‘CellBarcode’ can be installed ... OK
* used C++ compiler: ‘Apple clang version 14.0.0 (clang-1400.0.29.202)’
* used SDK: ‘MacOSX11.3.1.sdk’
* checking installed package size ... OK
* checking package directory ... OK
* checking ‘build’ directory ... OK
* checking DESCRIPTION meta-information ... OK
* checking top-level files ... OK
* checking for left-over files ... OK
* checking index information ... OK
* checking package subdirectories ... OK
* checking code files for non-ASCII characters ... OK
* checking R files for syntax errors ... OK
* checking whether the package can be loaded ... OK
* checking whether the package can be loaded with stated dependencies ... OK
* checking whether the package can be unloaded cleanly ... OK
* checking whether the namespace can be loaded with stated dependencies ... OK
* checking whether the namespace can be unloaded cleanly ... OK
* checking dependencies in R code ... OK
* checking S3 generic/method consistency ... OK
* checking replacement functions ... OK
* checking foreign function calls ... OK
* checking R code for possible problems ... NOTE
bc_extract_sc_fastq: no visible binding for global variable
‘cell_barcode’
bc_extract_sc_fastq: no visible binding for global variable ‘umi’
bc_extract_sc_fastq: no visible binding for global variable
‘barcode_seq’
process_sc_list: no visible binding for global variable ‘cell_barcode’
process_sc_list: no visible binding for global variable ‘umi’
process_sc_list: no visible binding for global variable ‘barcode_seq’
bc_2matrix,BarcodeObj: no visible binding for global variable
‘barcode_seq’
bc_cure_depth,BarcodeObj : <anonymous>: no visible binding for global
variable ‘barcode_seq’
bc_cure_umi,BarcodeObj : <anonymous>: no visible binding for global
variable ‘barcode_seq’
bc_cure_umi,BarcodeObj : <anonymous>: no visible binding for global
variable ‘umi_seq’
bc_extract,data.frame: no visible binding for global variable ‘umi_seq’
bc_extract,data.frame: no visible binding for global variable
‘barcode_seq’
bc_plot_count,BarcodeObj: no visible binding for global variable
‘barcode_read_count’
bc_plot_count,BarcodeObj: no visible binding for global variable
‘raw_read_count’
bc_plot_count,BarcodeObj: no visible binding for global variable
‘umi_seq’
bc_plot_count,BarcodeObj: no visible binding for global variable
‘barcode_seq’
bc_plot_count,BarcodeObj: no visible binding for global variable
‘cell_barcode’
bc_plot_count,BarcodeObj: no visible binding for global variable ‘V1’
bc_plot_count,BarcodeObj: no visible binding for global variable ‘x’
bc_plot_seqQc,BarcodeQcSet: no visible binding for global variable
‘sample_name’
bc_subset,BarcodeObj : <anonymous>: no visible binding for global
variable ‘barcode_seq’
Undefined global functions or variables:
V1 barcode_read_count barcode_seq cell_barcode raw_read_count
sample_name umi umi_seq x
* checking Rd files ... OK
* checking Rd metadata ... OK
* checking Rd cross-references ... OK
* checking for missing documentation entries ... OK
* checking for code/documentation mismatches ... OK
* checking Rd \usage sections ... OK
* checking Rd contents ... OK
* checking for unstated dependencies in examples ... OK
* checking contents of ‘data’ directory ... OK
* checking data for non-ASCII characters ... OK
* checking data for ASCII and uncompressed saves ... OK
* checking line endings in C/C++/Fortran sources/headers ... OK
* checking line endings in Makefiles ... NOTE
Found the following Makefile(s) without a final LF:
src/Makevars
Some ‘make’ programs ignore lines not ending in LF.
* checking compilation flags in Makevars ... OK
* checking for GNU extensions in Makefiles ... OK
* checking for portable use of $(BLAS_LIBS) and $(LAPACK_LIBS) ... OK
* checking use of PKG_*FLAGS in Makefiles ... OK
* checking compiled code ... NOTE
Note: information on .o files is not available
* checking files in ‘vignettes’ ... OK
* checking examples ... OK
* checking for unstated dependencies in ‘tests’ ... OK
* checking tests ...
Running ‘testthat.R’
OK
* checking for unstated dependencies in vignettes ... OK
* checking package vignettes ... OK
* checking running R code from vignettes ... SKIPPED
* checking re-building of vignette outputs ... SKIPPED
* checking PDF version of manual ... OK
* DONE
Status: 3 NOTEs
See
‘/Users/biocbuild/bbs-3.22-bioc/meat/CellBarcode.Rcheck/00check.log’
for details.
CellBarcode.Rcheck/00install.out
############################################################################## ############################################################################## ### ### Running command: ### ### /Library/Frameworks/R.framework/Resources/bin/R CMD INSTALL CellBarcode ### ############################################################################## ############################################################################## * installing to library ‘/Library/Frameworks/R.framework/Versions/4.5-x86_64/Resources/library’ * installing *source* package ‘CellBarcode’ ... ** this is package ‘CellBarcode’ version ‘1.15.0’ ** using staged installation ** libs using C++ compiler: ‘Apple clang version 14.0.0 (clang-1400.0.29.202)’ using SDK: ‘MacOSX11.3.1.sdk’ clang++ -arch x86_64 -std=gnu++17 -I"/Library/Frameworks/R.framework/Resources/include" -DNDEBUG -I'/Library/Frameworks/R.framework/Versions/4.5-x86_64/Resources/library/Rcpp/include' -I'/Library/Frameworks/R.framework/Versions/4.5-x86_64/Resources/library/BH/include' -I/opt/R/x86_64/include -fPIC -falign-functions=64 -Wall -g -O2 -c RcppExports.cpp -o RcppExports.o clang++ -arch x86_64 -std=gnu++17 -I"/Library/Frameworks/R.framework/Resources/include" -DNDEBUG -I'/Library/Frameworks/R.framework/Versions/4.5-x86_64/Resources/library/Rcpp/include' -I'/Library/Frameworks/R.framework/Versions/4.5-x86_64/Resources/library/BH/include' -I/opt/R/x86_64/include -fPIC -falign-functions=64 -Wall -g -O2 -c lib_10X_barcode.cpp -o lib_10X_barcode.o clang++ -arch x86_64 -std=gnu++17 -I"/Library/Frameworks/R.framework/Resources/include" -DNDEBUG -I'/Library/Frameworks/R.framework/Versions/4.5-x86_64/Resources/library/Rcpp/include' -I'/Library/Frameworks/R.framework/Versions/4.5-x86_64/Resources/library/BH/include' -I/opt/R/x86_64/include -fPIC -falign-functions=64 -Wall -g -O2 -c lib_clustering.cpp -o lib_clustering.o clang++ -arch x86_64 -std=gnu++17 -I"/Library/Frameworks/R.framework/Resources/include" -DNDEBUG -I'/Library/Frameworks/R.framework/Versions/4.5-x86_64/Resources/library/Rcpp/include' -I'/Library/Frameworks/R.framework/Versions/4.5-x86_64/Resources/library/BH/include' -I/opt/R/x86_64/include -fPIC -falign-functions=64 -Wall -g -O2 -c lib_read_seq.cpp -o lib_read_seq.o clang++ -arch x86_64 -std=gnu++17 -dynamiclib -Wl,-headerpad_max_install_names -undefined dynamic_lookup -L/Library/Frameworks/R.framework/Resources/lib -L/opt/R/x86_64/lib -o CellBarcode.so RcppExports.o lib_10X_barcode.o lib_clustering.o lib_read_seq.o -F/Library/Frameworks/R.framework/.. -framework R installing to /Library/Frameworks/R.framework/Versions/4.5-x86_64/Resources/library/00LOCK-CellBarcode/00new/CellBarcode/libs ** R ** data ** inst ** byte-compile and prepare package for lazy loading ** help *** installing help indices ** building package indices ** installing vignettes ** testing if installed package can be loaded from temporary location ** checking absolute paths in shared objects and dynamic libraries ** testing if installed package can be loaded from final location ** testing if installed package keeps a record of temporary installation path * DONE (CellBarcode)
CellBarcode.Rcheck/tests/testthat.Rout
R version 4.5.1 Patched (2025-09-10 r88807) -- "Great Square Root"
Copyright (C) 2025 The R Foundation for Statistical Computing
Platform: x86_64-apple-darwin20
R is free software and comes with ABSOLUTELY NO WARRANTY.
You are welcome to redistribute it under certain conditions.
Type 'license()' or 'licence()' for distribution details.
R is a collaborative project with many contributors.
Type 'contributors()' for more information and
'citation()' on how to cite R or R packages in publications.
Type 'demo()' for some demos, 'help()' for on-line help, or
'help.start()' for an HTML browser interface to help.
Type 'q()' to quit R.
> library(testthat)
> library(CellBarcode)
>
> test_check("CellBarcode")
------------
bc_cure_depth: isUpdate is FALSE, use messyBc as input.
------------
------------
bc_cure_depth: isUpdate is TRUE, update the cleanBc.
------------
------------
bc_cure_depth: isUpdate is TRUE, update the cleanBc.
------------
------------
bc_cure_depth: isUpdate is TRUE, update the cleanBc.
------------
------------
bc_cure_depth: isUpdate is FALSE, use messyBc as input.
------------
Loading required package: BiocGenerics
Loading required package: generics
Attaching package: 'generics'
The following objects are masked from 'package:base':
as.difftime, as.factor, as.ordered, intersect, is.element, setdiff,
setequal, union
Attaching package: 'BiocGenerics'
The following objects are masked from 'package:stats':
IQR, mad, sd, var, xtabs
The following objects are masked from 'package:base':
Filter, Find, Map, Position, Reduce, anyDuplicated, aperm, append,
as.data.frame, basename, cbind, colnames, dirname, do.call,
duplicated, eval, evalq, get, grep, grepl, is.unsorted, lapply,
mapply, match, mget, order, paste, pmax, pmax.int, pmin, pmin.int,
rank, rbind, rownames, sapply, saveRDS, table, tapply, unique,
unsplit, which.max, which.min
Loading required package: BiocParallel
Loading required package: Biostrings
Loading required package: S4Vectors
Loading required package: stats4
Attaching package: 'S4Vectors'
The following object is masked from 'package:utils':
findMatches
The following objects are masked from 'package:base':
I, expand.grid, unname
Loading required package: IRanges
Loading required package: XVector
Loading required package: Seqinfo
Attaching package: 'Biostrings'
The following object is masked from 'package:base':
strsplit
Loading required package: Rsamtools
Loading required package: GenomicRanges
Loading required package: GenomicAlignments
Loading required package: SummarizedExperiment
Loading required package: MatrixGenerics
Loading required package: matrixStats
Attaching package: 'MatrixGenerics'
The following objects are masked from 'package:matrixStats':
colAlls, colAnyNAs, colAnys, colAvgsPerRowSet, colCollapse,
colCounts, colCummaxs, colCummins, colCumprods, colCumsums,
colDiffs, colIQRDiffs, colIQRs, colLogSumExps, colMadDiffs,
colMads, colMaxs, colMeans2, colMedians, colMins, colOrderStats,
colProds, colQuantiles, colRanges, colRanks, colSdDiffs, colSds,
colSums2, colTabulates, colVarDiffs, colVars, colWeightedMads,
colWeightedMeans, colWeightedMedians, colWeightedSds,
colWeightedVars, rowAlls, rowAnyNAs, rowAnys, rowAvgsPerColSet,
rowCollapse, rowCounts, rowCummaxs, rowCummins, rowCumprods,
rowCumsums, rowDiffs, rowIQRDiffs, rowIQRs, rowLogSumExps,
rowMadDiffs, rowMads, rowMaxs, rowMeans2, rowMedians, rowMins,
rowOrderStats, rowProds, rowQuantiles, rowRanges, rowRanks,
rowSdDiffs, rowSds, rowSums2, rowTabulates, rowVarDiffs, rowVars,
rowWeightedMads, rowWeightedMeans, rowWeightedMedians,
rowWeightedSds, rowWeightedVars
Loading required package: Biobase
Welcome to Bioconductor
Vignettes contain introductory material; view with
'browseVignettes()'. To cite Bioconductor, see
'citation("Biobase")', and for packages 'citation("pkgname")'.
Attaching package: 'Biobase'
The following object is masked from 'package:MatrixGenerics':
rowMedians
The following objects are masked from 'package:matrixStats':
anyMissing, rowMedians
------------
bc_cure_depth: isUpdate is TRUE, update the cleanBc.
------------
------------
bc_cure_depth: isUpdate is TRUE, update the cleanBc.
------------
------------
bc_cure_depth: isUpdate is TRUE, update the cleanBc.
------------
[[1]]
barcode_seq count
1 AGAG 104
2 AGAAG 14
------------
bc_cure_depth: isUpdate is TRUE, update the cleanBc.
------------
------------
bc_cure_depth: isUpdate is TRUE, update the cleanBc.
------------
------------
bc_cure_depth: isUpdate is TRUE, update the cleanBc.
------------
------------
bc_cure_depth: isUpdate is TRUE, update the cleanBc.
------------
------------
bc_cure_depth: isUpdate is TRUE, update the cleanBc.
------------
[ FAIL 0 | WARN 0 | SKIP 3 | PASS 37 ]
══ Skipped tests (3) ═══════════════════════════════════════════════════════════
• On CRAN (3): 'test-BarcodeObj.R:119:3', 'test-describ.R:51:3',
'test-qc.R:17:3'
[ FAIL 0 | WARN 0 | SKIP 3 | PASS 37 ]
>
> proc.time()
user system elapsed
14.663 1.314 16.280
CellBarcode.Rcheck/CellBarcode-Ex.timings
| name | user | system | elapsed | |
| BarcodeObj | 1.246 | 0.039 | 1.291 | |
| bc_2df | 0.015 | 0.002 | 0.017 | |
| bc_auto_cutoff | 0.004 | 0.002 | 0.005 | |
| bc_barcodes | 0.002 | 0.001 | 0.003 | |
| bc_cleanBc | 0.007 | 0.003 | 0.009 | |
| bc_create_BarcodeObj | 0.010 | 0.001 | 0.011 | |
| bc_cure_cluster | 0.045 | 0.002 | 0.048 | |
| bc_cure_depth | 0.024 | 0.003 | 0.027 | |
| bc_cure_umi | 0.014 | 0.002 | 0.017 | |
| bc_extract | 0.453 | 0.037 | 0.495 | |
| bc_extract_sc_sam | 0.099 | 0.005 | 0.106 | |
| bc_messyBc | 0.007 | 0.002 | 0.008 | |
| bc_meta | 0.004 | 0.001 | 0.006 | |
| bc_names | 0.001 | 0.001 | 0.003 | |
| bc_plot_count | 0.765 | 0.050 | 0.820 | |
| bc_plot_mutual | 0.560 | 0.008 | 0.572 | |
| bc_plot_pair | 0.404 | 0.005 | 0.412 | |
| bc_plot_single | 0.730 | 0.008 | 0.742 | |
| bc_seq_filter | 0.768 | 0.478 | 1.268 | |
| bc_seq_qc | 2.775 | 0.159 | 2.947 | |
| bc_splitVDJ | 0.875 | 0.011 | 0.891 | |
| bc_subset | 0.096 | 0.004 | 0.100 | |
| bc_summary_barcode | 0.601 | 0.005 | 0.608 | |
| bc_summary_seqQc | 3.712 | 0.047 | 3.777 | |
| format | 0.003 | 0.001 | 0.004 | |
| show | 0.003 | 0.001 | 0.003 | |
| subset | 2.981 | 0.045 | 3.046 | |