| Back to Multiple platform build/check report for BioC 3.22: simplified long |
|
This page was generated on 2025-10-24 12:04 -0400 (Fri, 24 Oct 2025).
| Hostname | OS | Arch (*) | R version | Installed pkgs |
|---|---|---|---|---|
| nebbiolo2 | Linux (Ubuntu 24.04.3 LTS) | x86_64 | 4.5.1 Patched (2025-08-23 r88802) -- "Great Square Root" | 4898 |
| lconway | macOS 12.7.6 Monterey | x86_64 | 4.5.1 Patched (2025-09-10 r88807) -- "Great Square Root" | 4688 |
| kjohnson3 | macOS 13.7.7 Ventura | arm64 | 4.5.1 Patched (2025-09-10 r88807) -- "Great Square Root" | 4634 |
| taishan | Linux (openEuler 24.03 LTS) | aarch64 | 4.5.0 (2025-04-11) -- "How About a Twenty-Six" | 4658 |
| Click on any hostname to see more info about the system (e.g. compilers) (*) as reported by 'uname -p', except on Windows and Mac OS X | ||||
| Package 277/2359 | Hostname | OS / Arch | INSTALL | BUILD | CHECK | BUILD BIN | ||||||||
| CaMutQC 1.5.6 (landing page) Xin Wang
| nebbiolo2 | Linux (Ubuntu 24.04.3 LTS) / x86_64 | OK | OK | OK | |||||||||
| lconway | macOS 12.7.6 Monterey / x86_64 | OK | OK | OK | OK | |||||||||
| kjohnson3 | macOS 13.7.7 Ventura / arm64 | OK | OK | OK | OK | |||||||||
| taishan | Linux (openEuler 24.03 LTS) / aarch64 | OK | OK | OK | ||||||||||
|
To the developers/maintainers of the CaMutQC package: - Allow up to 24 hours (and sometimes 48 hours) for your latest push to git@git.bioconductor.org:packages/CaMutQC.git to reflect on this report. See Troubleshooting Build Report for more information. - Use the following Renviron settings to reproduce errors and warnings. - If 'R CMD check' started to fail recently on the Linux builder(s) over a missing dependency, add the missing dependency to 'Suggests:' in your DESCRIPTION file. See Renviron.bioc for more information. |
| Package: CaMutQC |
| Version: 1.5.6 |
| Command: /Library/Frameworks/R.framework/Resources/bin/R CMD check --install=check:CaMutQC.install-out.txt --library=/Library/Frameworks/R.framework/Resources/library --no-vignettes --timings CaMutQC_1.5.6.tar.gz |
| StartedAt: 2025-10-23 19:52:36 -0400 (Thu, 23 Oct 2025) |
| EndedAt: 2025-10-23 19:56:36 -0400 (Thu, 23 Oct 2025) |
| EllapsedTime: 240.1 seconds |
| RetCode: 0 |
| Status: OK |
| CheckDir: CaMutQC.Rcheck |
| Warnings: 0 |
##############################################################################
##############################################################################
###
### Running command:
###
### /Library/Frameworks/R.framework/Resources/bin/R CMD check --install=check:CaMutQC.install-out.txt --library=/Library/Frameworks/R.framework/Resources/library --no-vignettes --timings CaMutQC_1.5.6.tar.gz
###
##############################################################################
##############################################################################
* using log directory ‘/Users/biocbuild/bbs-3.22-bioc/meat/CaMutQC.Rcheck’
* using R version 4.5.1 Patched (2025-09-10 r88807)
* using platform: x86_64-apple-darwin20
* R was compiled by
Apple clang version 14.0.0 (clang-1400.0.29.202)
GNU Fortran (GCC) 14.2.0
* running under: macOS Monterey 12.7.6
* using session charset: UTF-8
* using option ‘--no-vignettes’
* checking for file ‘CaMutQC/DESCRIPTION’ ... OK
* checking extension type ... Package
* this is package ‘CaMutQC’ version ‘1.5.6’
* package encoding: UTF-8
* checking package namespace information ... OK
* checking package dependencies ... OK
* checking if this is a source package ... OK
* checking if there is a namespace ... OK
* checking for hidden files and directories ... OK
* checking for portable file names ... OK
* checking for sufficient/correct file permissions ... OK
* checking whether package ‘CaMutQC’ can be installed ... OK
* checking installed package size ... OK
* checking package directory ... OK
* checking ‘build’ directory ... OK
* checking DESCRIPTION meta-information ... OK
* checking top-level files ... NOTE
File
LICENSE
is not mentioned in the DESCRIPTION file.
* checking for left-over files ... OK
* checking index information ... OK
* checking package subdirectories ... OK
* checking code files for non-ASCII characters ... OK
* checking R files for syntax errors ... OK
* checking whether the package can be loaded ... OK
* checking whether the package can be loaded with stated dependencies ... OK
* checking whether the package can be unloaded cleanly ... OK
* checking whether the namespace can be loaded with stated dependencies ... OK
* checking whether the namespace can be unloaded cleanly ... OK
* checking dependencies in R code ... OK
* checking S3 generic/method consistency ... OK
* checking replacement functions ... OK
* checking foreign function calls ... OK
* checking R code for possible problems ... NOTE
mutFilterNormalDP: no visible binding for global variable
‘Existing_variation’
mutFilterNormalDP: no visible binding for global variable ‘n_depth’
mutFilterNormalDP: no visible binding for global variable ‘rowname’
Undefined global functions or variables:
Existing_variation n_depth rowname
* checking Rd files ... OK
* checking Rd metadata ... OK
* checking Rd cross-references ... OK
* checking for missing documentation entries ... OK
* checking for code/documentation mismatches ... OK
* checking Rd \usage sections ... OK
* checking Rd contents ... OK
* checking for unstated dependencies in examples ... OK
* checking files in ‘vignettes’ ... OK
* checking examples ... OK
Examples with CPU (user + system) or elapsed time > 5s
user system elapsed
mutFilterReg 15.73 0.123 15.949
* checking for unstated dependencies in vignettes ... OK
* checking package vignettes ... OK
* checking running R code from vignettes ... SKIPPED
* checking re-building of vignette outputs ... SKIPPED
* checking PDF version of manual ... OK
* DONE
Status: 2 NOTEs
See
‘/Users/biocbuild/bbs-3.22-bioc/meat/CaMutQC.Rcheck/00check.log’
for details.
CaMutQC.Rcheck/00install.out
############################################################################## ############################################################################## ### ### Running command: ### ### /Library/Frameworks/R.framework/Resources/bin/R CMD INSTALL CaMutQC ### ############################################################################## ############################################################################## * installing to library ‘/Library/Frameworks/R.framework/Versions/4.5-x86_64/Resources/library’ * installing *source* package ‘CaMutQC’ ... ** this is package ‘CaMutQC’ version ‘1.5.6’ ** using staged installation ** R ** inst ** byte-compile and prepare package for lazy loading Warning: replacing previous import ‘ape::degree’ by ‘circlize::degree’ when loading ‘MesKit’ Warning: replacing previous import ‘ape::where’ by ‘dplyr::where’ when loading ‘MesKit’ ** help *** installing help indices ** building package indices ** installing vignettes ** testing if installed package can be loaded from temporary location Warning: replacing previous import ‘ape::degree’ by ‘circlize::degree’ when loading ‘MesKit’ Warning: replacing previous import ‘ape::where’ by ‘dplyr::where’ when loading ‘MesKit’ ** testing if installed package can be loaded from final location Warning: replacing previous import ‘ape::degree’ by ‘circlize::degree’ when loading ‘MesKit’ Warning: replacing previous import ‘ape::where’ by ‘dplyr::where’ when loading ‘MesKit’ ** testing if installed package keeps a record of temporary installation path * DONE (CaMutQC)
CaMutQC.Rcheck/CaMutQC-Ex.timings
| name | user | system | elapsed | |
| calTMB | 3.907 | 0.144 | 4.083 | |
| mutFilterAdj | 0.946 | 0.013 | 0.964 | |
| mutFilterCan | 1.061 | 0.018 | 1.086 | |
| mutFilterCom | 1.031 | 0.013 | 1.053 | |
| mutFilterDB | 0.924 | 0.010 | 0.940 | |
| mutFilterNormalDP | 0.946 | 0.011 | 0.962 | |
| mutFilterPON | 0.946 | 0.010 | 0.961 | |
| mutFilterQual | 0.994 | 0.014 | 1.015 | |
| mutFilterRef | 1.021 | 0.023 | 1.047 | |
| mutFilterReg | 15.730 | 0.123 | 15.949 | |
| mutFilterSB | 0.942 | 0.010 | 0.956 | |
| mutFilterTech | 0.978 | 0.012 | 0.995 | |
| mutFilterType | 0.896 | 0.009 | 0.907 | |
| mutSelection | 0.913 | 0.009 | 0.925 | |
| processMut | 0.555 | 0.011 | 0.569 | |
| toMesKit | 0.570 | 0.011 | 0.584 | |
| tomaftools | 0.543 | 0.012 | 0.559 | |
| vcfToMAF | 0.986 | 0.010 | 1.001 | |