| Back to Multiple platform build/check report for BioC 3.22: simplified long |
|
This page was generated on 2025-10-24 12:04 -0400 (Fri, 24 Oct 2025).
| Hostname | OS | Arch (*) | R version | Installed pkgs |
|---|---|---|---|---|
| nebbiolo2 | Linux (Ubuntu 24.04.3 LTS) | x86_64 | 4.5.1 Patched (2025-08-23 r88802) -- "Great Square Root" | 4898 |
| lconway | macOS 12.7.6 Monterey | x86_64 | 4.5.1 Patched (2025-09-10 r88807) -- "Great Square Root" | 4688 |
| kjohnson3 | macOS 13.7.7 Ventura | arm64 | 4.5.1 Patched (2025-09-10 r88807) -- "Great Square Root" | 4634 |
| taishan | Linux (openEuler 24.03 LTS) | aarch64 | 4.5.0 (2025-04-11) -- "How About a Twenty-Six" | 4658 |
| Click on any hostname to see more info about the system (e.g. compilers) (*) as reported by 'uname -p', except on Windows and Mac OS X | ||||
| Package 366/2359 | Hostname | OS / Arch | INSTALL | BUILD | CHECK | BUILD BIN | ||||||||
| CIMICE 1.17.0 (landing page) Nicolò Rossi
| nebbiolo2 | Linux (Ubuntu 24.04.3 LTS) / x86_64 | OK | OK | OK | |||||||||
| lconway | macOS 12.7.6 Monterey / x86_64 | OK | OK | OK | OK | |||||||||
| kjohnson3 | macOS 13.7.7 Ventura / arm64 | OK | OK | OK | OK | |||||||||
| taishan | Linux (openEuler 24.03 LTS) / aarch64 | OK | OK | OK | ||||||||||
|
To the developers/maintainers of the CIMICE package: - Allow up to 24 hours (and sometimes 48 hours) for your latest push to git@git.bioconductor.org:packages/CIMICE.git to reflect on this report. See Troubleshooting Build Report for more information. - Use the following Renviron settings to reproduce errors and warnings. - If 'R CMD check' started to fail recently on the Linux builder(s) over a missing dependency, add the missing dependency to 'Suggests:' in your DESCRIPTION file. See Renviron.bioc for more information. |
| Package: CIMICE |
| Version: 1.17.0 |
| Command: /Library/Frameworks/R.framework/Resources/bin/R CMD check --install=check:CIMICE.install-out.txt --library=/Library/Frameworks/R.framework/Resources/library --no-vignettes --timings CIMICE_1.17.0.tar.gz |
| StartedAt: 2025-10-23 20:05:18 -0400 (Thu, 23 Oct 2025) |
| EndedAt: 2025-10-23 20:06:53 -0400 (Thu, 23 Oct 2025) |
| EllapsedTime: 95.1 seconds |
| RetCode: 0 |
| Status: OK |
| CheckDir: CIMICE.Rcheck |
| Warnings: 0 |
##############################################################################
##############################################################################
###
### Running command:
###
### /Library/Frameworks/R.framework/Resources/bin/R CMD check --install=check:CIMICE.install-out.txt --library=/Library/Frameworks/R.framework/Resources/library --no-vignettes --timings CIMICE_1.17.0.tar.gz
###
##############################################################################
##############################################################################
* using log directory ‘/Users/biocbuild/bbs-3.22-bioc/meat/CIMICE.Rcheck’
* using R version 4.5.1 Patched (2025-09-10 r88807)
* using platform: x86_64-apple-darwin20
* R was compiled by
Apple clang version 14.0.0 (clang-1400.0.29.202)
GNU Fortran (GCC) 14.2.0
* running under: macOS Monterey 12.7.6
* using session charset: UTF-8
* using option ‘--no-vignettes’
* checking for file ‘CIMICE/DESCRIPTION’ ... OK
* checking extension type ... Package
* this is package ‘CIMICE’ version ‘1.17.0’
* package encoding: UTF-8
* checking package namespace information ... OK
* checking package dependencies ... OK
* checking if this is a source package ... OK
* checking if there is a namespace ... OK
* checking for hidden files and directories ... NOTE
Found the following hidden files and directories:
.git.bfg-report
These were most likely included in error. See section ‘Package
structure’ in the ‘Writing R Extensions’ manual.
* checking for portable file names ... OK
* checking for sufficient/correct file permissions ... OK
* checking whether package ‘CIMICE’ can be installed ... OK
* checking installed package size ... OK
* checking package directory ... OK
* checking ‘build’ directory ... OK
* checking DESCRIPTION meta-information ... OK
* checking top-level files ... OK
* checking for left-over files ... OK
* checking index information ... OK
* checking package subdirectories ... OK
* checking code files for non-ASCII characters ... OK
* checking R files for syntax errors ... OK
* checking whether the package can be loaded ... OK
* checking whether the package can be loaded with stated dependencies ... OK
* checking whether the package can be unloaded cleanly ... OK
* checking whether the namespace can be loaded with stated dependencies ... OK
* checking whether the namespace can be unloaded cleanly ... OK
* checking dependencies in R code ... OK
* checking S3 generic/method consistency ... OK
* checking replacement functions ... OK
* checking foreign function calls ... OK
* checking R code for possible problems ... OK
* checking Rd files ... OK
* checking Rd metadata ... OK
* checking Rd cross-references ... OK
* checking for missing documentation entries ... OK
* checking for code/documentation mismatches ... OK
* checking Rd \usage sections ... OK
* checking Rd contents ... OK
* checking for unstated dependencies in examples ... OK
* checking files in ‘vignettes’ ... OK
* checking examples ... OK
* checking for unstated dependencies in ‘tests’ ... OK
* checking tests ...
Running ‘testthat.R’
OK
* checking for unstated dependencies in vignettes ... OK
* checking package vignettes ... OK
* checking running R code from vignettes ... SKIPPED
* checking re-building of vignette outputs ... SKIPPED
* checking PDF version of manual ... OK
* DONE
Status: 1 NOTE
See
‘/Users/biocbuild/bbs-3.22-bioc/meat/CIMICE.Rcheck/00check.log’
for details.
CIMICE.Rcheck/00install.out
############################################################################## ############################################################################## ### ### Running command: ### ### /Library/Frameworks/R.framework/Resources/bin/R CMD INSTALL CIMICE ### ############################################################################## ############################################################################## * installing to library ‘/Library/Frameworks/R.framework/Versions/4.5-x86_64/Resources/library’ * installing *source* package ‘CIMICE’ ... ** this is package ‘CIMICE’ version ‘1.17.0’ ** using staged installation ** R ** inst ** byte-compile and prepare package for lazy loading ** help *** installing help indices ** building package indices ** installing vignettes ** testing if installed package can be loaded from temporary location ** testing if installed package can be loaded from final location ** testing if installed package keeps a record of temporary installation path * DONE (CIMICE)
CIMICE.Rcheck/tests/testthat.Rout
R version 4.5.1 Patched (2025-09-10 r88807) -- "Great Square Root"
Copyright (C) 2025 The R Foundation for Statistical Computing
Platform: x86_64-apple-darwin20
R is free software and comes with ABSOLUTELY NO WARRANTY.
You are welcome to redistribute it under certain conditions.
Type 'license()' or 'licence()' for distribution details.
R is a collaborative project with many contributors.
Type 'contributors()' for more information and
'citation()' on how to cite R or R packages in publications.
Type 'demo()' for some demos, 'help()' for on-line help, or
'help.start()' for an HTML browser interface to help.
Type 'q()' to quit R.
> library(testthat)
> library(CIMICE)
>
> test_check("CIMICE")
[ FAIL 0 | WARN 2 | SKIP 0 | PASS 1 ]
[ FAIL 0 | WARN 2 | SKIP 0 | PASS 1 ]
>
> proc.time()
user system elapsed
3.696 0.296 4.008
CIMICE.Rcheck/CIMICE-Ex.timings
| name | user | system | elapsed | |
| annotate_mutational_matrix | 0.030 | 0.002 | 0.033 | |
| binary_radix_sort | 0.041 | 0.002 | 0.044 | |
| build_subset_graph | 0.051 | 0.002 | 0.052 | |
| build_topology_subset | 0.034 | 0.002 | 0.036 | |
| chunk_reader | 0.008 | 0.001 | 0.010 | |
| compact_dataset | 0.010 | 0.001 | 0.012 | |
| computeDWNW | 0.173 | 0.005 | 0.179 | |
| computeUPW | 0.085 | 0.002 | 0.088 | |
| compute_weights_default | 0.080 | 0.002 | 0.084 | |
| corrplot_from_mutational_matrix | 0.921 | 0.033 | 0.958 | |
| corrplot_genes | 0.496 | 0.024 | 0.522 | |
| corrplot_samples | 0.305 | 0.004 | 0.309 | |
| dataset_preprocessing | 0.024 | 0.001 | 0.026 | |
| dataset_preprocessing_population | 0.019 | 0.002 | 0.021 | |
| draw_ggraph | 0.364 | 0.006 | 0.372 | |
| draw_networkD3 | 0.160 | 0.012 | 0.175 | |
| draw_visNetwork | 0.088 | 0.022 | 0.116 | |
| example_dataset | 0.003 | 0.001 | 0.003 | |
| example_dataset_withFreqs | 0.002 | 0.000 | 0.003 | |
| finalize_generator | 0.172 | 0.004 | 0.177 | |
| fix_clonal_genotype | 0.030 | 0.001 | 0.031 | |
| format_labels | 0.001 | 0.000 | 0.001 | |
| gene_mutations_hist | 0.211 | 0.003 | 0.216 | |
| get_no_of_children | 0.056 | 0.002 | 0.059 | |
| graph_non_transitive_subset_topology | 0.045 | 0.001 | 0.047 | |
| make_dataset | 0.003 | 0.000 | 0.003 | |
| make_generator_stub | 0.085 | 0.003 | 0.088 | |
| make_labels | 0.056 | 0.001 | 0.056 | |
| normalizeDWNW | 0.082 | 0.003 | 0.086 | |
| normalizeUPW | 0.069 | 0.003 | 0.071 | |
| perturb_dataset | 0.217 | 0.003 | 0.221 | |
| plot_generator | 0.417 | 0.006 | 0.423 | |
| prepare_generator_edge_set_command | 0.108 | 0.003 | 0.111 | |
| prepare_labels | 0.024 | 0.001 | 0.025 | |
| quick_run | 0.056 | 0.001 | 0.057 | |
| read | 0.764 | 0.480 | 1.260 | |
| read_CAPRI | 0.747 | 0.465 | 1.224 | |
| read_CAPRI_string | 0.004 | 0.000 | 0.005 | |
| read_CAPRIpop | 0.003 | 0.001 | 0.004 | |
| read_CAPRIpop_string | 0.004 | 0.001 | 0.005 | |
| read_MAF | 0.197 | 0.054 | 0.250 | |
| read_matrix | 0.004 | 0.000 | 0.004 | |
| remove_transitive_edges | 0.000 | 0.000 | 0.001 | |
| sample_mutations_hist | 0.218 | 0.001 | 0.221 | |
| select_genes_on_mutations | 0.005 | 0.000 | 0.006 | |
| select_samples_on_mutations | 0.028 | 0.001 | 0.030 | |
| set_generator_edges | 0.140 | 0.005 | 0.147 | |
| simulate_generator | 0.112 | 0.003 | 0.115 | |
| to_dot | 0.064 | 0.001 | 0.064 | |
| update_df | 0.018 | 0.001 | 0.018 | |