Back to Multiple platform build/check report for BioC 3.22:   simplified   long
AB[C]DEFGHIJKLMNOPQRSTUVWXYZ

This page was generated on 2025-10-24 12:04 -0400 (Fri, 24 Oct 2025).

HostnameOSArch (*)R versionInstalled pkgs
nebbiolo2Linux (Ubuntu 24.04.3 LTS)x86_644.5.1 Patched (2025-08-23 r88802) -- "Great Square Root" 4898
lconwaymacOS 12.7.6 Montereyx86_644.5.1 Patched (2025-09-10 r88807) -- "Great Square Root" 4688
kjohnson3macOS 13.7.7 Venturaarm644.5.1 Patched (2025-09-10 r88807) -- "Great Square Root" 4634
taishanLinux (openEuler 24.03 LTS)aarch644.5.0 (2025-04-11) -- "How About a Twenty-Six" 4658
Click on any hostname to see more info about the system (e.g. compilers)      (*) as reported by 'uname -p', except on Windows and Mac OS X

Package 320/2359HostnameOS / ArchINSTALLBUILDCHECKBUILD BIN
CEMiTool 1.33.2  (landing page)
Helder Nakaya
Snapshot Date: 2025-10-23 14:17 -0400 (Thu, 23 Oct 2025)
git_url: https://git.bioconductor.org/packages/CEMiTool
git_branch: devel
git_last_commit: 797a29e
git_last_commit_date: 2025-10-13 11:02:00 -0400 (Mon, 13 Oct 2025)
nebbiolo2Linux (Ubuntu 24.04.3 LTS) / x86_64  OK    OK    OK  UNNEEDED, same version is already published
lconwaymacOS 12.7.6 Monterey / x86_64  OK    OK    OK    OK  UNNEEDED, same version is already published
kjohnson3macOS 13.7.7 Ventura / arm64  OK    OK    OK    OK  UNNEEDED, same version is already published
taishanLinux (openEuler 24.03 LTS) / aarch64  OK    OK    OK  


CHECK results for CEMiTool on lconway

To the developers/maintainers of the CEMiTool package:
- Allow up to 24 hours (and sometimes 48 hours) for your latest push to git@git.bioconductor.org:packages/CEMiTool.git to reflect on this report. See Troubleshooting Build Report for more information.
- Use the following Renviron settings to reproduce errors and warnings.
- If 'R CMD check' started to fail recently on the Linux builder(s) over a missing dependency, add the missing dependency to 'Suggests:' in your DESCRIPTION file. See Renviron.bioc for more information.

raw results


Summary

Package: CEMiTool
Version: 1.33.2
Command: /Library/Frameworks/R.framework/Resources/bin/R CMD check --install=check:CEMiTool.install-out.txt --library=/Library/Frameworks/R.framework/Resources/library --no-vignettes --timings CEMiTool_1.33.2.tar.gz
StartedAt: 2025-10-23 19:58:45 -0400 (Thu, 23 Oct 2025)
EndedAt: 2025-10-23 20:03:45 -0400 (Thu, 23 Oct 2025)
EllapsedTime: 299.9 seconds
RetCode: 0
Status:   OK  
CheckDir: CEMiTool.Rcheck
Warnings: 0

Command output

##############################################################################
##############################################################################
###
### Running command:
###
###   /Library/Frameworks/R.framework/Resources/bin/R CMD check --install=check:CEMiTool.install-out.txt --library=/Library/Frameworks/R.framework/Resources/library --no-vignettes --timings CEMiTool_1.33.2.tar.gz
###
##############################################################################
##############################################################################


* using log directory ‘/Users/biocbuild/bbs-3.22-bioc/meat/CEMiTool.Rcheck’
* using R version 4.5.1 Patched (2025-09-10 r88807)
* using platform: x86_64-apple-darwin20
* R was compiled by
    Apple clang version 14.0.0 (clang-1400.0.29.202)
    GNU Fortran (GCC) 14.2.0
* running under: macOS Monterey 12.7.6
* using session charset: UTF-8
* using option ‘--no-vignettes’
* checking for file ‘CEMiTool/DESCRIPTION’ ... OK
* this is package ‘CEMiTool’ version ‘1.33.2’
* package encoding: UTF-8
* checking package namespace information ... OK
* checking package dependencies ... INFO
Imports includes 25 non-default packages.
Importing from so many packages makes the package vulnerable to any of
them becoming unavailable.  Move as many as possible to Suggests and
use conditionally.
* checking if this is a source package ... OK
* checking if there is a namespace ... OK
* checking for hidden files and directories ... OK
* checking for portable file names ... OK
* checking for sufficient/correct file permissions ... OK
* checking whether package ‘CEMiTool’ can be installed ... OK
* checking installed package size ... INFO
  installed size is  6.6Mb
  sub-directories of 1Mb or more:
    data      3.1Mb
    extdata   2.8Mb
* checking package directory ... OK
* checking ‘build’ directory ... OK
* checking DESCRIPTION meta-information ... OK
* checking top-level files ... OK
* checking for left-over files ... OK
* checking index information ... OK
* checking package subdirectories ... OK
* checking code files for non-ASCII characters ... OK
* checking R files for syntax errors ... OK
* checking whether the package can be loaded ... OK
* checking whether the package can be loaded with stated dependencies ... OK
* checking whether the package can be unloaded cleanly ... OK
* checking whether the namespace can be loaded with stated dependencies ... OK
* checking whether the namespace can be unloaded cleanly ... OK
* checking dependencies in R code ... OK
* checking S3 generic/method consistency ... OK
* checking replacement functions ... OK
* checking foreign function calls ... OK
* checking R code for possible problems ... NOTE
flip_vector: no visible global function definition for ‘setNames’
get_args: no visible global function definition for ‘is’
select_genes: no visible global function definition for ‘var’
get_hubs,CEMiTool : <anonymous>: no visible global function definition
  for ‘head’
get_merged_mods,CEMiTool: no visible global function definition for
  ‘as.dist’
get_mods,CEMiTool: no visible global function definition for ‘as.dist’
get_phi,CEMiTool: no visible global function definition for ‘tail’
get_phi,CEMiTool: no visible global function definition for ‘head’
mod_gene_num,CEMiTool: no visible binding for global variable ‘modules’
mod_gene_num,CEMiTool: no visible binding for global variable
  ‘num_genes’
mod_summary,CEMiTool: no visible global function definition for ‘:=’
plot_gsea,CEMiTool: no visible global function definition for ‘dist’
plot_mean_var,CEMiTool: no visible binding for global variable ‘var’
plot_mean_var,CEMiTool: no visible binding for global variable ‘Mean’
plot_mean_var,CEMiTool: no visible binding for global variable
  ‘Variance’
plot_mean_var,CEMiTool: no visible binding for global variable
  ‘..eq.label..’
plot_mean_var,CEMiTool: no visible binding for global variable
  ‘..rr.label..’
plot_ora,CEMiTool : <anonymous>: no visible global function definition
  for ‘head’
plot_qq,CEMiTool: no visible binding for global variable ‘data’
plot_sample_tree,CEMiTool: no visible global function definition for
  ‘dist’
plot_sample_tree,CEMiTool: no visible global function definition for
  ‘dev.off’
save_plots,CEMiTool : <anonymous>: no visible global function
  definition for ‘dev.off’
save_plots,CEMiTool: no visible global function definition for
  ‘dev.off’
Undefined global functions or variables:
  ..eq.label.. ..rr.label.. := Mean Variance as.dist data dev.off dist
  head is modules num_genes setNames tail var
Consider adding
  importFrom("grDevices", "dev.off")
  importFrom("methods", "is")
  importFrom("stats", "as.dist", "dist", "setNames", "var")
  importFrom("utils", "data", "head", "tail")
to your NAMESPACE file (and ensure that your DESCRIPTION Imports field
contains 'methods').
* checking Rd files ... OK
* checking Rd metadata ... OK
* checking Rd cross-references ... OK
* checking for missing documentation entries ... OK
* checking for code/documentation mismatches ... OK
* checking Rd \usage sections ... OK
* checking Rd contents ... OK
* checking for unstated dependencies in examples ... OK
* checking contents of ‘data’ directory ... OK
* checking data for non-ASCII characters ... OK
* checking LazyData ... OK
* checking data for ASCII and uncompressed saves ... OK
* checking files in ‘vignettes’ ... OK
* checking examples ... OK
Examples with CPU (user + system) or elapsed time > 5s
                    user system elapsed
cemitool          11.904  0.291  12.235
plot_interactions  9.825  0.188  10.084
plot_ora           4.851  0.182   5.060
* checking for unstated dependencies in ‘tests’ ... OK
* checking tests ...
  Running ‘testthat.R’
 OK
* checking for unstated dependencies in vignettes ... OK
* checking package vignettes ... OK
* checking running R code from vignettes ... SKIPPED
* checking re-building of vignette outputs ... SKIPPED
* checking PDF version of manual ... OK
* DONE

Status: 1 NOTE
See
  ‘/Users/biocbuild/bbs-3.22-bioc/meat/CEMiTool.Rcheck/00check.log’
for details.


Installation output

CEMiTool.Rcheck/00install.out

##############################################################################
##############################################################################
###
### Running command:
###
###   /Library/Frameworks/R.framework/Resources/bin/R CMD INSTALL CEMiTool
###
##############################################################################
##############################################################################


* installing to library ‘/Library/Frameworks/R.framework/Versions/4.5-x86_64/Resources/library’
* installing *source* package ‘CEMiTool’ ...
** this is package ‘CEMiTool’ version ‘1.33.2’
** using staged installation
** R
** data
*** moving datasets to lazyload DB
** exec
** inst
** byte-compile and prepare package for lazy loading
** help
*** installing help indices
** building package indices
** installing vignettes
** testing if installed package can be loaded from temporary location
** testing if installed package can be loaded from final location
** testing if installed package keeps a record of temporary installation path
* DONE (CEMiTool)

Tests output

CEMiTool.Rcheck/tests/testthat.Rout


R version 4.5.1 Patched (2025-09-10 r88807) -- "Great Square Root"
Copyright (C) 2025 The R Foundation for Statistical Computing
Platform: x86_64-apple-darwin20

R is free software and comes with ABSOLUTELY NO WARRANTY.
You are welcome to redistribute it under certain conditions.
Type 'license()' or 'licence()' for distribution details.

R is a collaborative project with many contributors.
Type 'contributors()' for more information and
'citation()' on how to cite R or R packages in publications.

Type 'demo()' for some demos, 'help()' for on-line help, or
'help.start()' for an HTML browser interface to help.
Type 'q()' to quit R.

> library(testthat)
> library(CEMiTool)

> test_check('CEMiTool')
[ FAIL 0 | WARN 13 | SKIP 0 | PASS 105 ]

[ FAIL 0 | WARN 13 | SKIP 0 | PASS 105 ]
> 
> proc.time()
   user  system elapsed 
 30.468   1.367  32.082 

Example timings

CEMiTool.Rcheck/CEMiTool-Ex.timings

nameusersystemelapsed
CEMiTool-class0.0150.0040.018
adj_data0.8710.0220.896
cem0.0260.0050.031
cemitool11.904 0.29112.235
expr00.0010.0010.002
expr_data0.1230.0110.135
filter_expr0.1450.0060.151
find_modules1.9810.0312.017
fit_data1.9030.0331.945
generate_report0.0000.0010.001
get_adj0.1040.0040.108
get_beta_data0.8230.0210.847
get_cemitool_r2_beta1.9740.0282.016
get_connectivity1.9070.0271.945
get_hubs0.0120.0020.015
get_merged_mods1.0410.0171.064
get_mods0.8350.0130.852
get_phi1.8460.0211.872
gsea_data3.9360.0423.999
interactions_data0.2680.0260.297
mod_colors0.0150.0020.016
mod_gene_num0.0690.0050.075
mod_gsea1.6000.0251.637
mod_names0.0120.0030.015
mod_ora3.1440.1253.299
mod_summary0.1440.0070.153
module_genes0.0190.0100.028
new_cem0.0110.0030.014
nmodules0.0690.0120.083
ora_data3.5470.1323.705
plot_beta_r20.2430.0050.249
plot_gsea1.8300.0241.867
plot_hist0.4610.0080.473
plot_interactions 9.825 0.18810.084
plot_mean_k0.2430.0040.249
plot_mean_var0.5320.0200.556
plot_ora4.8510.1825.060
plot_profile2.1920.0292.234
plot_qq0.5200.0190.542
plot_sample_tree0.7690.0110.784
read_gmt0.5940.0140.614
sample_annot0.0020.0030.005
sample_annotation0.0120.0040.016
save_plots0.0430.0020.046
select_genes0.1790.0100.190
show_plot0.2200.0040.226
write_files1.1000.0521.164