| Back to Multiple platform build/check report for BioC 3.22: simplified long |
|
This page was generated on 2025-10-24 12:06 -0400 (Fri, 24 Oct 2025).
| Hostname | OS | Arch (*) | R version | Installed pkgs |
|---|---|---|---|---|
| nebbiolo2 | Linux (Ubuntu 24.04.3 LTS) | x86_64 | 4.5.1 Patched (2025-08-23 r88802) -- "Great Square Root" | 4898 |
| lconway | macOS 12.7.6 Monterey | x86_64 | 4.5.1 Patched (2025-09-10 r88807) -- "Great Square Root" | 4688 |
| kjohnson3 | macOS 13.7.7 Ventura | arm64 | 4.5.1 Patched (2025-09-10 r88807) -- "Great Square Root" | 4634 |
| taishan | Linux (openEuler 24.03 LTS) | aarch64 | 4.5.0 (2025-04-11) -- "How About a Twenty-Six" | 4658 |
| Click on any hostname to see more info about the system (e.g. compilers) (*) as reported by 'uname -p', except on Windows and Mac OS X | ||||
| Package 273/2359 | Hostname | OS / Arch | INSTALL | BUILD | CHECK | BUILD BIN | ||||||||
| CAGEr 2.15.2 (landing page) Charles Plessy
| nebbiolo2 | Linux (Ubuntu 24.04.3 LTS) / x86_64 | OK | OK | OK | |||||||||
| lconway | macOS 12.7.6 Monterey / x86_64 | OK | OK | OK | OK | |||||||||
| kjohnson3 | macOS 13.7.7 Ventura / arm64 | OK | OK | OK | OK | |||||||||
| taishan | Linux (openEuler 24.03 LTS) / aarch64 | OK | OK | OK | ||||||||||
|
To the developers/maintainers of the CAGEr package: - Allow up to 24 hours (and sometimes 48 hours) for your latest push to git@git.bioconductor.org:packages/CAGEr.git to reflect on this report. See Troubleshooting Build Report for more information. - Use the following Renviron settings to reproduce errors and warnings. - If 'R CMD check' started to fail recently on the Linux builder(s) over a missing dependency, add the missing dependency to 'Suggests:' in your DESCRIPTION file. See Renviron.bioc for more information. |
| Package: CAGEr |
| Version: 2.15.2 |
| Command: /Library/Frameworks/R.framework/Resources/bin/R CMD check --install=check:CAGEr.install-out.txt --library=/Library/Frameworks/R.framework/Resources/library --no-vignettes --timings CAGEr_2.15.2.tar.gz |
| StartedAt: 2025-10-23 18:53:15 -0400 (Thu, 23 Oct 2025) |
| EndedAt: 2025-10-23 18:56:59 -0400 (Thu, 23 Oct 2025) |
| EllapsedTime: 224.7 seconds |
| RetCode: 0 |
| Status: OK |
| CheckDir: CAGEr.Rcheck |
| Warnings: 0 |
##############################################################################
##############################################################################
###
### Running command:
###
### /Library/Frameworks/R.framework/Resources/bin/R CMD check --install=check:CAGEr.install-out.txt --library=/Library/Frameworks/R.framework/Resources/library --no-vignettes --timings CAGEr_2.15.2.tar.gz
###
##############################################################################
##############################################################################
* using log directory ‘/Users/biocbuild/bbs-3.22-bioc/meat/CAGEr.Rcheck’
* using R version 4.5.1 Patched (2025-09-10 r88807)
* using platform: aarch64-apple-darwin20
* R was compiled by
Apple clang version 16.0.0 (clang-1600.0.26.6)
GNU Fortran (GCC) 14.2.0
* running under: macOS Ventura 13.7.7
* using session charset: UTF-8
* using option ‘--no-vignettes’
* checking for file ‘CAGEr/DESCRIPTION’ ... OK
* this is package ‘CAGEr’ version ‘2.15.2’
* package encoding: UTF-8
* checking package namespace information ... OK
* checking package dependencies ... INFO
Imports includes 30 non-default packages.
Importing from so many packages makes the package vulnerable to any of
them becoming unavailable. Move as many as possible to Suggests and
use conditionally.
* checking if this is a source package ... OK
* checking if there is a namespace ... OK
* checking for hidden files and directories ... OK
* checking for portable file names ... OK
* checking for sufficient/correct file permissions ... OK
* checking whether package ‘CAGEr’ can be installed ... OK
* checking installed package size ... OK
* checking package directory ... OK
* checking ‘build’ directory ... OK
* checking DESCRIPTION meta-information ... OK
* checking top-level files ... OK
* checking for left-over files ... OK
* checking index information ... OK
* checking package subdirectories ... OK
* checking code files for non-ASCII characters ... OK
* checking R files for syntax errors ... OK
* checking whether the package can be loaded ... OK
* checking whether the package can be loaded with stated dependencies ... OK
* checking whether the package can be unloaded cleanly ... OK
* checking whether the namespace can be loaded with stated dependencies ... OK
* checking whether the namespace can be unloaded cleanly ... OK
* checking dependencies in R code ... OK
* checking S3 generic/method consistency ... OK
* checking replacement functions ... OK
* checking foreign function calls ... OK
* checking R code for possible problems ... OK
* checking Rd files ... OK
* checking Rd metadata ... OK
* checking Rd cross-references ... OK
* checking for missing documentation entries ... OK
* checking for code/documentation mismatches ... OK
* checking Rd \usage sections ... OK
* checking Rd contents ... OK
* checking for unstated dependencies in examples ... OK
* checking contents of ‘data’ directory ... OK
* checking data for non-ASCII characters ... OK
* checking LazyData ... OK
* checking data for ASCII and uncompressed saves ... OK
* checking files in ‘vignettes’ ... OK
* checking examples ... OK
Examples with CPU (user + system) or elapsed time > 5s
user system elapsed
paraclu 12.234 0.023 12.372
exportToTrack 10.415 0.058 10.608
scoreShift 6.498 0.042 6.657
aggregateTagClusters 6.132 0.046 6.211
* checking for unstated dependencies in vignettes ... OK
* checking package vignettes ... OK
* checking running R code from vignettes ... SKIPPED
* checking re-building of vignette outputs ... SKIPPED
* checking PDF version of manual ... OK
* DONE
Status: OK
CAGEr.Rcheck/00install.out
############################################################################## ############################################################################## ### ### Running command: ### ### /Library/Frameworks/R.framework/Resources/bin/R CMD INSTALL CAGEr ### ############################################################################## ############################################################################## * installing to library ‘/Library/Frameworks/R.framework/Versions/4.5-arm64/Resources/library’ * installing *source* package ‘CAGEr’ ... ** this is package ‘CAGEr’ version ‘2.15.2’ ** using staged installation ** R ** data *** moving datasets to lazyload DB ** inst ** byte-compile and prepare package for lazy loading ** help *** installing help indices ** building package indices ** installing vignettes ** testing if installed package can be loaded from temporary location ** testing if installed package can be loaded from final location ** testing if installed package keeps a record of temporary installation path * DONE (CAGEr)
CAGEr.Rcheck/CAGEr-Ex.timings
| name | user | system | elapsed | |
| CAGEexp-class | 1.718 | 0.238 | 1.986 | |
| CAGEr_Multicore | 1.747 | 0.004 | 1.765 | |
| CTSS-class | 0.082 | 0.001 | 0.083 | |
| CTSScoordinates | 0.026 | 0.002 | 0.028 | |
| CTSSnormalizedTpm | 0.220 | 0.003 | 0.223 | |
| CTSStagCount | 0.205 | 0.017 | 0.224 | |
| CTSStoGenes | 0.170 | 0.011 | 0.197 | |
| CustomConsensusClusters | 1.368 | 0.019 | 1.430 | |
| GeneExpDESeq2 | 0.166 | 0.003 | 0.170 | |
| GeneExpSE | 0.001 | 0.000 | 0.001 | |
| QuantileWidthFunctions | 0.044 | 0.000 | 0.045 | |
| TSSlogo | 0.821 | 0.014 | 0.842 | |
| aggregateTagClusters | 6.132 | 0.046 | 6.211 | |
| annotateCTSS | 3.513 | 0.010 | 3.572 | |
| byCtss | 0.007 | 0.000 | 0.007 | |
| consensusClusters | 0.046 | 0.001 | 0.047 | |
| consensusClustersDESeq2 | 0.545 | 0.001 | 0.553 | |
| consensusClustersTpm | 0.002 | 0.000 | 0.002 | |
| cumulativeCTSSdistribution | 1.195 | 0.022 | 1.229 | |
| distclu | 2.678 | 0.009 | 2.703 | |
| dot-ctss_summary_for_clusters | 0.254 | 0.001 | 0.254 | |
| exampleCAGEexp | 0.000 | 0.000 | 0.001 | |
| exportToTrack | 10.415 | 0.058 | 10.608 | |
| expressionClasses | 0.523 | 0.001 | 0.527 | |
| filteredCTSSidx | 0.003 | 0.000 | 0.003 | |
| flagLowExpCTSS | 0.011 | 0.000 | 0.010 | |
| genomeName | 0 | 0 | 0 | |
| getCTSS | 0.334 | 0.006 | 0.341 | |
| getExpressionProfiles | 1.602 | 0.009 | 1.623 | |
| getShiftingPromoters | 0.527 | 0.000 | 0.528 | |
| hanabi | 0.078 | 0.005 | 0.083 | |
| hanabiPlot | 0.112 | 0.015 | 0.127 | |
| import.CAGEscanMolecule | 0 | 0 | 0 | |
| import.CTSS | 0.027 | 0.001 | 0.028 | |
| import.bam | 0 | 0 | 0 | |
| import.bedCTSS | 0 | 0 | 0 | |
| import.bedScore | 0 | 0 | 0 | |
| import.bedmolecule | 0 | 0 | 0 | |
| import.bigwig | 0.134 | 0.001 | 0.136 | |
| importPublicData | 0 | 0 | 0 | |
| inputFiles | 0 | 0 | 0 | |
| inputFilesType | 0.000 | 0.001 | 0.001 | |
| librarySizes | 0.000 | 0.000 | 0.001 | |
| mapStats | 0.016 | 0.001 | 0.017 | |
| mergeCAGEsets | 0.730 | 0.008 | 0.747 | |
| mergeSamples | 0.187 | 0.002 | 0.191 | |
| moleculesGR2CTSS | 0.04 | 0.00 | 0.04 | |
| normalizeTagCount | 0.188 | 0.004 | 0.199 | |
| paraclu | 12.234 | 0.023 | 12.372 | |
| parseCAGEscanBlocksToGrangeTSS | 0.006 | 0.000 | 0.007 | |
| plotAnnot | 1.014 | 0.006 | 1.040 | |
| plotCorrelation | 0.076 | 0.001 | 0.077 | |
| plotExpressionProfiles | 2.665 | 0.080 | 2.787 | |
| plotInterquantileWidth | 0.745 | 0.004 | 0.748 | |
| plotReverseCumulatives | 1.488 | 0.030 | 1.554 | |
| quantilePositions | 3.600 | 0.031 | 3.653 | |
| quickEnhancers | 0 | 0 | 0 | |
| ranges2annot | 0.115 | 0.001 | 0.117 | |
| ranges2genes | 0.017 | 0.000 | 0.017 | |
| ranges2names | 0.018 | 0.000 | 0.018 | |
| resetCAGEexp | 0.093 | 0.001 | 0.094 | |
| rowSums.RleDataFrame | 0.007 | 0.000 | 0.007 | |
| rowsum.RleDataFrame | 0.007 | 0.001 | 0.007 | |
| sampleLabels | 0.001 | 0.000 | 0.002 | |
| scoreShift | 6.498 | 0.042 | 6.657 | |
| seqNameTotalsSE | 0.001 | 0.000 | 0.002 | |
| setColors | 0.138 | 0.002 | 0.139 | |
| strandInvaders | 0.251 | 0.027 | 0.278 | |
| summariseChrExpr | 0.175 | 0.011 | 0.186 | |
| tagClusters | 0.128 | 0.012 | 0.142 | |