| Back to Multiple platform build/check report for BioC 3.22: simplified long |
|
This page was generated on 2025-10-24 12:04 -0400 (Fri, 24 Oct 2025).
| Hostname | OS | Arch (*) | R version | Installed pkgs |
|---|---|---|---|---|
| nebbiolo2 | Linux (Ubuntu 24.04.3 LTS) | x86_64 | 4.5.1 Patched (2025-08-23 r88802) -- "Great Square Root" | 4898 |
| lconway | macOS 12.7.6 Monterey | x86_64 | 4.5.1 Patched (2025-09-10 r88807) -- "Great Square Root" | 4688 |
| kjohnson3 | macOS 13.7.7 Ventura | arm64 | 4.5.1 Patched (2025-09-10 r88807) -- "Great Square Root" | 4634 |
| taishan | Linux (openEuler 24.03 LTS) | aarch64 | 4.5.0 (2025-04-11) -- "How About a Twenty-Six" | 4658 |
| Click on any hostname to see more info about the system (e.g. compilers) (*) as reported by 'uname -p', except on Windows and Mac OS X | ||||
| Package 271/2359 | Hostname | OS / Arch | INSTALL | BUILD | CHECK | BUILD BIN | ||||||||
| CAGEfightR 1.29.1 (landing page) Malte Thodberg
| nebbiolo2 | Linux (Ubuntu 24.04.3 LTS) / x86_64 | OK | OK | OK | |||||||||
| lconway | macOS 12.7.6 Monterey / x86_64 | OK | OK | OK | OK | |||||||||
| kjohnson3 | macOS 13.7.7 Ventura / arm64 | OK | OK | OK | OK | |||||||||
| taishan | Linux (openEuler 24.03 LTS) / aarch64 | OK | OK | OK | ||||||||||
|
To the developers/maintainers of the CAGEfightR package: - Allow up to 24 hours (and sometimes 48 hours) for your latest push to git@git.bioconductor.org:packages/CAGEfightR.git to reflect on this report. See Troubleshooting Build Report for more information. - Use the following Renviron settings to reproduce errors and warnings. - If 'R CMD check' started to fail recently on the Linux builder(s) over a missing dependency, add the missing dependency to 'Suggests:' in your DESCRIPTION file. See Renviron.bioc for more information. |
| Package: CAGEfightR |
| Version: 1.29.1 |
| Command: /Library/Frameworks/R.framework/Resources/bin/R CMD check --install=check:CAGEfightR.install-out.txt --library=/Library/Frameworks/R.framework/Resources/library --no-vignettes --timings CAGEfightR_1.29.1.tar.gz |
| StartedAt: 2025-10-23 19:51:20 -0400 (Thu, 23 Oct 2025) |
| EndedAt: 2025-10-23 19:58:34 -0400 (Thu, 23 Oct 2025) |
| EllapsedTime: 434.0 seconds |
| RetCode: 0 |
| Status: OK |
| CheckDir: CAGEfightR.Rcheck |
| Warnings: 0 |
##############################################################################
##############################################################################
###
### Running command:
###
### /Library/Frameworks/R.framework/Resources/bin/R CMD check --install=check:CAGEfightR.install-out.txt --library=/Library/Frameworks/R.framework/Resources/library --no-vignettes --timings CAGEfightR_1.29.1.tar.gz
###
##############################################################################
##############################################################################
* using log directory ‘/Users/biocbuild/bbs-3.22-bioc/meat/CAGEfightR.Rcheck’
* using R version 4.5.1 Patched (2025-09-10 r88807)
* using platform: x86_64-apple-darwin20
* R was compiled by
Apple clang version 14.0.0 (clang-1400.0.29.202)
GNU Fortran (GCC) 14.2.0
* running under: macOS Monterey 12.7.6
* using session charset: UTF-8
* using option ‘--no-vignettes’
* checking for file ‘CAGEfightR/DESCRIPTION’ ... OK
* checking extension type ... Package
* this is package ‘CAGEfightR’ version ‘1.29.1’
* package encoding: UTF-8
* checking package namespace information ... OK
* checking package dependencies ... OK
* checking if this is a source package ... OK
* checking if there is a namespace ... OK
* checking for hidden files and directories ... OK
* checking for portable file names ... OK
* checking for sufficient/correct file permissions ... OK
* checking whether package ‘CAGEfightR’ can be installed ... OK
* checking installed package size ... OK
* checking package directory ... OK
* checking ‘build’ directory ... OK
* checking DESCRIPTION meta-information ... OK
* checking top-level files ... OK
* checking for left-over files ... OK
* checking index information ... OK
* checking package subdirectories ... OK
* checking code files for non-ASCII characters ... OK
* checking R files for syntax errors ... OK
* checking whether the package can be loaded ... OK
* checking whether the package can be loaded with stated dependencies ... OK
* checking whether the package can be unloaded cleanly ... OK
* checking whether the namespace can be loaded with stated dependencies ... OK
* checking whether the namespace can be unloaded cleanly ... OK
* checking whether startup messages can be suppressed ... OK
* checking dependencies in R code ... OK
* checking S3 generic/method consistency ... OK
* checking replacement functions ... OK
* checking foreign function calls ... OK
* checking R code for possible problems ... OK
* checking Rd files ... OK
* checking Rd metadata ... OK
* checking Rd cross-references ... OK
* checking for missing documentation entries ... OK
* checking for code/documentation mismatches ... OK
* checking Rd \usage sections ... OK
* checking Rd contents ... OK
* checking for unstated dependencies in examples ... OK
* checking contents of ‘data’ directory ... OK
* checking data for non-ASCII characters ... OK
* checking LazyData ... OK
* checking data for ASCII and uncompressed saves ... OK
* checking files in ‘vignettes’ ... OK
* checking examples ... OK
Examples with CPU (user + system) or elapsed time > 5s
user system elapsed
findLinks 6.434 0.754 6.729
* checking for unstated dependencies in vignettes ... OK
* checking package vignettes ... OK
* checking running R code from vignettes ... SKIPPED
* checking re-building of vignette outputs ... SKIPPED
* checking PDF version of manual ... OK
* DONE
Status: OK
CAGEfightR.Rcheck/00install.out
############################################################################## ############################################################################## ### ### Running command: ### ### /Library/Frameworks/R.framework/Resources/bin/R CMD INSTALL CAGEfightR ### ############################################################################## ############################################################################## * installing to library ‘/Library/Frameworks/R.framework/Versions/4.5-x86_64/Resources/library’ * installing *source* package ‘CAGEfightR’ ... ** this is package ‘CAGEfightR’ version ‘1.29.1’ ** using staged installation ** R ** data *** moving datasets to lazyload DB ** inst ** byte-compile and prepare package for lazy loading ** help *** installing help indices ** building package indices ** installing vignettes ** testing if installed package can be loaded from temporary location ** testing if installed package can be loaded from final location ** testing if installed package keeps a record of temporary installation path * DONE (CAGEfightR)
CAGEfightR.Rcheck/CAGEfightR-Ex.timings
| name | user | system | elapsed | |
| assignGeneID | 3.890 | 0.125 | 4.076 | |
| assignMissingID | 1.132 | 0.043 | 1.183 | |
| assignTxID | 0.990 | 0.024 | 1.019 | |
| assignTxType | 0.000 | 0.001 | 0.000 | |
| balanceBC | 0.000 | 0.000 | 0.001 | |
| balanceD | 0 | 0 | 0 | |
| bwCommonGenome | 0.041 | 0.006 | 0.049 | |
| bwGenomeCompatibility | 0.023 | 0.004 | 0.028 | |
| bwValid | 0.009 | 0.003 | 0.013 | |
| calcBidirectionality | 0.498 | 0.017 | 0.519 | |
| calcComposition | 2.507 | 0.046 | 2.568 | |
| calcPooled | 0.118 | 0.014 | 0.133 | |
| calcShape | 2.376 | 0.142 | 2.534 | |
| calcSupport | 0.107 | 0.005 | 0.113 | |
| calcTPM | 0.135 | 0.004 | 0.141 | |
| calcTotalTags | 0.066 | 0.003 | 0.071 | |
| checkCTSSs | 0.250 | 0.005 | 0.257 | |
| checkPeaked | 0.073 | 0.003 | 0.077 | |
| checkPooled | 0.063 | 0.003 | 0.066 | |
| clusterBidirectionally | 0.000 | 0.000 | 0.001 | |
| clusterUnidirectionally | 1.678 | 0.030 | 1.717 | |
| combineClusters | 0.922 | 0.019 | 0.947 | |
| convertBAM2BigWig | 0 | 0 | 0 | |
| convertBED2BigWig | 0.000 | 0.000 | 0.001 | |
| convertGRanges2GPos | 0.088 | 0.001 | 0.089 | |
| exampleDesign | 0.005 | 0.008 | 0.012 | |
| findLinks | 6.434 | 0.754 | 6.729 | |
| findStretches | 0.430 | 0.061 | 0.493 | |
| quantifyCTSSs | 0.000 | 0.001 | 0.001 | |
| quantifyCTSSs2 | 0.001 | 0.001 | 0.001 | |
| quantifyClusters | 0.409 | 0.050 | 0.460 | |
| quantifyGenes | 1.382 | 0.108 | 1.497 | |
| quickEnhancers | 0 | 0 | 0 | |
| quickGenes | 0.000 | 0.001 | 0.000 | |
| quickTSSs | 0 | 0 | 0 | |
| shapeEntropy | 0.000 | 0.001 | 0.001 | |
| shapeIQR | 0.001 | 0.000 | 0.001 | |
| shapeMean | 0.001 | 0.000 | 0.001 | |
| shapeMultimodality | 0.000 | 0.000 | 0.001 | |
| subsetByBidirectionality | 0.469 | 0.025 | 0.496 | |
| subsetByComposition | 1.308 | 0.048 | 1.363 | |
| subsetBySupport | 0.089 | 0.008 | 0.097 | |
| swapRanges | 0.230 | 0.017 | 0.249 | |
| swapScores | 0.102 | 0.004 | 0.108 | |
| trackBalance | 0 | 0 | 0 | |
| trackCTSS | 3.601 | 0.226 | 3.850 | |
| trackClusters | 2.312 | 0.038 | 2.369 | |
| trackLinks | 1.141 | 0.469 | 1.480 | |
| trimToPeak | 1.105 | 0.345 | 1.409 | |
| trimToPercentiles | 2.271 | 0.053 | 2.338 | |
| tuneTagClustering | 0 | 0 | 0 | |
| utilsAggregateRows | 0.385 | 0.452 | 0.851 | |
| utilsDeStrand | 0.158 | 0.004 | 0.161 | |
| utilsScoreOverlaps | 0.086 | 0.002 | 0.089 | |
| utilsSimplifyTxDb | 0 | 0 | 0 | |