| Back to Multiple platform build/check report for BioC 3.22: simplified long |
|
This page was generated on 2025-08-15 12:06 -0400 (Fri, 15 Aug 2025).
| Hostname | OS | Arch (*) | R version | Installed pkgs |
|---|---|---|---|---|
| nebbiolo2 | Linux (Ubuntu 24.04.3 LTS) | x86_64 | 4.5.1 (2025-06-13) -- "Great Square Root" | 4818 |
| palomino8 | Windows Server 2022 Datacenter | x64 | 4.5.1 (2025-06-13 ucrt) -- "Great Square Root" | 4554 |
| lconway | macOS 12.7.1 Monterey | x86_64 | 4.5.1 (2025-06-13) -- "Great Square Root" | 4595 |
| kjohnson3 | macOS 13.7.7 Ventura | arm64 | 4.5.1 Patched (2025-06-14 r88325) -- "Great Square Root" | 4537 |
| taishan | Linux (openEuler 24.03 LTS) | aarch64 | 4.5.0 (2025-04-11) -- "How About a Twenty-Six" | 4535 |
| Click on any hostname to see more info about the system (e.g. compilers) (*) as reported by 'uname -p', except on Windows and Mac OS X | ||||
| Package 252/2317 | Hostname | OS / Arch | INSTALL | BUILD | CHECK | BUILD BIN | ||||||||
| BufferedMatrixMethods 1.73.0 (landing page) Ben Bolstad
| nebbiolo2 | Linux (Ubuntu 24.04.3 LTS) / x86_64 | OK | OK | OK | |||||||||
| palomino8 | Windows Server 2022 Datacenter / x64 | OK | OK | OK | OK | |||||||||
| lconway | macOS 12.7.1 Monterey / x86_64 | OK | OK | OK | OK | |||||||||
| kjohnson3 | macOS 13.7.7 Ventura / arm64 | OK | OK | OK | OK | |||||||||
| taishan | Linux (openEuler 24.03 LTS) / aarch64 | OK | OK | OK | ||||||||||
|
To the developers/maintainers of the BufferedMatrixMethods package: - Allow up to 24 hours (and sometimes 48 hours) for your latest push to git@git.bioconductor.org:packages/BufferedMatrixMethods.git to reflect on this report. See Troubleshooting Build Report for more information. - Use the following Renviron settings to reproduce errors and warnings. - If 'R CMD check' started to fail recently on the Linux builder(s) over a missing dependency, add the missing dependency to 'Suggests:' in your DESCRIPTION file. See Renviron.bioc for more information. |
| Package: BufferedMatrixMethods |
| Version: 1.73.0 |
| Command: F:\biocbuild\bbs-3.22-bioc\R\bin\R.exe CMD check --no-multiarch --install=check:BufferedMatrixMethods.install-out.txt --library=F:\biocbuild\bbs-3.22-bioc\R\library --no-vignettes --timings BufferedMatrixMethods_1.73.0.tar.gz |
| StartedAt: 2025-08-15 01:14:41 -0400 (Fri, 15 Aug 2025) |
| EndedAt: 2025-08-15 01:15:19 -0400 (Fri, 15 Aug 2025) |
| EllapsedTime: 38.1 seconds |
| RetCode: 0 |
| Status: OK |
| CheckDir: BufferedMatrixMethods.Rcheck |
| Warnings: 0 |
##############################################################################
##############################################################################
###
### Running command:
###
### F:\biocbuild\bbs-3.22-bioc\R\bin\R.exe CMD check --no-multiarch --install=check:BufferedMatrixMethods.install-out.txt --library=F:\biocbuild\bbs-3.22-bioc\R\library --no-vignettes --timings BufferedMatrixMethods_1.73.0.tar.gz
###
##############################################################################
##############################################################################
* using log directory 'F:/biocbuild/bbs-3.22-bioc/meat/BufferedMatrixMethods.Rcheck'
* using R version 4.5.1 (2025-06-13 ucrt)
* using platform: x86_64-w64-mingw32
* R was compiled by
gcc.exe (GCC) 14.2.0
GNU Fortran (GCC) 14.2.0
* running under: Windows Server 2022 x64 (build 20348)
* using session charset: UTF-8
* using option '--no-vignettes'
* checking for file 'BufferedMatrixMethods/DESCRIPTION' ... OK
* checking extension type ... Package
* this is package 'BufferedMatrixMethods' version '1.73.0'
* checking package namespace information ... OK
* checking package dependencies ... OK
* checking if this is a source package ... OK
* checking if there is a namespace ... OK
* checking for hidden files and directories ... OK
* checking for portable file names ... OK
* checking whether package 'BufferedMatrixMethods' can be installed ... OK
* used C compiler: 'gcc.exe (GCC) 14.2.0'
* checking installed package size ... OK
* checking package directory ... OK
* checking DESCRIPTION meta-information ... NOTE
Malformed Description field: should contain one or more complete sentences.
* checking top-level files ... OK
* checking for left-over files ... OK
* checking index information ... OK
* checking package subdirectories ... OK
* checking code files for non-ASCII characters ... OK
* checking R files for syntax errors ... OK
* checking whether the package can be loaded ... OK
* checking whether the package can be loaded with stated dependencies ... OK
* checking whether the package can be unloaded cleanly ... OK
* checking whether the namespace can be loaded with stated dependencies ... OK
* checking whether the namespace can be unloaded cleanly ... OK
* checking dependencies in R code ... NOTE
'library' or 'require' calls in package code:
'affy' 'affyio'
Please use :: or requireNamespace() instead.
See section 'Suggested packages' in the 'Writing R Extensions' manual.
Packages in Depends field not imported from:
'BufferedMatrix' 'methods'
These packages need to be imported from (in the NAMESPACE file)
for when this namespace is loaded but not attached.
* checking S3 generic/method consistency ... OK
* checking replacement functions ... OK
* checking foreign function calls ... NOTE
Foreign function calls to a different package:
.Call("ReadHeader", ..., PACKAGE = "affyio")
.Call("read_probeintensities", ..., PACKAGE = "affyio")
See chapter 'System and foreign language interfaces' in the 'Writing R
Extensions' manual.
* checking R code for possible problems ... NOTE
NB: .First.lib is obsolete and will not be used in R >= 3.0.0
BufferedMatrix.bg.correct.normalize.quantiles: no visible global
function definition for 'is'
BufferedMatrix.bg.correct.normalize.quantiles: no visible global
function definition for 'duplicate'
BufferedMatrix.bg.correct.normalize.quantiles : bg.dens: no visible
global function definition for 'density'
BufferedMatrix.justRMA: no visible global function definition for 'new'
BufferedMatrix.justRMA: no visible global function definition for
'pData'
BufferedMatrix.justRMA: no visible global function definition for
'read.celfile.header'
BufferedMatrix.justRMA: no visible global function definition for
'cleancdfname'
BufferedMatrix.justRMA: no visible global function definition for
'pmindex'
BufferedMatrix.justRMA: no visible global function definition for
'geneNames'
BufferedMatrix.justRMA: no visible global function definition for
'set.buffer.dim'
BufferedMatrix.justRMA: no visible global function definition for
'RowMode'
BufferedMatrix.justRMA: no visible global function definition for
'notes<-'
BufferedMatrix.read.celfiles: no visible global function definition for
'createBufferedMatrix'
BufferedMatrix.read.celfiles: no visible global function definition for
'read.celfile'
BufferedMatrix.read.celfiles: no visible global function definition for
'AddColumn'
BufferedMatrix.read.probematrix: no visible global function definition
for 'new'
BufferedMatrix.read.probematrix: no visible global function definition
for 'cleancdfname'
BufferedMatrix.read.probematrix: no visible global function definition
for 'getCdfInfo'
BufferedMatrix.read.probematrix: no visible global function definition
for 'createBufferedMatrix'
BufferedMatrix.read.probematrix: no visible global function definition
for 'AddColumn'
bg.correct.BufferedMatrix: no visible global function definition for
'is'
bg.correct.BufferedMatrix: no visible global function definition for
'duplicate'
bg.correct.BufferedMatrix : bg.dens: no visible global function
definition for 'density'
normalize.BufferedMatrix.quantiles: no visible global function
definition for 'is'
normalize.BufferedMatrix.quantiles: no visible global function
definition for 'duplicate'
Undefined global functions or variables:
AddColumn RowMode cleancdfname createBufferedMatrix density duplicate
geneNames getCdfInfo is new notes<- pData pmindex read.celfile
read.celfile.header set.buffer.dim
Consider adding
importFrom("methods", "is", "new")
importFrom("stats", "density")
to your NAMESPACE file (and ensure that your DESCRIPTION Imports field
contains 'methods').
* checking Rd files ... OK
* checking Rd metadata ... OK
* checking Rd cross-references ... NOTE
Non-topic package-anchored link(s) in Rd file 'BM_justRMA.Rd':
'[Biobase:class.AnnotatedDataFrame]{AnnotatedDataFrame}'
'[Biobase:class.MIAME]{MIAME}'
'[BufferedMatrixMethods:BM_affyDataInput]{BufferedMatrix.read.probematrix}'
Non-topic package-anchored link(s) in Rd file 'BM_readcelfiles.Rd':
'[BufferedMatrixMethods:BM_affyDataInput]{BufferedMatrix.read.probematrix}'
See section 'Cross-references' in the 'Writing R Extensions' manual.
* checking for missing documentation entries ... OK
* checking for code/documentation mismatches ... OK
* checking Rd \usage sections ... OK
* checking Rd contents ... OK
* checking for unstated dependencies in examples ... OK
* checking line endings in C/C++/Fortran sources/headers ... OK
* checking compiled code ... NOTE
Note: information on .o files for x64 is not available
File 'F:/biocbuild/bbs-3.22-bioc/R/library/BufferedMatrixMethods/libs/x64/BufferedMatrixMethods.dll':
Found '_exit', possibly from '_exit' (C)
Found 'abort', possibly from 'abort' (C), 'runtime' (Fortran)
Compiled code should not call entry points which might terminate R nor
write to stdout/stderr instead of to the console, nor use Fortran I/O
nor system RNGs nor [v]sprintf. The detected symbols are linked into
the code but might come from libraries and not actually be called.
See 'Writing portable packages' in the 'Writing R Extensions' manual.
* checking examples ... NONE
* checking PDF version of manual ... OK
* DONE
Status: 6 NOTEs
See
'F:/biocbuild/bbs-3.22-bioc/meat/BufferedMatrixMethods.Rcheck/00check.log'
for details.
BufferedMatrixMethods.Rcheck/00install.out
##############################################################################
##############################################################################
###
### Running command:
###
### F:\biocbuild\bbs-3.22-bioc\R\bin\R.exe CMD INSTALL BufferedMatrixMethods
###
##############################################################################
##############################################################################
* installing to library 'F:/biocbuild/bbs-3.22-bioc/R/library'
* installing *source* package 'BufferedMatrixMethods' ...
** this is package 'BufferedMatrixMethods' version '1.73.0'
** using staged installation
** libs
using C compiler: 'gcc.exe (GCC) 14.2.0'
gcc -I"F:/biocbuild/bbs-3.22-bioc/R/include" -DNDEBUG -I'F:/biocbuild/bbs-3.22-bioc/R/library/BufferedMatrix/include' -I"C:/rtools45/x86_64-w64-mingw32.static.posix/include" -O2 -Wall -std=gnu2x -mfpmath=sse -msse2 -mstackrealign -c init_package.c -o init_package.o
gcc -I"F:/biocbuild/bbs-3.22-bioc/R/include" -DNDEBUG -I'F:/biocbuild/bbs-3.22-bioc/R/library/BufferedMatrix/include' -I"C:/rtools45/x86_64-w64-mingw32.static.posix/include" -O2 -Wall -std=gnu2x -mfpmath=sse -msse2 -mstackrealign -c preprocess_bm.c -o preprocess_bm.o
preprocess_bm.c: In function 'bm_rma_bg_correct':
preprocess_bm.c:344:7: warning: unused variable 'i' [-Wunused-variable]
344 | int i,j;
| ^
preprocess_bm.c: In function 'R_bm_rma_bg_correct':
preprocess_bm.c:378:7: warning: unused variable 'current_mode' [-Wunused-variable]
378 | int current_mode;
| ^~~~~~~~~~~~
preprocess_bm.c: In function 'R_bm_quantile_normalize':
preprocess_bm.c:593:7: warning: unused variable 'current_mode' [-Wunused-variable]
593 | int current_mode;
| ^~~~~~~~~~~~
preprocess_bm.c: In function 'do_RMA_buffmat':
preprocess_bm.c:924:7: warning: variable 'first_ind' set but not used [-Wunused-but-set-variable]
924 | int first_ind;
| ^~~~~~~~~
preprocess_bm.c: In function 'R_bm_rma_bg_correct_quantile_normalize':
preprocess_bm.c:1151:7: warning: unused variable 'current_mode' [-Wunused-variable]
1151 | int current_mode;
| ^~~~~~~~~~~~
preprocess_bm.c: At top level:
preprocess_bm.c:453:12: warning: 'min' defined but not used [-Wunused-function]
453 | static int min(int x1,int x2){
| ^~~
gcc -shared -s -static-libgcc -o BufferedMatrixMethods.dll tmp.def init_package.o preprocess_bm.o -LC:/rtools45/x86_64-w64-mingw32.static.posix/lib/x64 -LC:/rtools45/x86_64-w64-mingw32.static.posix/lib -LF:/biocbuild/bbs-3.22-bioc/R/bin/x64 -lR
installing to F:/biocbuild/bbs-3.22-bioc/R/library/00LOCK-BufferedMatrixMethods/00new/BufferedMatrixMethods/libs/x64
** R
** byte-compile and prepare package for lazy loading
** help
*** installing help indices
** building package indices
** testing if installed package can be loaded from temporary location
** testing if installed package can be loaded from final location
** testing if installed package keeps a record of temporary installation path
* DONE (BufferedMatrixMethods)