| Back to Multiple platform build/check report for BioC 3.22: simplified long |
|
This page was generated on 2025-08-15 12:06 -0400 (Fri, 15 Aug 2025).
| Hostname | OS | Arch (*) | R version | Installed pkgs |
|---|---|---|---|---|
| nebbiolo2 | Linux (Ubuntu 24.04.3 LTS) | x86_64 | 4.5.1 (2025-06-13) -- "Great Square Root" | 4818 |
| palomino8 | Windows Server 2022 Datacenter | x64 | 4.5.1 (2025-06-13 ucrt) -- "Great Square Root" | 4554 |
| lconway | macOS 12.7.1 Monterey | x86_64 | 4.5.1 (2025-06-13) -- "Great Square Root" | 4595 |
| kjohnson3 | macOS 13.7.7 Ventura | arm64 | 4.5.1 Patched (2025-06-14 r88325) -- "Great Square Root" | 4537 |
| taishan | Linux (openEuler 24.03 LTS) | aarch64 | 4.5.0 (2025-04-11) -- "How About a Twenty-Six" | 4535 |
| Click on any hostname to see more info about the system (e.g. compilers) (*) as reported by 'uname -p', except on Windows and Mac OS X | ||||
| Package 241/2317 | Hostname | OS / Arch | INSTALL | BUILD | CHECK | BUILD BIN | ||||||||
| BreastSubtypeR 1.1.2 (landing page) Qiao Yang
| nebbiolo2 | Linux (Ubuntu 24.04.3 LTS) / x86_64 | OK | OK | OK | |||||||||
| palomino8 | Windows Server 2022 Datacenter / x64 | OK | OK | OK | OK | |||||||||
| lconway | macOS 12.7.1 Monterey / x86_64 | OK | OK | OK | OK | |||||||||
| kjohnson3 | macOS 13.7.7 Ventura / arm64 | OK | OK | OK | OK | |||||||||
| taishan | Linux (openEuler 24.03 LTS) / aarch64 | OK | OK | OK | ||||||||||
|
To the developers/maintainers of the BreastSubtypeR package: - Allow up to 24 hours (and sometimes 48 hours) for your latest push to git@git.bioconductor.org:packages/BreastSubtypeR.git to reflect on this report. See Troubleshooting Build Report for more information. - Use the following Renviron settings to reproduce errors and warnings. - If 'R CMD check' started to fail recently on the Linux builder(s) over a missing dependency, add the missing dependency to 'Suggests:' in your DESCRIPTION file. See Renviron.bioc for more information. |
| Package: BreastSubtypeR |
| Version: 1.1.2 |
| Command: F:\biocbuild\bbs-3.22-bioc\R\bin\R.exe CMD check --no-multiarch --install=check:BreastSubtypeR.install-out.txt --library=F:\biocbuild\bbs-3.22-bioc\R\library --no-vignettes --timings BreastSubtypeR_1.1.2.tar.gz |
| StartedAt: 2025-08-15 01:11:53 -0400 (Fri, 15 Aug 2025) |
| EndedAt: 2025-08-15 01:16:24 -0400 (Fri, 15 Aug 2025) |
| EllapsedTime: 270.2 seconds |
| RetCode: 0 |
| Status: OK |
| CheckDir: BreastSubtypeR.Rcheck |
| Warnings: 0 |
##############################################################################
##############################################################################
###
### Running command:
###
### F:\biocbuild\bbs-3.22-bioc\R\bin\R.exe CMD check --no-multiarch --install=check:BreastSubtypeR.install-out.txt --library=F:\biocbuild\bbs-3.22-bioc\R\library --no-vignettes --timings BreastSubtypeR_1.1.2.tar.gz
###
##############################################################################
##############################################################################
* using log directory 'F:/biocbuild/bbs-3.22-bioc/meat/BreastSubtypeR.Rcheck'
* using R version 4.5.1 (2025-06-13 ucrt)
* using platform: x86_64-w64-mingw32
* R was compiled by
gcc.exe (GCC) 14.2.0
GNU Fortran (GCC) 14.2.0
* running under: Windows Server 2022 x64 (build 20348)
* using session charset: UTF-8
* using option '--no-vignettes'
* checking for file 'BreastSubtypeR/DESCRIPTION' ... OK
* checking extension type ... Package
* this is package 'BreastSubtypeR' version '1.1.2'
* package encoding: UTF-8
* checking package namespace information ... OK
* checking package dependencies ... OK
* checking if this is a source package ... OK
* checking if there is a namespace ... OK
* checking for hidden files and directories ... OK
* checking for portable file names ... OK
* checking whether package 'BreastSubtypeR' can be installed ... OK
* checking installed package size ... OK
* checking package directory ... OK
* checking 'build' directory ... OK
* checking DESCRIPTION meta-information ... OK
* checking top-level files ... OK
* checking for left-over files ... OK
* checking index information ... OK
* checking package subdirectories ... OK
* checking code files for non-ASCII characters ... OK
* checking R files for syntax errors ... OK
* checking whether the package can be loaded ... OK
* checking whether the package can be loaded with stated dependencies ... OK
* checking whether the package can be unloaded cleanly ... OK
* checking whether the namespace can be loaded with stated dependencies ... OK
* checking whether the namespace can be unloaded cleanly ... OK
* checking dependencies in R code ... OK
* checking S3 generic/method consistency ... OK
* checking replacement functions ... OK
* checking foreign function calls ... OK
* checking R code for possible problems ... OK
* checking Rd files ... OK
* checking Rd metadata ... OK
* checking Rd cross-references ... OK
* checking for missing documentation entries ... OK
* checking for code/documentation mismatches ... OK
* checking Rd \usage sections ... OK
* checking Rd contents ... OK
* checking for unstated dependencies in examples ... OK
* checking contents of 'data' directory ... OK
* checking data for non-ASCII characters ... OK
* checking data for ASCII and uncompressed saves ... OK
* checking files in 'vignettes' ... OK
* checking examples ... OK
Examples with CPU (user + system) or elapsed time > 5s
user system elapsed
Vis_heatmap 6.54 0.08 6.6
* checking for unstated dependencies in 'tests' ... OK
* checking tests ...
Running 'testthat.R'
OK
* checking for unstated dependencies in vignettes ... OK
* checking package vignettes ... OK
* checking running R code from vignettes ... SKIPPED
* checking re-building of vignette outputs ... SKIPPED
* checking PDF version of manual ... OK
* DONE
Status: OK
BreastSubtypeR.Rcheck/00install.out
############################################################################## ############################################################################## ### ### Running command: ### ### F:\biocbuild\bbs-3.22-bioc\R\bin\R.exe CMD INSTALL BreastSubtypeR ### ############################################################################## ############################################################################## * installing to library 'F:/biocbuild/bbs-3.22-bioc/R/library' * installing *source* package 'BreastSubtypeR' ... ** this is package 'BreastSubtypeR' version '1.1.2' ** using staged installation ** R ** data ** inst ** byte-compile and prepare package for lazy loading ** help *** installing help indices ** building package indices ** installing vignettes ** testing if installed package can be loaded from temporary location ** testing if installed package can be loaded from final location ** testing if installed package keeps a record of temporary installation path * DONE (BreastSubtypeR)
BreastSubtypeR.Rcheck/tests/testthat.Rout
R version 4.5.1 (2025-06-13 ucrt) -- "Great Square Root"
Copyright (C) 2025 The R Foundation for Statistical Computing
Platform: x86_64-w64-mingw32/x64
R is free software and comes with ABSOLUTELY NO WARRANTY.
You are welcome to redistribute it under certain conditions.
Type 'license()' or 'licence()' for distribution details.
R is a collaborative project with many contributors.
Type 'contributors()' for more information and
'citation()' on how to cite R or R packages in publications.
Type 'demo()' for some demos, 'help()' for on-line help, or
'help.start()' for an HTML browser interface to help.
Type 'q()' to quit R.
> library(testthat)
> library(BreastSubtypeR)
>
> test_that("BS_Multi performs subtyping correctly", {
+ # Load required dataset
+ data("OSLO2EMIT0obj")
+
+ # Define methods to use for subtyping
+ methods <- c("genefu.robust", "PCAPAM50", "ssBC", "AIMS")
+
+ # Perform subtyping
+ res.test <- BS_Multi(
+ data_input = OSLO2EMIT0obj$data_input,
+ methods = methods,
+ Subtype = FALSE,
+ hasClinical = FALSE
+ )
+
+ # Validate results
+ expect_true(identical(res.test$res_subtypes[, methods], OSLO2EMIT0obj$res$res_subtypes[, methods])) # Validate results
+ })
Test passed 😀
>
> proc.time()
user system elapsed
11.98 0.79 12.71
BreastSubtypeR.Rcheck/BreastSubtypeR-Ex.timings
| name | user | system | elapsed | |
| AIMSmodel | 0.01 | 0.00 | 0.01 | |
| BS_AIMS | 0.94 | 0.04 | 0.98 | |
| BS_Multi | 0.72 | 0.07 | 0.80 | |
| BS_PCAPAM50 | 0.45 | 0.02 | 0.46 | |
| BS_cIHC | 0.24 | 0.00 | 0.24 | |
| BS_cIHC.itr | 2.13 | 0.05 | 2.18 | |
| BS_parker | 0.22 | 0.00 | 0.22 | |
| BS_ssBC | 0.50 | 0.01 | 0.52 | |
| BS_sspbc | 0.66 | 0.02 | 0.67 | |
| BreastSubtypeRobj | 0 | 0 | 0 | |
| Gene.ID.ann | 0.20 | 0.00 | 0.21 | |
| Mapping | 1.28 | 0.11 | 1.39 | |
| OSLO2EMIT0obj | 0.02 | 0.00 | 0.02 | |
| Vis_Multi | 1.55 | 0.55 | 1.30 | |
| Vis_PCA | 0.95 | 0.40 | 0.85 | |
| Vis_boxplot | 0.20 | 0.02 | 0.22 | |
| Vis_heatmap | 6.54 | 0.08 | 6.60 | |
| Vis_pie | 0.65 | 0.01 | 0.68 | |
| iBreastSubtypeR | 0 | 0 | 0 | |
| sspbc.models | 0.02 | 0.00 | 0.01 | |
| sspbc.models.fullname | 0.01 | 0.00 | 0.02 | |