| Back to Multiple platform build/check report for BioC 3.22: simplified long |
|
This page was generated on 2025-10-24 12:04 -0400 (Fri, 24 Oct 2025).
| Hostname | OS | Arch (*) | R version | Installed pkgs |
|---|---|---|---|---|
| nebbiolo2 | Linux (Ubuntu 24.04.3 LTS) | x86_64 | 4.5.1 Patched (2025-08-23 r88802) -- "Great Square Root" | 4898 |
| lconway | macOS 12.7.6 Monterey | x86_64 | 4.5.1 Patched (2025-09-10 r88807) -- "Great Square Root" | 4688 |
| kjohnson3 | macOS 13.7.7 Ventura | arm64 | 4.5.1 Patched (2025-09-10 r88807) -- "Great Square Root" | 4634 |
| taishan | Linux (openEuler 24.03 LTS) | aarch64 | 4.5.0 (2025-04-11) -- "How About a Twenty-Six" | 4658 |
| Click on any hostname to see more info about the system (e.g. compilers) (*) as reported by 'uname -p', except on Windows and Mac OS X | ||||
| Package 204/2359 | Hostname | OS / Arch | INSTALL | BUILD | CHECK | BUILD BIN | ||||||||
| BiocStyle 2.37.1 (landing page) Bioconductor Package Maintainer
| nebbiolo2 | Linux (Ubuntu 24.04.3 LTS) / x86_64 | OK | OK | OK | |||||||||
| lconway | macOS 12.7.6 Monterey / x86_64 | OK | OK | OK | OK | |||||||||
| kjohnson3 | macOS 13.7.7 Ventura / arm64 | OK | OK | OK | OK | |||||||||
| taishan | Linux (openEuler 24.03 LTS) / aarch64 | OK | OK | OK | ||||||||||
|
To the developers/maintainers of the BiocStyle package: - Allow up to 24 hours (and sometimes 48 hours) for your latest push to git@git.bioconductor.org:packages/BiocStyle.git to reflect on this report. See Troubleshooting Build Report for more information. - Use the following Renviron settings to reproduce errors and warnings. - If 'R CMD check' started to fail recently on the Linux builder(s) over a missing dependency, add the missing dependency to 'Suggests:' in your DESCRIPTION file. See Renviron.bioc for more information. |
| Package: BiocStyle |
| Version: 2.37.1 |
| Command: /Library/Frameworks/R.framework/Resources/bin/R CMD check --install=check:BiocStyle.install-out.txt --library=/Library/Frameworks/R.framework/Resources/library --no-vignettes --timings BiocStyle_2.37.1.tar.gz |
| StartedAt: 2025-10-23 19:40:46 -0400 (Thu, 23 Oct 2025) |
| EndedAt: 2025-10-23 19:42:05 -0400 (Thu, 23 Oct 2025) |
| EllapsedTime: 79.0 seconds |
| RetCode: 0 |
| Status: OK |
| CheckDir: BiocStyle.Rcheck |
| Warnings: 0 |
##############################################################################
##############################################################################
###
### Running command:
###
### /Library/Frameworks/R.framework/Resources/bin/R CMD check --install=check:BiocStyle.install-out.txt --library=/Library/Frameworks/R.framework/Resources/library --no-vignettes --timings BiocStyle_2.37.1.tar.gz
###
##############################################################################
##############################################################################
* using log directory ‘/Users/biocbuild/bbs-3.22-bioc/meat/BiocStyle.Rcheck’
* using R version 4.5.1 Patched (2025-09-10 r88807)
* using platform: x86_64-apple-darwin20
* R was compiled by
Apple clang version 14.0.0 (clang-1400.0.29.202)
GNU Fortran (GCC) 14.2.0
* running under: macOS Monterey 12.7.6
* using session charset: UTF-8
* using option ‘--no-vignettes’
* checking for file ‘BiocStyle/DESCRIPTION’ ... OK
* this is package ‘BiocStyle’ version ‘2.37.1’
* package encoding: UTF-8
* checking package namespace information ... OK
* checking package dependencies ... OK
* checking if this is a source package ... OK
* checking if there is a namespace ... OK
* checking for hidden files and directories ... OK
* checking for portable file names ... OK
* checking for sufficient/correct file permissions ... OK
* checking whether package ‘BiocStyle’ can be installed ... OK
* checking installed package size ... OK
* checking package directory ... OK
* checking ‘build’ directory ... OK
* checking DESCRIPTION meta-information ... OK
* checking top-level files ... OK
* checking for left-over files ... OK
* checking index information ... OK
* checking package subdirectories ... OK
* checking code files for non-ASCII characters ... OK
* checking R files for syntax errors ... OK
* checking whether the package can be loaded ... OK
* checking whether the package can be loaded with stated dependencies ... OK
* checking whether the package can be unloaded cleanly ... OK
* checking whether the namespace can be loaded with stated dependencies ... OK
* checking whether the namespace can be unloaded cleanly ... OK
* checking whether startup messages can be suppressed ... OK
* checking dependencies in R code ... NOTE
Unexported object imported by a ':::' call: ‘rmarkdown:::partition_yaml_front_matter’
See the note in ?`:::` about the use of this operator.
* checking S3 generic/method consistency ... OK
* checking replacement functions ... OK
* checking foreign function calls ... OK
* checking R code for possible problems ... OK
* checking Rd files ... OK
* checking Rd metadata ... OK
* checking Rd cross-references ... NOTE
Found the following Rd file(s) with Rd \link{} targets missing package
anchors:
pdf_document.Rd: includes
Please provide package anchors for all Rd \link{} targets not in the
package itself and the base packages.
* checking for missing documentation entries ... OK
* checking for code/documentation mismatches ... OK
* checking Rd \usage sections ... OK
* checking Rd contents ... OK
* checking for unstated dependencies in examples ... OK
* checking sizes of PDF files under ‘inst/doc’ ... OK
* checking files in ‘vignettes’ ... OK
* checking examples ... OK
* checking for unstated dependencies in ‘tests’ ... OK
* checking tests ...
Running ‘run_tests.R’
OK
* checking for unstated dependencies in vignettes ... OK
* checking package vignettes ... OK
* checking running R code from vignettes ... SKIPPED
* checking re-building of vignette outputs ... SKIPPED
* checking PDF version of manual ... OK
* DONE
Status: 2 NOTEs
See
‘/Users/biocbuild/bbs-3.22-bioc/meat/BiocStyle.Rcheck/00check.log’
for details.
BiocStyle.Rcheck/00install.out
############################################################################## ############################################################################## ### ### Running command: ### ### /Library/Frameworks/R.framework/Resources/bin/R CMD INSTALL BiocStyle ### ############################################################################## ############################################################################## * installing to library ‘/Library/Frameworks/R.framework/Versions/4.5-x86_64/Resources/library’ * installing *source* package ‘BiocStyle’ ... ** this is package ‘BiocStyle’ version ‘2.37.1’ ** using staged installation ** R ** inst ** byte-compile and prepare package for lazy loading ** help *** installing help indices ** building package indices ** installing vignettes ** testing if installed package can be loaded from temporary location ** testing if installed package can be loaded from final location ** testing if installed package keeps a record of temporary installation path * DONE (BiocStyle)
BiocStyle.Rcheck/tests/run_tests.Rout
R version 4.5.1 Patched (2025-09-10 r88807) -- "Great Square Root"
Copyright (C) 2025 The R Foundation for Statistical Computing
Platform: x86_64-apple-darwin20
R is free software and comes with ABSOLUTELY NO WARRANTY.
You are welcome to redistribute it under certain conditions.
Type 'license()' or 'licence()' for distribution details.
R is a collaborative project with many contributors.
Type 'contributors()' for more information and
'citation()' on how to cite R or R packages in publications.
Type 'demo()' for some demos, 'help()' for on-line help, or
'help.start()' for an HTML browser interface to help.
Type 'q()' to quit R.
> BiocGenerics:::testPackage("BiocStyle")
2025-10-23 19:41:19.254 R[31389:625970862] XType: com.apple.fonts is not accessible.
2025-10-23 19:41:19.254 R[31389:625970862] XType: XTFontStaticRegistry is enabled.
Writing to file maketitle_test_1.tex
Processing code chunks with options ...
1 : keep.source term tex (label = style, maketitle_test_1.Rnw:5)
You can now run (pdf)latex on 'maketitle_test_1.tex'
Writing to file maketitle_test_2.tex
Processing code chunks with options ...
1 : keep.source term tex (label = style, maketitle_test_2.Rnw:5)
You can now run (pdf)latex on 'maketitle_test_2.tex'
Writing to file maketitle_test_3.tex
Processing code chunks with options ...
1 : keep.source term tex (label = style, maketitle_test_3.Rnw:5)
You can now run (pdf)latex on 'maketitle_test_3.tex'
Writing to file maketitle_test_4.tex
Processing code chunks with options ...
1 : keep.source term tex (label = style, maketitle_test_4.Rnw:5)
You can now run (pdf)latex on 'maketitle_test_4.tex'
Writing to file maketitle_test_5.tex
Processing code chunks with options ...
1 : keep.source term tex (label = style, maketitle_test_5.Rnw:5)
You can now run (pdf)latex on 'maketitle_test_5.tex'
processing file: file7a9d598eb1e2.Rmd
output file: file7a9d598eb1e2.knit.md
/usr/local/bin/pandoc +RTS -K512m -RTS file7a9d598eb1e2.knit.md --to latex --from markdown+autolink_bare_uris+tex_math_single_backslash --output file7a9d598eb1e2.tex --lua-filter /Library/Frameworks/R.framework/Versions/4.5-x86_64/Resources/library/bookdown/rmarkdown/lua/custom-environment.lua --lua-filter /Library/Frameworks/R.framework/Versions/4.5-x86_64/Resources/library/rmarkdown/rmarkdown/lua/pagebreak.lua --lua-filter /Library/Frameworks/R.framework/Versions/4.5-x86_64/Resources/library/rmarkdown/rmarkdown/lua/latex-div.lua --self-contained --table-of-contents --toc-depth 2 --number-sections --highlight-style tango --pdf-engine pdflatex --include-in-header /tmp/RtmpzgR0yl/7a9d27409a5d.tex --variable graphics --wrap preserve --variable subparagraph --template /tmp/RtmpzgR0yl/BiocStyle/template.tex --variable tables=yes --standalone --variable 'compact-title:yes'
Warning: LaTeX Warning: You have requested package `/Library/Frameworks/R.framework/Vers
Warning: ions/4.5-x86_64/Resources/library/BiocStyle/resources/tex/Bioconductor',
Warning: but the package provides `Bioconductor'.
Output created: file7a9d598eb1e2.pdf
RUNIT TEST PROTOCOL -- Thu Oct 23 19:41:57 2025
***********************************************
Number of test functions: 3
Number of errors: 0
Number of failures: 0
1 Test Suite :
BiocStyle RUnit Tests - 3 test functions, 0 errors, 0 failures
Number of test functions: 3
Number of errors: 0
Number of failures: 0
>
> proc.time()
user system elapsed
25.941 9.963 39.973
BiocStyle.Rcheck/BiocStyle-Ex.timings
| name | user | system | elapsed | |
| helpers | 0.003 | 0.002 | 0.007 | |
| html_document | 0.001 | 0.001 | 0.001 | |
| latex | 0.000 | 0.001 | 0.000 | |
| macros | 0.006 | 0.004 | 0.010 | |
| markdown | 0.000 | 0.001 | 0.001 | |
| md_document | 0.001 | 0.001 | 0.001 | |
| output | 0.000 | 0.001 | 0.000 | |
| pdf_document | 0.000 | 0.001 | 0.001 | |
| use_vignette | 0.003 | 0.002 | 0.006 | |