| Back to Multiple platform build/check report for BioC 3.22: simplified long |
|
This page was generated on 2025-11-20 12:04 -0500 (Thu, 20 Nov 2025).
| Hostname | OS | Arch (*) | R version | Installed pkgs |
|---|---|---|---|---|
| nebbiolo2 | Linux (Ubuntu 24.04.3 LTS) | x86_64 | 4.5.2 (2025-10-31) -- "[Not] Part in a Rumble" | 4615 |
| merida1 | macOS 12.7.6 Monterey | x86_64 | 4.5.2 Patched (2025-11-05 r88990) -- "[Not] Part in a Rumble" | 4610 |
| kjohnson1 | macOS 13.7.5 Ventura | arm64 | 4.5.2 Patched (2025-11-04 r88984) -- "[Not] Part in a Rumble" | 4598 |
| taishan | Linux (openEuler 24.03 LTS) | aarch64 | 4.5.0 (2025-04-11) -- "How About a Twenty-Six" | 4668 |
| Click on any hostname to see more info about the system (e.g. compilers) (*) as reported by 'uname -p', except on Windows and Mac OS X | ||||
| Package 221/2361 | Hostname | OS / Arch | INSTALL | BUILD | CHECK | BUILD BIN | ||||||||
| BioNAR 1.12.0 (landing page) Anatoly Sorokin
| nebbiolo2 | Linux (Ubuntu 24.04.3 LTS) / x86_64 | OK | OK | ERROR | |||||||||
| merida1 | macOS 12.7.6 Monterey / x86_64 | OK | OK | ERROR | OK | |||||||||
| kjohnson1 | macOS 13.7.5 Ventura / arm64 | OK | OK | ERROR | OK | |||||||||
| taishan | Linux (openEuler 24.03 LTS) / aarch64 | OK | OK | TIMEOUT | ||||||||||
|
To the developers/maintainers of the BioNAR package: - Allow up to 24 hours (and sometimes 48 hours) for your latest push to git@git.bioconductor.org:packages/BioNAR.git to reflect on this report. See Troubleshooting Build Report for more information. - Use the following Renviron settings to reproduce errors and warnings. - If 'R CMD check' started to fail recently on the Linux builder(s) over a missing dependency, add the missing dependency to 'Suggests:' in your DESCRIPTION file. See Renviron.bioc for more information. |
| Package: BioNAR |
| Version: 1.12.0 |
| Command: /Library/Frameworks/R.framework/Resources/bin/R CMD check --install=check:BioNAR.install-out.txt --library=/Library/Frameworks/R.framework/Resources/library --no-vignettes --timings BioNAR_1.12.0.tar.gz |
| StartedAt: 2025-11-18 04:26:24 -0500 (Tue, 18 Nov 2025) |
| EndedAt: 2025-11-18 04:41:20 -0500 (Tue, 18 Nov 2025) |
| EllapsedTime: 896.4 seconds |
| RetCode: 1 |
| Status: ERROR |
| CheckDir: BioNAR.Rcheck |
| Warnings: NA |
##############################################################################
##############################################################################
###
### Running command:
###
### /Library/Frameworks/R.framework/Resources/bin/R CMD check --install=check:BioNAR.install-out.txt --library=/Library/Frameworks/R.framework/Resources/library --no-vignettes --timings BioNAR_1.12.0.tar.gz
###
##############################################################################
##############################################################################
* using log directory ‘/Users/biocbuild/bbs-3.22-bioc/meat/BioNAR.Rcheck’
* using R version 4.5.2 Patched (2025-11-05 r88990)
* using platform: x86_64-apple-darwin20
* R was compiled by
Apple clang version 14.0.0 (clang-1400.0.29.202)
GNU Fortran (GCC) 14.2.0
* running under: macOS Monterey 12.7.6
* using session charset: UTF-8
* using option ‘--no-vignettes’
* checking for file ‘BioNAR/DESCRIPTION’ ... OK
* this is package ‘BioNAR’ version ‘1.12.0’
* package encoding: UTF-8
* checking package namespace information ... OK
* checking package dependencies ... OK
* checking if this is a source package ... OK
* checking if there is a namespace ... OK
* checking for hidden files and directories ... OK
* checking for portable file names ... OK
* checking for sufficient/correct file permissions ... OK
* checking whether package ‘BioNAR’ can be installed ... OK
* checking installed package size ... INFO
installed size is 6.8Mb
sub-directories of 1Mb or more:
extdata 6.1Mb
* checking package directory ... OK
* checking ‘build’ directory ... OK
* checking DESCRIPTION meta-information ... OK
* checking top-level files ... OK
* checking for left-over files ... OK
* checking index information ... OK
* checking package subdirectories ... OK
* checking code files for non-ASCII characters ... OK
* checking R files for syntax errors ... OK
* checking whether the package can be loaded ... OK
* checking whether the package can be loaded with stated dependencies ... OK
* checking whether the package can be unloaded cleanly ... OK
* checking whether the namespace can be loaded with stated dependencies ... OK
* checking whether the namespace can be unloaded cleanly ... OK
* checking dependencies in R code ... NOTE
Package in Depends field not imported from: ‘Rdpack’
These packages need to be imported from (in the NAMESPACE file)
for when this namespace is loaded but not attached.
There are ::: calls to the package's namespace in its code. A package
almost never needs to use ::: for its own objects:
‘addNoise’ ‘gofs’ ‘highlightRate’ ‘plotSigmoid’
* checking S3 generic/method consistency ... OK
* checking replacement functions ... OK
* checking foreign function calls ... OK
* checking R code for possible problems ... OK
* checking Rd files ... OK
* checking Rd metadata ... OK
* checking Rd cross-references ... NOTE
Unknown package ‘clusterCons’ in Rd xrefs
* checking for missing documentation entries ... OK
* checking for code/documentation mismatches ... OK
* checking Rd \usage sections ... OK
* checking Rd contents ... OK
* checking for unstated dependencies in examples ... OK
* checking contents of ‘data’ directory ... OK
* checking data for non-ASCII characters ... OK
* checking LazyData ... OK
* checking data for ASCII and uncompressed saves ... OK
* checking files in ‘vignettes’ ... OK
* checking examples ... OK
Examples with CPU (user + system) or elapsed time > 5s
user system elapsed
clusteringSummary 21.279 3.381 30.248
plotEntropy 19.755 1.028 21.042
calcEntropy 19.261 1.253 21.463
addEdgeAtts 16.860 3.213 20.872
getEntropy 18.599 0.708 21.466
getCentralityMatrix 17.626 1.539 21.513
getGraphCentralityECDF 18.201 0.517 19.632
annotateTopOntoOVG 17.799 0.622 20.447
runPermDisease 11.764 0.163 12.153
annotateGOont 10.241 1.669 12.625
annotateSCHanno 10.875 0.525 12.553
normModularity 9.211 0.743 10.238
annotateGoBP 8.689 0.768 10.124
calcSparsness 8.138 0.640 9.101
annotateGoMF 7.486 0.547 8.406
annotateGoCC 6.811 0.573 7.743
calcAllClustering 6.614 0.072 7.290
FitDegree 2.330 0.094 12.772
getRandomGraphCentrality 1.377 0.035 25.043
* checking for unstated dependencies in ‘tests’ ... OK
* checking tests ...
Running ‘testthat.R’
ERROR
Running the tests in ‘tests/testthat.R’ failed.
Last 13 lines of output:
══ Skipped tests (2) ═══════════════════════════════════════════════════════════
• On CRAN (2): 'test_bridgeness.R:12:1', 'test_bridgeness.R:66:1'
══ Failed tests ════════════════════════════════════════════════════════════════
── Failure ('test_bridgeness.R:101:5'): Norm Modularity ────────────────────────
Expected `nm` to equal 0.009390085.
Differences:
`actual`: 0.0070
`expected`: 0.0094
[ FAIL 1 | WARN 0 | SKIP 2 | PASS 124 ]
Error:
! Test failures.
Execution halted
* checking for unstated dependencies in vignettes ... OK
* checking package vignettes ... OK
* checking running R code from vignettes ... SKIPPED
* checking re-building of vignette outputs ... SKIPPED
* checking PDF version of manual ... OK
* DONE
Status: 1 ERROR, 2 NOTEs
See
‘/Users/biocbuild/bbs-3.22-bioc/meat/BioNAR.Rcheck/00check.log’
for details.
BioNAR.Rcheck/00install.out
############################################################################## ############################################################################## ### ### Running command: ### ### /Library/Frameworks/R.framework/Resources/bin/R CMD INSTALL BioNAR ### ############################################################################## ############################################################################## * installing to library ‘/Library/Frameworks/R.framework/Versions/4.5-x86_64/Resources/library’ * installing *source* package ‘BioNAR’ ... ** this is package ‘BioNAR’ version ‘1.12.0’ ** using staged installation ** R ** data *** moving datasets to lazyload DB ** inst ** byte-compile and prepare package for lazy loading ** help *** installing help indices ** building package indices ** installing vignettes ** testing if installed package can be loaded from temporary location ** testing if installed package can be loaded from final location ** testing if installed package keeps a record of temporary installation path * DONE (BioNAR)
BioNAR.Rcheck/tests/testthat.Rout.fail
R version 4.5.2 Patched (2025-11-05 r88990) -- "[Not] Part in a Rumble"
Copyright (C) 2025 The R Foundation for Statistical Computing
Platform: x86_64-apple-darwin20
R is free software and comes with ABSOLUTELY NO WARRANTY.
You are welcome to redistribute it under certain conditions.
Type 'license()' or 'licence()' for distribution details.
R is a collaborative project with many contributors.
Type 'contributors()' for more information and
'citation()' on how to cite R or R packages in publications.
Type 'demo()' for some demos, 'help()' for on-line help, or
'help.start()' for an HTML browser interface to help.
Type 'q()' to quit R.
> library(testthat)
> library(BioNAR)
Loading required package: igraph
Attaching package: 'igraph'
The following object is masked from 'package:testthat':
compare
The following objects are masked from 'package:stats':
decompose, spectrum
The following object is masked from 'package:base':
union
Loading required package: poweRlaw
Loading required package: latex2exp
Loading required package: RSpectra
Loading required package: Rdpack
Attaching package: 'BioNAR'
The following object is masked from 'package:igraph':
permute
>
> test_check("BioNAR")
Saving _problems/test_bridgeness-101.R
[ FAIL 1 | WARN 0 | SKIP 2 | PASS 124 ]
══ Skipped tests (2) ═══════════════════════════════════════════════════════════
• On CRAN (2): 'test_bridgeness.R:12:1', 'test_bridgeness.R:66:1'
══ Failed tests ════════════════════════════════════════════════════════════════
── Failure ('test_bridgeness.R:101:5'): Norm Modularity ────────────────────────
Expected `nm` to equal 0.009390085.
Differences:
`actual`: 0.0070
`expected`: 0.0094
[ FAIL 1 | WARN 0 | SKIP 2 | PASS 124 ]
Error:
! Test failures.
Execution halted
BioNAR.Rcheck/BioNAR-Ex.timings
| name | user | system | elapsed | |
| FitDegree | 2.330 | 0.094 | 12.772 | |
| addEdgeAtts | 16.860 | 3.213 | 20.872 | |
| annotateGOont | 10.241 | 1.669 | 12.625 | |
| annotateGeneNames | 0.467 | 0.026 | 0.570 | |
| annotateGoBP | 8.689 | 0.768 | 10.124 | |
| annotateGoCC | 6.811 | 0.573 | 7.743 | |
| annotateGoMF | 7.486 | 0.547 | 8.406 | |
| annotatePresynaptic | 3.037 | 0.178 | 3.316 | |
| annotateSCHanno | 10.875 | 0.525 | 12.553 | |
| annotateTopOntoOVG | 17.799 | 0.622 | 20.447 | |
| annotateVertex | 0.007 | 0.002 | 0.043 | |
| applpMatrixToGraph | 0.004 | 0.002 | 0.021 | |
| buildNetwork | 0.007 | 0.001 | 0.009 | |
| calcAllClustering | 6.614 | 0.072 | 7.290 | |
| calcBridgeness | 0.179 | 0.008 | 0.207 | |
| calcCentrality | 0.224 | 0.007 | 0.248 | |
| calcCentralityExternalDistances | 1.466 | 0.042 | 1.552 | |
| calcCentralityInternalDistances | 1.391 | 0.016 | 1.547 | |
| calcClustering | 0.009 | 0.001 | 0.010 | |
| calcDiseasePairs | 0.872 | 0.035 | 1.048 | |
| calcEntropy | 19.261 | 1.253 | 21.463 | |
| calcMembership | 0.011 | 0.001 | 0.012 | |
| calcReclusterMatrix | 0.086 | 0.004 | 0.092 | |
| calcSparsness | 8.138 | 0.640 | 9.101 | |
| clusterORA | 0.818 | 0.079 | 0.935 | |
| clusteringSummary | 21.279 | 3.381 | 30.248 | |
| degreeBinnedGDAs | 0.551 | 0.112 | 0.800 | |
| escapeAnnotation | 0.002 | 0.001 | 0.002 | |
| evalCentralitySignificance | 1.486 | 0.278 | 2.280 | |
| findLCC | 0.011 | 0.005 | 0.017 | |
| getAnnotationList | 0.126 | 0.033 | 0.230 | |
| getAnnotationVertexList | 0.161 | 0.080 | 0.324 | |
| getBridgeness | 0.177 | 0.034 | 0.281 | |
| getCentralityMatrix | 17.626 | 1.539 | 21.513 | |
| getClusterSubgraphByID | 0.050 | 0.002 | 0.059 | |
| getClustering | 0.056 | 0.004 | 0.070 | |
| getCommunityGraph | 0.056 | 0.003 | 0.061 | |
| getDType | 0.000 | 0.001 | 0.001 | |
| getDYNAMO | 0.075 | 0.005 | 0.085 | |
| getDiseases | 0.000 | 0.001 | 0.001 | |
| getEntropy | 18.599 | 0.708 | 21.466 | |
| getEntropyRate | 0.009 | 0.000 | 0.011 | |
| getGNP | 0.043 | 0.003 | 0.046 | |
| getGraphCentralityECDF | 18.201 | 0.517 | 19.632 | |
| getPA | 0.047 | 0.003 | 0.051 | |
| getRandomGraphCentrality | 1.377 | 0.035 | 25.043 | |
| getRobustness | 1.278 | 0.044 | 1.335 | |
| layoutByCluster | 0.247 | 0.004 | 0.251 | |
| layoutByRecluster | 0.222 | 0.005 | 0.230 | |
| makeConsensusMatrix | 1.232 | 0.039 | 1.316 | |
| makeMembership | 0.005 | 0.001 | 0.006 | |
| metlMatrix | 0.016 | 0.004 | 0.020 | |
| normModularity | 9.211 | 0.743 | 10.238 | |
| permute | 0.000 | 0.001 | 0.001 | |
| plotBridgeness | 1.050 | 0.011 | 1.064 | |
| plotEntropy | 19.755 | 1.028 | 21.042 | |
| prepareGDA | 0.478 | 0.010 | 0.492 | |
| recluster | 0.079 | 0.004 | 0.082 | |
| removeVertexTerm | 0.008 | 0.003 | 0.012 | |
| runPermDisease | 11.764 | 0.163 | 12.153 | |
| sampleDegBinnedGDA | 0.623 | 0.013 | 0.648 | |
| sampleGraphClust | 0.055 | 0.003 | 0.060 | |
| unescapeAnnotation | 0.001 | 0.002 | 0.003 | |
| zeroNA | 0.001 | 0.001 | 0.001 | |