| Back to Multiple platform build/check report for BioC 3.22: simplified long |
|
This page was generated on 2025-11-20 12:05 -0500 (Thu, 20 Nov 2025).
| Hostname | OS | Arch (*) | R version | Installed pkgs |
|---|---|---|---|---|
| nebbiolo2 | Linux (Ubuntu 24.04.3 LTS) | x86_64 | 4.5.2 (2025-10-31) -- "[Not] Part in a Rumble" | 4615 |
| merida1 | macOS 12.7.6 Monterey | x86_64 | 4.5.2 Patched (2025-11-05 r88990) -- "[Not] Part in a Rumble" | 4610 |
| kjohnson1 | macOS 13.7.5 Ventura | arm64 | 4.5.2 Patched (2025-11-04 r88984) -- "[Not] Part in a Rumble" | 4598 |
| taishan | Linux (openEuler 24.03 LTS) | aarch64 | 4.5.0 (2025-04-11) -- "How About a Twenty-Six" | 4668 |
| Click on any hostname to see more info about the system (e.g. compilers) (*) as reported by 'uname -p', except on Windows and Mac OS X | ||||
| Package 221/2361 | Hostname | OS / Arch | INSTALL | BUILD | CHECK | BUILD BIN | ||||||||
| BioNAR 1.12.0 (landing page) Anatoly Sorokin
| nebbiolo2 | Linux (Ubuntu 24.04.3 LTS) / x86_64 | OK | OK | ERROR | |||||||||
| merida1 | macOS 12.7.6 Monterey / x86_64 | OK | OK | ERROR | OK | |||||||||
| kjohnson1 | macOS 13.7.5 Ventura / arm64 | OK | OK | ERROR | OK | |||||||||
| taishan | Linux (openEuler 24.03 LTS) / aarch64 | OK | OK | TIMEOUT | ||||||||||
|
To the developers/maintainers of the BioNAR package: - Allow up to 24 hours (and sometimes 48 hours) for your latest push to git@git.bioconductor.org:packages/BioNAR.git to reflect on this report. See Troubleshooting Build Report for more information. - Use the following Renviron settings to reproduce errors and warnings. - If 'R CMD check' started to fail recently on the Linux builder(s) over a missing dependency, add the missing dependency to 'Suggests:' in your DESCRIPTION file. See Renviron.bioc for more information. |
| Package: BioNAR |
| Version: 1.12.0 |
| Command: /Library/Frameworks/R.framework/Resources/bin/R CMD check --install=check:BioNAR.install-out.txt --library=/Library/Frameworks/R.framework/Resources/library --no-vignettes --timings BioNAR_1.12.0.tar.gz |
| StartedAt: 2025-11-18 03:16:55 -0500 (Tue, 18 Nov 2025) |
| EndedAt: 2025-11-18 03:19:43 -0500 (Tue, 18 Nov 2025) |
| EllapsedTime: 167.5 seconds |
| RetCode: 1 |
| Status: ERROR |
| CheckDir: BioNAR.Rcheck |
| Warnings: NA |
##############################################################################
##############################################################################
###
### Running command:
###
### /Library/Frameworks/R.framework/Resources/bin/R CMD check --install=check:BioNAR.install-out.txt --library=/Library/Frameworks/R.framework/Resources/library --no-vignettes --timings BioNAR_1.12.0.tar.gz
###
##############################################################################
##############################################################################
* using log directory ‘/Users/biocbuild/bbs-3.22-bioc/meat/BioNAR.Rcheck’
* using R version 4.5.2 Patched (2025-11-04 r88984)
* using platform: aarch64-apple-darwin20
* R was compiled by
Apple clang version 16.0.0 (clang-1600.0.26.6)
GNU Fortran (GCC) 14.2.0
* running under: macOS Ventura 13.7.8
* using session charset: UTF-8
* using option ‘--no-vignettes’
* checking for file ‘BioNAR/DESCRIPTION’ ... OK
* this is package ‘BioNAR’ version ‘1.12.0’
* package encoding: UTF-8
* checking package namespace information ... OK
* checking package dependencies ... OK
* checking if this is a source package ... OK
* checking if there is a namespace ... OK
* checking for hidden files and directories ... OK
* checking for portable file names ... OK
* checking for sufficient/correct file permissions ... OK
* checking whether package ‘BioNAR’ can be installed ... OK
* checking installed package size ... INFO
installed size is 6.8Mb
sub-directories of 1Mb or more:
extdata 6.1Mb
* checking package directory ... OK
* checking ‘build’ directory ... OK
* checking DESCRIPTION meta-information ... OK
* checking top-level files ... OK
* checking for left-over files ... OK
* checking index information ... OK
* checking package subdirectories ... OK
* checking code files for non-ASCII characters ... OK
* checking R files for syntax errors ... OK
* checking whether the package can be loaded ... OK
* checking whether the package can be loaded with stated dependencies ... OK
* checking whether the package can be unloaded cleanly ... OK
* checking whether the namespace can be loaded with stated dependencies ... OK
* checking whether the namespace can be unloaded cleanly ... OK
* checking dependencies in R code ... NOTE
Package in Depends field not imported from: ‘Rdpack’
These packages need to be imported from (in the NAMESPACE file)
for when this namespace is loaded but not attached.
There are ::: calls to the package's namespace in its code. A package
almost never needs to use ::: for its own objects:
‘addNoise’ ‘gofs’ ‘highlightRate’ ‘plotSigmoid’
* checking S3 generic/method consistency ... OK
* checking replacement functions ... OK
* checking foreign function calls ... OK
* checking R code for possible problems ... OK
* checking Rd files ... OK
* checking Rd metadata ... OK
* checking Rd cross-references ... NOTE
Unknown package ‘clusterCons’ in Rd xrefs
* checking for missing documentation entries ... OK
* checking for code/documentation mismatches ... OK
* checking Rd \usage sections ... OK
* checking Rd contents ... OK
* checking for unstated dependencies in examples ... OK
* checking contents of ‘data’ directory ... OK
* checking data for non-ASCII characters ... OK
* checking LazyData ... OK
* checking data for ASCII and uncompressed saves ... OK
* checking files in ‘vignettes’ ... OK
* checking examples ... OK
Examples with CPU (user + system) or elapsed time > 5s
user system elapsed
clusteringSummary 4.885 0.017 5.406
addEdgeAtts 3.975 0.907 5.333
calcEntropy 4.151 0.463 5.201
plotEntropy 4.032 0.574 5.180
getEntropy 3.901 0.553 5.242
getRandomGraphCentrality 0.180 0.012 5.219
* checking for unstated dependencies in ‘tests’ ... OK
* checking tests ...
Running ‘testthat.R’
ERROR
Running the tests in ‘tests/testthat.R’ failed.
Last 13 lines of output:
══ Skipped tests (2) ═══════════════════════════════════════════════════════════
• On CRAN (2): 'test_bridgeness.R:12:1', 'test_bridgeness.R:66:1'
══ Failed tests ════════════════════════════════════════════════════════════════
── Failure ('test_bridgeness.R:101:5'): Norm Modularity ────────────────────────
Expected `nm` to equal 0.009390085.
Differences:
`actual`: 0.0070
`expected`: 0.0094
[ FAIL 1 | WARN 0 | SKIP 2 | PASS 124 ]
Error:
! Test failures.
Execution halted
* checking for unstated dependencies in vignettes ... OK
* checking package vignettes ... OK
* checking running R code from vignettes ... SKIPPED
* checking re-building of vignette outputs ... SKIPPED
* checking PDF version of manual ... OK
* DONE
Status: 1 ERROR, 2 NOTEs
See
‘/Users/biocbuild/bbs-3.22-bioc/meat/BioNAR.Rcheck/00check.log’
for details.
BioNAR.Rcheck/00install.out
############################################################################## ############################################################################## ### ### Running command: ### ### /Library/Frameworks/R.framework/Resources/bin/R CMD INSTALL BioNAR ### ############################################################################## ############################################################################## * installing to library ‘/Library/Frameworks/R.framework/Versions/4.5-arm64/Resources/library’ * installing *source* package ‘BioNAR’ ... ** this is package ‘BioNAR’ version ‘1.12.0’ ** using staged installation ** R ** data *** moving datasets to lazyload DB ** inst ** byte-compile and prepare package for lazy loading ** help *** installing help indices ** building package indices ** installing vignettes ** testing if installed package can be loaded from temporary location ** testing if installed package can be loaded from final location ** testing if installed package keeps a record of temporary installation path * DONE (BioNAR)
BioNAR.Rcheck/tests/testthat.Rout.fail
R version 4.5.2 Patched (2025-11-04 r88984) -- "[Not] Part in a Rumble"
Copyright (C) 2025 The R Foundation for Statistical Computing
Platform: aarch64-apple-darwin20
R is free software and comes with ABSOLUTELY NO WARRANTY.
You are welcome to redistribute it under certain conditions.
Type 'license()' or 'licence()' for distribution details.
R is a collaborative project with many contributors.
Type 'contributors()' for more information and
'citation()' on how to cite R or R packages in publications.
Type 'demo()' for some demos, 'help()' for on-line help, or
'help.start()' for an HTML browser interface to help.
Type 'q()' to quit R.
> library(testthat)
> library(BioNAR)
Loading required package: igraph
Attaching package: 'igraph'
The following object is masked from 'package:testthat':
compare
The following objects are masked from 'package:stats':
decompose, spectrum
The following object is masked from 'package:base':
union
Loading required package: poweRlaw
Loading required package: latex2exp
Loading required package: RSpectra
Loading required package: Rdpack
Attaching package: 'BioNAR'
The following object is masked from 'package:igraph':
permute
>
> test_check("BioNAR")
Saving _problems/test_bridgeness-101.R
[ FAIL 1 | WARN 0 | SKIP 2 | PASS 124 ]
══ Skipped tests (2) ═══════════════════════════════════════════════════════════
• On CRAN (2): 'test_bridgeness.R:12:1', 'test_bridgeness.R:66:1'
══ Failed tests ════════════════════════════════════════════════════════════════
── Failure ('test_bridgeness.R:101:5'): Norm Modularity ────────────────────────
Expected `nm` to equal 0.009390085.
Differences:
`actual`: 0.0070
`expected`: 0.0094
[ FAIL 1 | WARN 0 | SKIP 2 | PASS 124 ]
Error:
! Test failures.
Execution halted
BioNAR.Rcheck/BioNAR-Ex.timings
| name | user | system | elapsed | |
| FitDegree | 0.559 | 0.013 | 2.509 | |
| addEdgeAtts | 3.975 | 0.907 | 5.333 | |
| annotateGOont | 2.132 | 0.311 | 2.857 | |
| annotateGeneNames | 0.100 | 0.006 | 0.123 | |
| annotateGoBP | 1.698 | 0.185 | 2.150 | |
| annotateGoCC | 1.099 | 0.183 | 1.416 | |
| annotateGoMF | 1.140 | 0.171 | 1.446 | |
| annotatePresynaptic | 0.793 | 0.066 | 1.017 | |
| annotateSCHanno | 2.206 | 0.300 | 2.840 | |
| annotateTopOntoOVG | 3.415 | 0.338 | 4.045 | |
| annotateVertex | 0.002 | 0.000 | 0.001 | |
| applpMatrixToGraph | 0 | 0 | 0 | |
| buildNetwork | 0.001 | 0.000 | 0.001 | |
| calcAllClustering | 1.967 | 0.004 | 2.064 | |
| calcBridgeness | 0.032 | 0.002 | 0.033 | |
| calcCentrality | 0.033 | 0.002 | 0.039 | |
| calcCentralityExternalDistances | 0.168 | 0.008 | 0.181 | |
| calcCentralityInternalDistances | 0.170 | 0.005 | 0.181 | |
| calcClustering | 0.002 | 0.000 | 0.001 | |
| calcDiseasePairs | 0.215 | 0.005 | 0.228 | |
| calcEntropy | 4.151 | 0.463 | 5.201 | |
| calcMembership | 0.002 | 0.000 | 0.003 | |
| calcReclusterMatrix | 0.013 | 0.000 | 0.015 | |
| calcSparsness | 1.742 | 0.278 | 2.187 | |
| clusterORA | 0.125 | 0.008 | 0.147 | |
| clusteringSummary | 4.885 | 0.017 | 5.406 | |
| degreeBinnedGDAs | 0.117 | 0.013 | 0.140 | |
| escapeAnnotation | 0.001 | 0.000 | 0.001 | |
| evalCentralitySignificance | 0.162 | 0.004 | 0.168 | |
| findLCC | 0.002 | 0.000 | 0.002 | |
| getAnnotationList | 0.021 | 0.002 | 0.022 | |
| getAnnotationVertexList | 0.025 | 0.003 | 0.031 | |
| getBridgeness | 0.023 | 0.002 | 0.026 | |
| getCentralityMatrix | 3.173 | 0.344 | 3.815 | |
| getClusterSubgraphByID | 0.008 | 0.001 | 0.008 | |
| getClustering | 0.009 | 0.000 | 0.016 | |
| getCommunityGraph | 0.008 | 0.000 | 0.009 | |
| getDType | 0 | 0 | 0 | |
| getDYNAMO | 0.012 | 0.000 | 0.013 | |
| getDiseases | 0.000 | 0.001 | 0.000 | |
| getEntropy | 3.901 | 0.553 | 5.242 | |
| getEntropyRate | 0.002 | 0.000 | 0.002 | |
| getGNP | 0.008 | 0.001 | 0.010 | |
| getGraphCentralityECDF | 3.228 | 0.378 | 4.071 | |
| getPA | 0.007 | 0.001 | 0.008 | |
| getRandomGraphCentrality | 0.180 | 0.012 | 5.219 | |
| getRobustness | 0.184 | 0.010 | 0.208 | |
| layoutByCluster | 0.039 | 0.000 | 0.045 | |
| layoutByRecluster | 0.036 | 0.001 | 0.050 | |
| makeConsensusMatrix | 0.179 | 0.010 | 0.215 | |
| makeMembership | 0.001 | 0.000 | 0.001 | |
| metlMatrix | 0.003 | 0.000 | 0.004 | |
| normModularity | 2.160 | 0.363 | 2.831 | |
| permute | 0 | 0 | 0 | |
| plotBridgeness | 0.168 | 0.006 | 0.181 | |
| plotEntropy | 4.032 | 0.574 | 5.180 | |
| prepareGDA | 0.096 | 0.005 | 0.117 | |
| recluster | 0.012 | 0.001 | 0.012 | |
| removeVertexTerm | 0.002 | 0.001 | 0.002 | |
| runPermDisease | 3.194 | 0.046 | 3.630 | |
| sampleDegBinnedGDA | 0.128 | 0.006 | 0.244 | |
| sampleGraphClust | 0.010 | 0.000 | 0.012 | |
| unescapeAnnotation | 0.001 | 0.000 | 0.001 | |
| zeroNA | 0 | 0 | 0 | |