Back to Multiple platform build/check report for BioC 3.22:   simplified   long
A[B]CDEFGHIJKLMNOPQRSTUVWXYZ

This page was generated on 2025-11-20 12:04 -0500 (Thu, 20 Nov 2025).

HostnameOSArch (*)R versionInstalled pkgs
nebbiolo2Linux (Ubuntu 24.04.3 LTS)x86_644.5.2 (2025-10-31) -- "[Not] Part in a Rumble" 4615
merida1macOS 12.7.6 Montereyx86_644.5.2 Patched (2025-11-05 r88990) -- "[Not] Part in a Rumble" 4610
kjohnson1macOS 13.7.5 Venturaarm644.5.2 Patched (2025-11-04 r88984) -- "[Not] Part in a Rumble" 4598
taishanLinux (openEuler 24.03 LTS)aarch644.5.0 (2025-04-11) -- "How About a Twenty-Six" 4668
Click on any hostname to see more info about the system (e.g. compilers)      (*) as reported by 'uname -p', except on Windows and Mac OS X

Package 177/2361HostnameOS / ArchINSTALLBUILDCHECKBUILD BIN
BindingSiteFinder 2.8.0  (landing page)
Mirko Brüggemann
Snapshot Date: 2025-11-17 13:45 -0500 (Mon, 17 Nov 2025)
git_url: https://git.bioconductor.org/packages/BindingSiteFinder
git_branch: RELEASE_3_22
git_last_commit: 74a4d9c
git_last_commit_date: 2025-10-29 11:10:55 -0500 (Wed, 29 Oct 2025)
nebbiolo2Linux (Ubuntu 24.04.3 LTS) / x86_64  OK    OK    OK  UNNEEDED, same version is already published
merida1macOS 12.7.6 Monterey / x86_64  OK    OK    OK    OK  UNNEEDED, same version is already published
kjohnson1macOS 13.7.5 Ventura / arm64  OK    OK    OK    OK  UNNEEDED, same version is already published
taishanLinux (openEuler 24.03 LTS) / aarch64  OK    OK    TIMEOUT  


CHECK results for BindingSiteFinder on merida1

To the developers/maintainers of the BindingSiteFinder package:
- Allow up to 24 hours (and sometimes 48 hours) for your latest push to git@git.bioconductor.org:packages/BindingSiteFinder.git to reflect on this report. See Troubleshooting Build Report for more information.
- Use the following Renviron settings to reproduce errors and warnings.
- If 'R CMD check' started to fail recently on the Linux builder(s) over a missing dependency, add the missing dependency to 'Suggests:' in your DESCRIPTION file. See Renviron.bioc for more information.

raw results


Summary

Package: BindingSiteFinder
Version: 2.8.0
Command: /Library/Frameworks/R.framework/Resources/bin/R CMD check --install=check:BindingSiteFinder.install-out.txt --library=/Library/Frameworks/R.framework/Resources/library --no-vignettes --timings BindingSiteFinder_2.8.0.tar.gz
StartedAt: 2025-11-18 04:18:29 -0500 (Tue, 18 Nov 2025)
EndedAt: 2025-11-18 04:52:45 -0500 (Tue, 18 Nov 2025)
EllapsedTime: 2055.6 seconds
RetCode: 0
Status:   OK  
CheckDir: BindingSiteFinder.Rcheck
Warnings: 0

Command output

##############################################################################
##############################################################################
###
### Running command:
###
###   /Library/Frameworks/R.framework/Resources/bin/R CMD check --install=check:BindingSiteFinder.install-out.txt --library=/Library/Frameworks/R.framework/Resources/library --no-vignettes --timings BindingSiteFinder_2.8.0.tar.gz
###
##############################################################################
##############################################################################


* using log directory ‘/Users/biocbuild/bbs-3.22-bioc/meat/BindingSiteFinder.Rcheck’
* using R version 4.5.2 Patched (2025-11-05 r88990)
* using platform: x86_64-apple-darwin20
* R was compiled by
    Apple clang version 14.0.0 (clang-1400.0.29.202)
    GNU Fortran (GCC) 14.2.0
* running under: macOS Monterey 12.7.6
* using session charset: UTF-8
* using option ‘--no-vignettes’
* checking for file ‘BindingSiteFinder/DESCRIPTION’ ... OK
* checking extension type ... Package
* this is package ‘BindingSiteFinder’ version ‘2.8.0’
* package encoding: UTF-8
* checking package namespace information ... OK
* checking package dependencies ... OK
* checking if this is a source package ... OK
* checking if there is a namespace ... OK
* checking for hidden files and directories ... OK
* checking for portable file names ... OK
* checking for sufficient/correct file permissions ... OK
* checking whether package ‘BindingSiteFinder’ can be installed ... OK
* checking installed package size ... OK
* checking package directory ... OK
* checking ‘build’ directory ... OK
* checking DESCRIPTION meta-information ... OK
* checking top-level files ... OK
* checking for left-over files ... OK
* checking index information ... OK
* checking package subdirectories ... OK
* checking code files for non-ASCII characters ... OK
* checking R files for syntax errors ... OK
* checking whether the package can be loaded ... OK
* checking whether the package can be loaded with stated dependencies ... OK
* checking whether the package can be unloaded cleanly ... OK
* checking whether the namespace can be loaded with stated dependencies ... OK
* checking whether the namespace can be unloaded cleanly ... OK
* checking dependencies in R code ... OK
* checking S3 generic/method consistency ... OK
* checking replacement functions ... OK
* checking foreign function calls ... OK
* checking R code for possible problems ... OK
* checking Rd files ... OK
* checking Rd metadata ... OK
* checking Rd cross-references ... NOTE
Found the following Rd file(s) with Rd \link{} targets missing package
anchors:
  BSFind.Rd: GenomicRanges, CompressedGRangesList
  annotateWithScore.Rd: GenomicRanges
  assignToGenes.Rd: GenomicRanges, overlaps
  assignToTranscriptRegions.Rd: CompressedGRangesList, overlaps
  bindingSiteDefinednessPlot.Rd: ggplot
  calculateBsBackground.Rd: GenomicRanges
  duplicatedSitesPlot.Rd: ggplot
  estimateBsWidth.Rd: GenomicRanges
  estimateBsWidthPlot.Rd: ggplot
  geneOverlapsPlot.Rd: ggplot
  geneRegulationPlot.Rd: GenomicRanges
  globalScorePlot.Rd: ggplot
  makeBsSummaryPlot.Rd: ggplot
  mergeCrosslinkDiagnosticsPlot.Rd: ggplot
  plotBsBackgroundFilter.Rd: ggplot
  plotBsMA.Rd: ggplot
  plotBsVolcano.Rd: ggplot
  processingStepsFlowChart.Rd: ggplot
  pureClipGeneWiseFilter.Rd: GenomicRanges, overlaps
  pureClipGlobalFilter.Rd: GenomicRanges
  pureClipGlobalFilterPlot.Rd: ggplot
  reproducibilityFilterPlot.Rd: ggplot
  reproducibilitySamplesPlot.Rd: ggplot
  targetGeneSpectrumPlot.Rd: ggplot
  transcriptRegionOverlapsPlot.Rd: ggplot
  transcriptRegionSpectrumPlot.Rd: ggplot
Please provide package anchors for all Rd \link{} targets not in the
package itself and the base packages.
* checking for missing documentation entries ... OK
* checking for code/documentation mismatches ... OK
* checking Rd \usage sections ... OK
* checking Rd contents ... OK
* checking for unstated dependencies in examples ... OK
* checking files in ‘vignettes’ ... OK
* checking examples ... OK
Examples with CPU (user + system) or elapsed time > 5s
                                 user system elapsed
quickFigure                    76.702  0.506  78.860
bindingSiteDefinednessPlot     64.292  2.204 122.248
processingStepsFlowChart       64.649  0.481  68.675
BSFind                         61.303  0.530  62.099
calculateBsFoldChange          39.819  2.350  68.772
plotBsVolcano                  27.123  3.633  39.992
plotBsMA                       27.232  1.289  30.935
geneRegulationPlot             26.530  0.343  27.498
estimateBsWidthPlot            21.472  0.367  22.835
estimateBsWidth                20.086  0.472  22.750
bindingSiteCoveragePlot        17.182  0.679  22.349
calculateBsBackground          13.480  3.923  40.635
rangeCoveragePlot              15.340  0.341  15.893
reproducibilityScatterPlot     12.615  0.098  13.069
plotBsBackgroundFilter         12.396  0.229  12.948
mergeSummaryPlot                9.974  0.133  10.984
filterBsBackground              9.161  0.148   9.548
supportRatioPlot                8.682  0.057   9.045
supportRatio                    8.020  0.052   8.225
geneOverlapsPlot                7.177  0.241   7.972
reproducibilityCutoffPlot       7.334  0.060   7.553
calculateSignalToFlankScore     4.970  2.190   7.544
combineBSF                      6.664  0.128   7.040
transcriptRegionSpectrumPlot    6.672  0.036   6.849
transcriptRegionOverlapsPlot    6.335  0.031   6.456
assignToTranscriptRegions       6.038  0.081   6.490
makeBindingSites                5.951  0.046   6.762
targetGeneSpectrumPlot          5.837  0.037   5.914
imputeBsDifferencesForTestdata  5.722  0.087   6.283
reproducibilityFilterPlot       5.415  0.027   5.521
assignToGenes                   5.085  0.031   5.286
add-BSFDataSet                  5.001  0.061   5.469
makeBsSummaryPlot               4.818  0.203   5.756
* checking for unstated dependencies in ‘tests’ ... OK
* checking tests ...
  Running ‘testthat.R’
 OK
* checking for unstated dependencies in vignettes ... OK
* checking package vignettes ... OK
* checking running R code from vignettes ... SKIPPED
* checking re-building of vignette outputs ... SKIPPED
* checking PDF version of manual ... OK
* DONE

Status: 1 NOTE
See
  ‘/Users/biocbuild/bbs-3.22-bioc/meat/BindingSiteFinder.Rcheck/00check.log’
for details.


Installation output

BindingSiteFinder.Rcheck/00install.out

##############################################################################
##############################################################################
###
### Running command:
###
###   /Library/Frameworks/R.framework/Resources/bin/R CMD INSTALL BindingSiteFinder
###
##############################################################################
##############################################################################


* installing to library ‘/Library/Frameworks/R.framework/Versions/4.5-x86_64/Resources/library’
* installing *source* package ‘BindingSiteFinder’ ...
** this is package ‘BindingSiteFinder’ version ‘2.8.0’
** using staged installation
** R
** inst
** byte-compile and prepare package for lazy loading
** help
*** installing help indices
** building package indices
** installing vignettes
** testing if installed package can be loaded from temporary location
** testing if installed package can be loaded from final location
** testing if installed package keeps a record of temporary installation path
* DONE (BindingSiteFinder)

Tests output

BindingSiteFinder.Rcheck/tests/testthat.Rout


R version 4.5.2 Patched (2025-11-05 r88990) -- "[Not] Part in a Rumble"
Copyright (C) 2025 The R Foundation for Statistical Computing
Platform: x86_64-apple-darwin20

R is free software and comes with ABSOLUTELY NO WARRANTY.
You are welcome to redistribute it under certain conditions.
Type 'license()' or 'licence()' for distribution details.

R is a collaborative project with many contributors.
Type 'contributors()' for more information and
'citation()' on how to cite R or R packages in publications.

Type 'demo()' for some demos, 'help()' for on-line help, or
'help.start()' for an HTML browser interface to help.
Type 'q()' to quit R.

> library("testthat")
> library("BindingSiteFinder")
Loading required package: GenomicRanges
Loading required package: stats4
Loading required package: BiocGenerics
Loading required package: generics

Attaching package: 'generics'

The following objects are masked from 'package:base':

    as.difftime, as.factor, as.ordered, intersect, is.element, setdiff,
    setequal, union


Attaching package: 'BiocGenerics'

The following objects are masked from 'package:stats':

    IQR, mad, sd, var, xtabs

The following objects are masked from 'package:base':

    Filter, Find, Map, Position, Reduce, anyDuplicated, aperm, append,
    as.data.frame, basename, cbind, colnames, dirname, do.call,
    duplicated, eval, evalq, get, grep, grepl, is.unsorted, lapply,
    mapply, match, mget, order, paste, pmax, pmax.int, pmin, pmin.int,
    rank, rbind, rownames, sapply, saveRDS, table, tapply, unique,
    unsplit, which.max, which.min

Loading required package: S4Vectors

Attaching package: 'S4Vectors'

The following object is masked from 'package:utils':

    findMatches

The following objects are masked from 'package:base':

    I, expand.grid, unname

Loading required package: IRanges
Loading required package: Seqinfo
> test_check("BindingSiteFinder")
[1] "make bs"
[1] "calc ratio"
[1] "make bs"
[1] "calc ratio"
[ FAIL 0 | WARN 0 | SKIP 0 | PASS 240 ]
> 
> proc.time()
   user  system elapsed 
645.436   6.625 673.788 

Example timings

BindingSiteFinder.Rcheck/BindingSiteFinder-Ex.timings

nameusersystemelapsed
BSFDataSet0.4220.0120.436
BSFind61.303 0.53062.099
add-BSFDataSet5.0010.0615.469
annotateWithScore3.4410.0243.498
assignToGenes5.0850.0315.286
assignToTranscriptRegions6.0380.0816.490
bindingSiteCoveragePlot17.182 0.67922.349
bindingSiteDefinednessPlot 64.292 2.204122.248
calculateBsBackground13.480 3.92340.635
calculateBsFoldChange39.819 2.35068.772
calculateSignalToFlankScore4.9702.1907.544
clipCoverage4.2020.0914.405
collapseReplicates0.3170.0180.337
combineBSF6.6640.1287.040
coverageOverRanges2.2570.0522.442
duplicatedSitesPlot1.4570.0971.852
estimateBsWidth20.086 0.47222.750
estimateBsWidthPlot21.472 0.36722.835
exportTargetGenes0.0740.0080.088
exportToBED0.0720.0070.080
filterBsBackground9.1610.1489.548
geneOverlapsPlot7.1770.2417.972
geneRegulationPlot26.530 0.34327.498
getMeta0.0840.0120.100
getName0.0760.0070.099
getRanges0.1180.0100.151
getSignal0.1750.0100.213
getSummary2.7960.0333.225
globalScorePlot3.7880.0354.190
imputeBsDifferencesForTestdata5.7220.0876.283
makeBindingSites5.9510.0466.762
makeBsSummaryPlot4.8180.2035.756
mergeCrosslinkDiagnosticsPlot3.5330.1193.918
mergeSummaryPlot 9.974 0.13310.984
plotBsBackgroundFilter12.396 0.22912.948
plotBsMA27.232 1.28930.935
plotBsVolcano27.123 3.63339.992
processingStepsFlowChart64.649 0.48168.675
processingStepsTable0.1540.0070.164
pureClipGeneWiseFilter0.8710.0100.885
pureClipGlobalFilter0.1490.0040.154
pureClipGlobalFilterPlot1.0760.0151.102
quickFigure76.702 0.50678.860
rangeCoveragePlot15.340 0.34115.893
reproducibilityCutoffPlot7.3340.0607.553
reproducibilityFilter3.8290.0373.904
reproducibilityFilterPlot5.4150.0275.521
reproducibilitySamplesPlot4.2010.0374.384
reproducibilityScatterPlot12.615 0.09813.069
setMeta0.0850.0070.094
setName0.0770.0060.084
setRanges0.1340.0060.142
setSignal0.1380.0060.145
setSummary0.0780.0060.084
show0.0770.0070.083
subset-BSFDataSet0.1020.0060.109
summary0.1200.0070.128
supportRatio8.0200.0528.225
supportRatioPlot8.6820.0579.045
targetGeneSpectrumPlot5.8370.0375.914
transcriptRegionOverlapsPlot6.3350.0316.456
transcriptRegionSpectrumPlot6.6720.0366.849