Back to Multiple platform build/check report for BioC 3.22:   simplified   long
A[B]CDEFGHIJKLMNOPQRSTUVWXYZ

This page was generated on 2025-10-24 12:03 -0400 (Fri, 24 Oct 2025).

HostnameOSArch (*)R versionInstalled pkgs
nebbiolo2Linux (Ubuntu 24.04.3 LTS)x86_644.5.1 Patched (2025-08-23 r88802) -- "Great Square Root" 4898
lconwaymacOS 12.7.6 Montereyx86_644.5.1 Patched (2025-09-10 r88807) -- "Great Square Root" 4688
kjohnson3macOS 13.7.7 Venturaarm644.5.1 Patched (2025-09-10 r88807) -- "Great Square Root" 4634
taishanLinux (openEuler 24.03 LTS)aarch644.5.0 (2025-04-11) -- "How About a Twenty-Six" 4658
Click on any hostname to see more info about the system (e.g. compilers)      (*) as reported by 'uname -p', except on Windows and Mac OS X

Package 177/2359HostnameOS / ArchINSTALLBUILDCHECKBUILD BIN
BindingSiteFinder 2.7.1  (landing page)
Mirko Brüggemann
Snapshot Date: 2025-10-23 14:17 -0400 (Thu, 23 Oct 2025)
git_url: https://git.bioconductor.org/packages/BindingSiteFinder
git_branch: devel
git_last_commit: c9c0024
git_last_commit_date: 2025-06-21 19:17:25 -0400 (Sat, 21 Jun 2025)
nebbiolo2Linux (Ubuntu 24.04.3 LTS) / x86_64  OK    OK    OK  UNNEEDED, same version is already published
lconwaymacOS 12.7.6 Monterey / x86_64  OK    OK    OK    OK  UNNEEDED, same version is already published
kjohnson3macOS 13.7.7 Ventura / arm64  OK    OK    OK    OK  UNNEEDED, same version is already published
taishanLinux (openEuler 24.03 LTS) / aarch64  OK    OK    TIMEOUT  


CHECK results for BindingSiteFinder on nebbiolo2

To the developers/maintainers of the BindingSiteFinder package:
- Allow up to 24 hours (and sometimes 48 hours) for your latest push to git@git.bioconductor.org:packages/BindingSiteFinder.git to reflect on this report. See Troubleshooting Build Report for more information.
- Use the following Renviron settings to reproduce errors and warnings.
- If 'R CMD check' started to fail recently on the Linux builder(s) over a missing dependency, add the missing dependency to 'Suggests:' in your DESCRIPTION file. See Renviron.bioc for more information.

raw results


Summary

Package: BindingSiteFinder
Version: 2.7.1
Command: /home/biocbuild/bbs-3.22-bioc/R/bin/R CMD check --install=check:BindingSiteFinder.install-out.txt --library=/home/biocbuild/bbs-3.22-bioc/R/site-library --timings BindingSiteFinder_2.7.1.tar.gz
StartedAt: 2025-10-23 21:27:26 -0400 (Thu, 23 Oct 2025)
EndedAt: 2025-10-23 21:43:53 -0400 (Thu, 23 Oct 2025)
EllapsedTime: 987.1 seconds
RetCode: 0
Status:   OK  
CheckDir: BindingSiteFinder.Rcheck
Warnings: 0

Command output

##############################################################################
##############################################################################
###
### Running command:
###
###   /home/biocbuild/bbs-3.22-bioc/R/bin/R CMD check --install=check:BindingSiteFinder.install-out.txt --library=/home/biocbuild/bbs-3.22-bioc/R/site-library --timings BindingSiteFinder_2.7.1.tar.gz
###
##############################################################################
##############################################################################


* using log directory ‘/home/biocbuild/bbs-3.22-bioc/meat/BindingSiteFinder.Rcheck’
* using R version 4.5.1 Patched (2025-08-23 r88802)
* using platform: x86_64-pc-linux-gnu
* R was compiled by
    gcc (Ubuntu 13.3.0-6ubuntu2~24.04) 13.3.0
    GNU Fortran (Ubuntu 13.3.0-6ubuntu2~24.04) 13.3.0
* running under: Ubuntu 24.04.3 LTS
* using session charset: UTF-8
* checking for file ‘BindingSiteFinder/DESCRIPTION’ ... OK
* checking extension type ... Package
* this is package ‘BindingSiteFinder’ version ‘2.7.1’
* package encoding: UTF-8
* checking package namespace information ... OK
* checking package dependencies ... OK
* checking if this is a source package ... OK
* checking if there is a namespace ... OK
* checking for hidden files and directories ... OK
* checking for portable file names ... OK
* checking for sufficient/correct file permissions ... OK
* checking whether package ‘BindingSiteFinder’ can be installed ... OK
* checking installed package size ... OK
* checking package directory ... OK
* checking ‘build’ directory ... OK
* checking DESCRIPTION meta-information ... OK
* checking top-level files ... OK
* checking for left-over files ... OK
* checking index information ... OK
* checking package subdirectories ... OK
* checking code files for non-ASCII characters ... OK
* checking R files for syntax errors ... OK
* checking whether the package can be loaded ... OK
* checking whether the package can be loaded with stated dependencies ... OK
* checking whether the package can be unloaded cleanly ... OK
* checking whether the namespace can be loaded with stated dependencies ... OK
* checking whether the namespace can be unloaded cleanly ... OK
* checking loading without being on the library search path ... OK
* checking dependencies in R code ... OK
* checking S3 generic/method consistency ... OK
* checking replacement functions ... OK
* checking foreign function calls ... OK
* checking R code for possible problems ... OK
* checking Rd files ... OK
* checking Rd metadata ... OK
* checking Rd cross-references ... NOTE
Found the following Rd file(s) with Rd \link{} targets missing package
anchors:
  BSFind.Rd: GenomicRanges, CompressedGRangesList
  annotateWithScore.Rd: GenomicRanges
  assignToGenes.Rd: GenomicRanges, overlaps
  assignToTranscriptRegions.Rd: CompressedGRangesList, overlaps
  bindingSiteDefinednessPlot.Rd: ggplot
  calculateBsBackground.Rd: GenomicRanges
  duplicatedSitesPlot.Rd: ggplot
  estimateBsWidth.Rd: GenomicRanges
  estimateBsWidthPlot.Rd: ggplot
  geneOverlapsPlot.Rd: ggplot
  geneRegulationPlot.Rd: GenomicRanges
  globalScorePlot.Rd: ggplot
  makeBsSummaryPlot.Rd: ggplot
  mergeCrosslinkDiagnosticsPlot.Rd: ggplot
  plotBsBackgroundFilter.Rd: ggplot
  plotBsMA.Rd: ggplot
  plotBsVolcano.Rd: ggplot
  processingStepsFlowChart.Rd: ggplot
  pureClipGeneWiseFilter.Rd: GenomicRanges, overlaps
  pureClipGlobalFilter.Rd: GenomicRanges
  pureClipGlobalFilterPlot.Rd: ggplot
  reproducibilityFilterPlot.Rd: ggplot
  reproducibilitySamplesPlot.Rd: ggplot
  targetGeneSpectrumPlot.Rd: ggplot
  transcriptRegionOverlapsPlot.Rd: ggplot
  transcriptRegionSpectrumPlot.Rd: ggplot
Please provide package anchors for all Rd \link{} targets not in the
package itself and the base packages.
* checking for missing documentation entries ... OK
* checking for code/documentation mismatches ... OK
* checking Rd \usage sections ... OK
* checking Rd contents ... OK
* checking for unstated dependencies in examples ... OK
* checking files in ‘vignettes’ ... OK
* checking examples ... OK
Examples with CPU (user + system) or elapsed time > 5s
                             user system elapsed
bindingSiteDefinednessPlot 44.181  0.733  51.910
quickFigure                32.186  0.199  32.704
BSFind                     26.756  0.359  27.117
processingStepsFlowChart   25.882  0.020  25.902
calculateBsFoldChange      17.065  0.071  17.140
plotBsMA                   12.554  0.217  12.772
plotBsVolcano              10.736  0.104  10.841
geneRegulationPlot         10.559  0.030  10.589
bindingSiteCoveragePlot     9.429  0.181   9.612
estimateBsWidth             9.450  0.140   9.590
estimateBsWidthPlot         8.958  0.042   9.000
calculateBsBackground       5.767  0.005   6.149
rangeCoveragePlot           5.727  0.018   5.744
plotBsBackgroundFilter      5.011  0.083   5.099
reproducibilityScatterPlot  4.992  0.069   5.061
* checking for unstated dependencies in ‘tests’ ... OK
* checking tests ...
  Running ‘testthat.R’
 OK
* checking for unstated dependencies in vignettes ... OK
* checking package vignettes ... OK
* checking re-building of vignette outputs ... OK
* checking PDF version of manual ... OK
* DONE

Status: 1 NOTE
See
  ‘/home/biocbuild/bbs-3.22-bioc/meat/BindingSiteFinder.Rcheck/00check.log’
for details.


Installation output

BindingSiteFinder.Rcheck/00install.out

##############################################################################
##############################################################################
###
### Running command:
###
###   /home/biocbuild/bbs-3.22-bioc/R/bin/R CMD INSTALL BindingSiteFinder
###
##############################################################################
##############################################################################


* installing to library ‘/home/biocbuild/bbs-3.22-bioc/R/site-library’
* installing *source* package ‘BindingSiteFinder’ ...
** this is package ‘BindingSiteFinder’ version ‘2.7.1’
** using staged installation
** R
** inst
** byte-compile and prepare package for lazy loading
** help
*** installing help indices
** building package indices
** installing vignettes
** testing if installed package can be loaded from temporary location
** testing if installed package can be loaded from final location
** testing if installed package keeps a record of temporary installation path
* DONE (BindingSiteFinder)

Tests output

BindingSiteFinder.Rcheck/tests/testthat.Rout


R version 4.5.1 Patched (2025-08-23 r88802) -- "Great Square Root"
Copyright (C) 2025 The R Foundation for Statistical Computing
Platform: x86_64-pc-linux-gnu

R is free software and comes with ABSOLUTELY NO WARRANTY.
You are welcome to redistribute it under certain conditions.
Type 'license()' or 'licence()' for distribution details.

R is a collaborative project with many contributors.
Type 'contributors()' for more information and
'citation()' on how to cite R or R packages in publications.

Type 'demo()' for some demos, 'help()' for on-line help, or
'help.start()' for an HTML browser interface to help.
Type 'q()' to quit R.

> library("testthat")
> library("BindingSiteFinder")
Loading required package: GenomicRanges
Loading required package: stats4
Loading required package: BiocGenerics
Loading required package: generics

Attaching package: 'generics'

The following objects are masked from 'package:base':

    as.difftime, as.factor, as.ordered, intersect, is.element, setdiff,
    setequal, union


Attaching package: 'BiocGenerics'

The following objects are masked from 'package:stats':

    IQR, mad, sd, var, xtabs

The following objects are masked from 'package:base':

    Filter, Find, Map, Position, Reduce, anyDuplicated, aperm, append,
    as.data.frame, basename, cbind, colnames, dirname, do.call,
    duplicated, eval, evalq, get, grep, grepl, is.unsorted, lapply,
    mapply, match, mget, order, paste, pmax, pmax.int, pmin, pmin.int,
    rank, rbind, rownames, sapply, saveRDS, table, tapply, unique,
    unsplit, which.max, which.min

Loading required package: S4Vectors

Attaching package: 'S4Vectors'

The following object is masked from 'package:utils':

    findMatches

The following objects are masked from 'package:base':

    I, expand.grid, unname

Loading required package: IRanges
Loading required package: Seqinfo
> test_check("BindingSiteFinder")
[1] "make bs"
[1] "calc ratio"
[1] "make bs"
[1] "calc ratio"
[ FAIL 0 | WARN 0 | SKIP 0 | PASS 240 ]
> 
> proc.time()
   user  system elapsed 
262.977   2.372 265.340 

Example timings

BindingSiteFinder.Rcheck/BindingSiteFinder-Ex.timings

nameusersystemelapsed
BSFDataSet0.1900.0030.234
BSFind26.756 0.35927.117
add-BSFDataSet2.1390.0272.167
annotateWithScore1.3700.0031.375
assignToGenes2.0020.0032.005
assignToTranscriptRegions2.2980.0052.303
bindingSiteCoveragePlot9.4290.1819.612
bindingSiteDefinednessPlot44.181 0.73351.910
calculateBsBackground5.7670.0056.149
calculateBsFoldChange17.065 0.07117.140
calculateSignalToFlankScore1.5180.0201.537
clipCoverage1.8280.0131.841
collapseReplicates0.2180.0030.221
combineBSF3.0600.0133.073
coverageOverRanges0.9440.0030.947
duplicatedSitesPlot0.6990.0100.708
estimateBsWidth9.450.149.59
estimateBsWidthPlot8.9580.0429.000
exportTargetGenes0.0500.0050.055
exportToBED0.0460.0080.054
filterBsBackground3.5740.0033.578
geneOverlapsPlot2.6150.0442.659
geneRegulationPlot10.559 0.03010.589
getMeta0.0690.0030.073
getName0.0490.0040.053
getRanges0.0650.0050.070
getSignal0.0890.0030.091
getSummary1.1430.0071.149
globalScorePlot1.6300.0041.634
imputeBsDifferencesForTestdata2.1300.0082.138
makeBindingSites2.5150.0222.537
makeBsSummaryPlot1.4180.0051.423
mergeCrosslinkDiagnosticsPlot1.4570.0021.460
mergeSummaryPlot4.1140.0294.144
plotBsBackgroundFilter5.0110.0835.099
plotBsMA12.554 0.21712.772
plotBsVolcano10.736 0.10410.841
processingStepsFlowChart25.882 0.02025.902
processingStepsTable0.0830.0040.087
pureClipGeneWiseFilter0.3980.0040.402
pureClipGlobalFilter0.0820.0020.083
pureClipGlobalFilterPlot0.4120.0020.414
quickFigure32.186 0.19932.704
rangeCoveragePlot5.7270.0185.744
reproducibilityCutoffPlot2.9500.0523.001
reproducibilityFilter1.5680.0011.568
reproducibilityFilterPlot2.1620.0032.164
reproducibilitySamplesPlot1.6920.0021.693
reproducibilityScatterPlot4.9920.0695.061
setMeta0.0550.0030.058
setName0.0510.0020.054
setRanges0.0750.0030.079
setSignal0.0760.0060.082
setSummary0.0500.0040.054
show0.0520.0020.055
subset-BSFDataSet0.0640.0020.067
summary0.0750.0010.075
supportRatio3.3880.0063.394
supportRatioPlot3.6560.0223.678
targetGeneSpectrumPlot2.2850.0052.290
transcriptRegionOverlapsPlot2.4910.0052.496
transcriptRegionSpectrumPlot2.6210.0082.630