| Back to Multiple platform build/check report for BioC 3.22: simplified long | 
 | 
This page was generated on 2025-10-24 12:06 -0400 (Fri, 24 Oct 2025).
| Hostname | OS | Arch (*) | R version | Installed pkgs | 
|---|---|---|---|---|
| nebbiolo2 | Linux (Ubuntu 24.04.3 LTS) | x86_64 | 4.5.1 Patched (2025-08-23 r88802) -- "Great Square Root" | 4898 | 
| lconway | macOS 12.7.6 Monterey | x86_64 | 4.5.1 Patched (2025-09-10 r88807) -- "Great Square Root" | 4688 | 
| kjohnson3 | macOS 13.7.7 Ventura | arm64 | 4.5.1 Patched (2025-09-10 r88807) -- "Great Square Root" | 4634 | 
| taishan | Linux (openEuler 24.03 LTS) | aarch64 | 4.5.0 (2025-04-11) -- "How About a Twenty-Six" | 4658 | 
| Click on any hostname to see more info about the system (e.g. compilers) (*) as reported by 'uname -p', except on Windows and Mac OS X | ||||
| Package 177/2359 | Hostname | OS / Arch | INSTALL | BUILD | CHECK | BUILD BIN | ||||||||
| BindingSiteFinder 2.7.1  (landing page) Mirko Brüggemann 
 | nebbiolo2 | Linux (Ubuntu 24.04.3 LTS) / x86_64 | OK | OK | OK |  | ||||||||
| lconway | macOS 12.7.6 Monterey / x86_64 | OK | OK | OK | OK |  | ||||||||
| kjohnson3 | macOS 13.7.7 Ventura / arm64 | OK | OK | OK | OK |  | ||||||||
| taishan | Linux (openEuler 24.03 LTS) / aarch64 | OK | OK | TIMEOUT | ||||||||||
| To the developers/maintainers of the BindingSiteFinder package: - Allow up to 24 hours (and sometimes 48 hours) for your latest push to git@git.bioconductor.org:packages/BindingSiteFinder.git to reflect on this report. See Troubleshooting Build Report for more information. - Use the following Renviron settings to reproduce errors and warnings. - If 'R CMD check' started to fail recently on the Linux builder(s) over a missing dependency, add the missing dependency to 'Suggests:' in your DESCRIPTION file. See Renviron.bioc for more information. | 
| Package: BindingSiteFinder | 
| Version: 2.7.1 | 
| Command: /Library/Frameworks/R.framework/Resources/bin/R CMD check --install=check:BindingSiteFinder.install-out.txt --library=/Library/Frameworks/R.framework/Resources/library --no-vignettes --timings BindingSiteFinder_2.7.1.tar.gz | 
| StartedAt: 2025-10-23 18:43:35 -0400 (Thu, 23 Oct 2025) | 
| EndedAt: 2025-10-23 18:48:48 -0400 (Thu, 23 Oct 2025) | 
| EllapsedTime: 313.4 seconds | 
| RetCode: 0 | 
| Status: OK | 
| CheckDir: BindingSiteFinder.Rcheck | 
| Warnings: 0 | 
##############################################################################
##############################################################################
###
### Running command:
###
###   /Library/Frameworks/R.framework/Resources/bin/R CMD check --install=check:BindingSiteFinder.install-out.txt --library=/Library/Frameworks/R.framework/Resources/library --no-vignettes --timings BindingSiteFinder_2.7.1.tar.gz
###
##############################################################################
##############################################################################
* using log directory ‘/Users/biocbuild/bbs-3.22-bioc/meat/BindingSiteFinder.Rcheck’
* using R version 4.5.1 Patched (2025-09-10 r88807)
* using platform: aarch64-apple-darwin20
* R was compiled by
    Apple clang version 16.0.0 (clang-1600.0.26.6)
    GNU Fortran (GCC) 14.2.0
* running under: macOS Ventura 13.7.7
* using session charset: UTF-8
* using option ‘--no-vignettes’
* checking for file ‘BindingSiteFinder/DESCRIPTION’ ... OK
* checking extension type ... Package
* this is package ‘BindingSiteFinder’ version ‘2.7.1’
* package encoding: UTF-8
* checking package namespace information ... OK
* checking package dependencies ... OK
* checking if this is a source package ... OK
* checking if there is a namespace ... OK
* checking for hidden files and directories ... OK
* checking for portable file names ... OK
* checking for sufficient/correct file permissions ... OK
* checking whether package ‘BindingSiteFinder’ can be installed ... OK
* checking installed package size ... OK
* checking package directory ... OK
* checking ‘build’ directory ... OK
* checking DESCRIPTION meta-information ... OK
* checking top-level files ... OK
* checking for left-over files ... OK
* checking index information ... OK
* checking package subdirectories ... OK
* checking code files for non-ASCII characters ... OK
* checking R files for syntax errors ... OK
* checking whether the package can be loaded ... OK
* checking whether the package can be loaded with stated dependencies ... OK
* checking whether the package can be unloaded cleanly ... OK
* checking whether the namespace can be loaded with stated dependencies ... OK
* checking whether the namespace can be unloaded cleanly ... OK
* checking dependencies in R code ... OK
* checking S3 generic/method consistency ... OK
* checking replacement functions ... OK
* checking foreign function calls ... OK
* checking R code for possible problems ... OK
* checking Rd files ... OK
* checking Rd metadata ... OK
* checking Rd cross-references ... NOTE
Found the following Rd file(s) with Rd \link{} targets missing package
anchors:
  BSFind.Rd: GenomicRanges, CompressedGRangesList
  annotateWithScore.Rd: GenomicRanges
  assignToGenes.Rd: GenomicRanges, overlaps
  assignToTranscriptRegions.Rd: CompressedGRangesList, overlaps
  bindingSiteDefinednessPlot.Rd: ggplot
  calculateBsBackground.Rd: GenomicRanges
  duplicatedSitesPlot.Rd: ggplot
  estimateBsWidth.Rd: GenomicRanges
  estimateBsWidthPlot.Rd: ggplot
  geneOverlapsPlot.Rd: ggplot
  geneRegulationPlot.Rd: GenomicRanges
  globalScorePlot.Rd: ggplot
  makeBsSummaryPlot.Rd: ggplot
  mergeCrosslinkDiagnosticsPlot.Rd: ggplot
  plotBsBackgroundFilter.Rd: ggplot
  plotBsMA.Rd: ggplot
  plotBsVolcano.Rd: ggplot
  processingStepsFlowChart.Rd: ggplot
  pureClipGeneWiseFilter.Rd: GenomicRanges, overlaps
  pureClipGlobalFilter.Rd: GenomicRanges
  pureClipGlobalFilterPlot.Rd: ggplot
  reproducibilityFilterPlot.Rd: ggplot
  reproducibilitySamplesPlot.Rd: ggplot
  targetGeneSpectrumPlot.Rd: ggplot
  transcriptRegionOverlapsPlot.Rd: ggplot
  transcriptRegionSpectrumPlot.Rd: ggplot
Please provide package anchors for all Rd \link{} targets not in the
package itself and the base packages.
* checking for missing documentation entries ... OK
* checking for code/documentation mismatches ... OK
* checking Rd \usage sections ... OK
* checking Rd contents ... OK
* checking for unstated dependencies in examples ... OK
* checking files in ‘vignettes’ ... OK
* checking examples ... OK
Examples with CPU (user + system) or elapsed time > 5s
                            user system elapsed
quickFigure                9.824  0.218  10.065
BSFind                     9.614  0.238  11.087
bindingSiteDefinednessPlot 8.938  0.232   9.364
processingStepsFlowChart   8.087  0.117   8.285
calculateBsFoldChange      6.044  0.115   6.204
* checking for unstated dependencies in ‘tests’ ... OK
* checking tests ...
  Running ‘testthat.R’
 OK
* checking for unstated dependencies in vignettes ... OK
* checking package vignettes ... OK
* checking running R code from vignettes ... SKIPPED
* checking re-building of vignette outputs ... SKIPPED
* checking PDF version of manual ... OK
* DONE
Status: 1 NOTE
See
  ‘/Users/biocbuild/bbs-3.22-bioc/meat/BindingSiteFinder.Rcheck/00check.log’
for details.
BindingSiteFinder.Rcheck/00install.out
############################################################################## ############################################################################## ### ### Running command: ### ### /Library/Frameworks/R.framework/Resources/bin/R CMD INSTALL BindingSiteFinder ### ############################################################################## ############################################################################## * installing to library ‘/Library/Frameworks/R.framework/Versions/4.5-arm64/Resources/library’ * installing *source* package ‘BindingSiteFinder’ ... ** this is package ‘BindingSiteFinder’ version ‘2.7.1’ ** using staged installation ** R ** inst ** byte-compile and prepare package for lazy loading ** help *** installing help indices ** building package indices ** installing vignettes ** testing if installed package can be loaded from temporary location ** testing if installed package can be loaded from final location ** testing if installed package keeps a record of temporary installation path * DONE (BindingSiteFinder)
BindingSiteFinder.Rcheck/tests/testthat.Rout
R version 4.5.1 Patched (2025-09-10 r88807) -- "Great Square Root"
Copyright (C) 2025 The R Foundation for Statistical Computing
Platform: aarch64-apple-darwin20
R is free software and comes with ABSOLUTELY NO WARRANTY.
You are welcome to redistribute it under certain conditions.
Type 'license()' or 'licence()' for distribution details.
R is a collaborative project with many contributors.
Type 'contributors()' for more information and
'citation()' on how to cite R or R packages in publications.
Type 'demo()' for some demos, 'help()' for on-line help, or
'help.start()' for an HTML browser interface to help.
Type 'q()' to quit R.
> library("testthat")
> library("BindingSiteFinder")
Loading required package: GenomicRanges
Loading required package: stats4
Loading required package: BiocGenerics
Loading required package: generics
Attaching package: 'generics'
The following objects are masked from 'package:base':
    as.difftime, as.factor, as.ordered, intersect, is.element, setdiff,
    setequal, union
Attaching package: 'BiocGenerics'
The following objects are masked from 'package:stats':
    IQR, mad, sd, var, xtabs
The following objects are masked from 'package:base':
    Filter, Find, Map, Position, Reduce, anyDuplicated, aperm, append,
    as.data.frame, basename, cbind, colnames, dirname, do.call,
    duplicated, eval, evalq, get, grep, grepl, is.unsorted, lapply,
    mapply, match, mget, order, paste, pmax, pmax.int, pmin, pmin.int,
    rank, rbind, rownames, sapply, saveRDS, table, tapply, unique,
    unsplit, which.max, which.min
Loading required package: S4Vectors
Attaching package: 'S4Vectors'
The following object is masked from 'package:utils':
    findMatches
The following objects are masked from 'package:base':
    I, expand.grid, unname
Loading required package: IRanges
Loading required package: Seqinfo
> test_check("BindingSiteFinder")
[1] "make bs"
[1] "calc ratio"
[1] "make bs"
[1] "calc ratio"
[ FAIL 0 | WARN 0 | SKIP 0 | PASS 240 ]
> 
> proc.time()
   user  system elapsed 
 86.081   1.850  88.023 
BindingSiteFinder.Rcheck/BindingSiteFinder-Ex.timings
| name | user | system | elapsed | |
| BSFDataSet | 0.080 | 0.003 | 0.136 | |
| BSFind | 9.614 | 0.238 | 11.087 | |
| add-BSFDataSet | 0.684 | 0.019 | 0.728 | |
| annotateWithScore | 0.443 | 0.018 | 0.468 | |
| assignToGenes | 0.663 | 0.027 | 0.742 | |
| assignToTranscriptRegions | 0.752 | 0.012 | 0.772 | |
| bindingSiteCoveragePlot | 4.122 | 0.099 | 4.298 | |
| bindingSiteDefinednessPlot | 8.938 | 0.232 | 9.364 | |
| calculateBsBackground | 1.508 | 0.031 | 1.568 | |
| calculateBsFoldChange | 6.044 | 0.115 | 6.204 | |
| calculateSignalToFlankScore | 0.482 | 0.011 | 0.496 | |
| clipCoverage | 0.616 | 0.092 | 0.958 | |
| collapseReplicates | 0.078 | 0.007 | 0.114 | |
| combineBSF | 0.991 | 0.034 | 1.052 | |
| coverageOverRanges | 0.343 | 0.018 | 0.365 | |
| duplicatedSitesPlot | 0.238 | 0.005 | 0.248 | |
| estimateBsWidth | 3.466 | 0.107 | 3.586 | |
| estimateBsWidthPlot | 3.033 | 0.087 | 3.125 | |
| exportTargetGenes | 0.023 | 0.000 | 0.024 | |
| exportToBED | 0.023 | 0.000 | 0.023 | |
| filterBsBackground | 1.211 | 0.038 | 1.284 | |
| geneOverlapsPlot | 0.874 | 0.017 | 0.891 | |
| geneRegulationPlot | 3.650 | 0.062 | 3.718 | |
| getMeta | 0.024 | 0.001 | 0.024 | |
| getName | 0.023 | 0.001 | 0.024 | |
| getRanges | 0.030 | 0.001 | 0.030 | |
| getSignal | 0.035 | 0.001 | 0.036 | |
| getSummary | 0.374 | 0.006 | 0.380 | |
| globalScorePlot | 0.502 | 0.006 | 0.508 | |
| imputeBsDifferencesForTestdata | 0.728 | 0.016 | 0.745 | |
| makeBindingSites | 0.762 | 0.013 | 0.777 | |
| makeBsSummaryPlot | 0.452 | 0.011 | 0.464 | |
| mergeCrosslinkDiagnosticsPlot | 0.455 | 0.008 | 0.463 | |
| mergeSummaryPlot | 1.308 | 0.048 | 1.361 | |
| plotBsBackgroundFilter | 1.730 | 0.039 | 1.812 | |
| plotBsMA | 4.250 | 0.052 | 4.319 | |
| plotBsVolcano | 4.370 | 0.085 | 4.464 | |
| processingStepsFlowChart | 8.087 | 0.117 | 8.285 | |
| processingStepsTable | 0.035 | 0.001 | 0.036 | |
| pureClipGeneWiseFilter | 0.132 | 0.004 | 0.135 | |
| pureClipGlobalFilter | 0.047 | 0.003 | 0.050 | |
| pureClipGlobalFilterPlot | 0.136 | 0.002 | 0.138 | |
| quickFigure | 9.824 | 0.218 | 10.065 | |
| rangeCoveragePlot | 2.315 | 0.075 | 2.391 | |
| reproducibilityCutoffPlot | 1.446 | 0.011 | 1.457 | |
| reproducibilityFilter | 0.462 | 0.012 | 0.475 | |
| reproducibilityFilterPlot | 0.617 | 0.014 | 0.632 | |
| reproducibilitySamplesPlot | 0.483 | 0.010 | 0.493 | |
| reproducibilityScatterPlot | 1.557 | 0.014 | 1.599 | |
| setMeta | 0.025 | 0.001 | 0.025 | |
| setName | 0.023 | 0.001 | 0.026 | |
| setRanges | 0.032 | 0.001 | 0.032 | |
| setSignal | 0.032 | 0.002 | 0.034 | |
| setSummary | 0.024 | 0.001 | 0.026 | |
| show | 0.024 | 0.001 | 0.025 | |
| subset-BSFDataSet | 0.027 | 0.001 | 0.029 | |
| summary | 0.031 | 0.001 | 0.033 | |
| supportRatio | 0.963 | 0.020 | 0.991 | |
| supportRatioPlot | 1.047 | 0.019 | 1.066 | |
| targetGeneSpectrumPlot | 0.659 | 0.008 | 0.666 | |
| transcriptRegionOverlapsPlot | 0.776 | 0.040 | 0.815 | |
| transcriptRegionSpectrumPlot | 0.775 | 0.007 | 0.782 | |