| Back to Multiple platform build/check report for BioC 3.22: simplified long |
|
This page was generated on 2025-08-15 12:06 -0400 (Fri, 15 Aug 2025).
| Hostname | OS | Arch (*) | R version | Installed pkgs |
|---|---|---|---|---|
| nebbiolo2 | Linux (Ubuntu 24.04.3 LTS) | x86_64 | 4.5.1 (2025-06-13) -- "Great Square Root" | 4818 |
| palomino8 | Windows Server 2022 Datacenter | x64 | 4.5.1 (2025-06-13 ucrt) -- "Great Square Root" | 4554 |
| lconway | macOS 12.7.1 Monterey | x86_64 | 4.5.1 (2025-06-13) -- "Great Square Root" | 4595 |
| kjohnson3 | macOS 13.7.7 Ventura | arm64 | 4.5.1 Patched (2025-06-14 r88325) -- "Great Square Root" | 4537 |
| taishan | Linux (openEuler 24.03 LTS) | aarch64 | 4.5.0 (2025-04-11) -- "How About a Twenty-Six" | 4535 |
| Click on any hostname to see more info about the system (e.g. compilers) (*) as reported by 'uname -p', except on Windows and Mac OS X | ||||
| Package 136/2317 | Hostname | OS / Arch | INSTALL | BUILD | CHECK | BUILD BIN | ||||||||
| BASiCS 2.21.0 (landing page) Catalina Vallejos
| nebbiolo2 | Linux (Ubuntu 24.04.3 LTS) / x86_64 | OK | OK | OK | |||||||||
| palomino8 | Windows Server 2022 Datacenter / x64 | OK | OK | OK | OK | |||||||||
| lconway | macOS 12.7.1 Monterey / x86_64 | OK | OK | OK | OK | |||||||||
| kjohnson3 | macOS 13.7.7 Ventura / arm64 | OK | OK | WARNINGS | OK | |||||||||
| taishan | Linux (openEuler 24.03 LTS) / aarch64 | OK | OK | OK | ||||||||||
|
To the developers/maintainers of the BASiCS package: - Allow up to 24 hours (and sometimes 48 hours) for your latest push to git@git.bioconductor.org:packages/BASiCS.git to reflect on this report. See Troubleshooting Build Report for more information. - Use the following Renviron settings to reproduce errors and warnings. - If 'R CMD check' started to fail recently on the Linux builder(s) over a missing dependency, add the missing dependency to 'Suggests:' in your DESCRIPTION file. See Renviron.bioc for more information. |
| Package: BASiCS |
| Version: 2.21.0 |
| Command: F:\biocbuild\bbs-3.22-bioc\R\bin\R.exe CMD INSTALL BASiCS |
| StartedAt: 2025-08-14 17:00:15 -0400 (Thu, 14 Aug 2025) |
| EndedAt: 2025-08-14 17:02:07 -0400 (Thu, 14 Aug 2025) |
| EllapsedTime: 112.7 seconds |
| RetCode: 0 |
| Status: OK |
##############################################################################
##############################################################################
###
### Running command:
###
### F:\biocbuild\bbs-3.22-bioc\R\bin\R.exe CMD INSTALL BASiCS
###
##############################################################################
##############################################################################
* installing to library 'F:/biocbuild/bbs-3.22-bioc/R/library'
* installing *source* package 'BASiCS' ...
** this is package 'BASiCS' version '2.21.0'
** using staged installation
** libs
using C++ compiler: 'G__~1.EXE (GCC) 14.2.0'
using C++11
g++ -std=gnu++11 -I"F:/biocbuild/bbs-3.22-bioc/R/include" -DNDEBUG -I'F:/biocbuild/bbs-3.22-bioc/R/library/Rcpp/include' -I'F:/biocbuild/bbs-3.22-bioc/R/library/RcppArmadillo/include' -I"C:/rtools45/x86_64-w64-mingw32.static.posix/include" -fopenmp -O2 -Wall -mfpmath=sse -msse2 -mstackrealign -c BASiCS.cpp -o BASiCS.o
In file included from F:/biocbuild/bbs-3.22-bioc/R/include/R.h:73,
from libraries.h:6,
from utils.h:4,
from updates.h:4,
from BASiCS.cpp:1:
F:/biocbuild/bbs-3.22-bioc/R/library/Rcpp/include/Rcpp/exceptions.h: In function 'void Rcpp::Rf_warning(const char*, Args&& ...) [with Args = {const char*}]':
F:/biocbuild/bbs-3.22-bioc/R/include/R_ext/Error.h:85:17: warning: infinite recursion detected [-Winfinite-recursion]
85 | #define warning Rf_warning
| ^~~~~~~~~~
F:/biocbuild/bbs-3.22-bioc/R/library/Rcpp/include/Rcpp/exceptions.h:190:17: note: in expansion of macro 'warning'
190 | inline void warning(const char* fmt, Args&&... args ) {
| ^~~~~~~
In file included from F:/biocbuild/bbs-3.22-bioc/R/library/Rcpp/include/RcppCommon.h:133,
from F:/biocbuild/bbs-3.22-bioc/R/library/RcppArmadillo/include/RcppArmadillo/interface/RcppArmadilloForward.h:25,
from F:/biocbuild/bbs-3.22-bioc/R/library/RcppArmadillo/include/RcppArmadillo.h:29,
from libraries.h:11:
F:/biocbuild/bbs-3.22-bioc/R/library/Rcpp/include/Rcpp/exceptions.h:191:19: note: recursive call
191 | Rf_warning("%s", tfm::format(fmt, std::forward<Args>(args)... ).c_str());
| ~~~~~~~~~~^~~~~~~~~~~~~~~~~~~~~~~~~~~~~~~~~~~~~~~~~~~~~~~~~~~~~~~~~~~~~~
g++ -std=gnu++11 -I"F:/biocbuild/bbs-3.22-bioc/R/include" -DNDEBUG -I'F:/biocbuild/bbs-3.22-bioc/R/library/Rcpp/include' -I'F:/biocbuild/bbs-3.22-bioc/R/library/RcppArmadillo/include' -I"C:/rtools45/x86_64-w64-mingw32.static.posix/include" -fopenmp -O2 -Wall -mfpmath=sse -msse2 -mstackrealign -c RcppExports.cpp -o RcppExports.o
g++ -shared -s -static-libgcc -o BASiCS.dll tmp.def BASiCS.o RcppExports.o -LF:/biocbuild/bbs-3.22-bioc/R/bin/x64 -lRlapack -LF:/biocbuild/bbs-3.22-bioc/R/bin/x64 -lRblas -lgfortran -lquadmath -fopenmp -LC:/rtools45/x86_64-w64-mingw32.static.posix/lib/x64 -LC:/rtools45/x86_64-w64-mingw32.static.posix/lib -LF:/biocbuild/bbs-3.22-bioc/R/bin/x64 -lR
installing to F:/biocbuild/bbs-3.22-bioc/R/library/00LOCK-BASiCS/00new/BASiCS/libs/x64
** R
** data
** inst
** byte-compile and prepare package for lazy loading
** help
*** installing help indices
** building package indices
** installing vignettes
** testing if installed package can be loaded from temporary location
** testing if installed package can be loaded from final location
** testing if installed package keeps a record of temporary installation path
* DONE (BASiCS)