| Back to Multiple platform build/check report for BioC 3.22: simplified long |
|
This page was generated on 2025-10-24 12:04 -0400 (Fri, 24 Oct 2025).
| Hostname | OS | Arch (*) | R version | Installed pkgs |
|---|---|---|---|---|
| nebbiolo2 | Linux (Ubuntu 24.04.3 LTS) | x86_64 | 4.5.1 Patched (2025-08-23 r88802) -- "Great Square Root" | 4898 |
| lconway | macOS 12.7.6 Monterey | x86_64 | 4.5.1 Patched (2025-09-10 r88807) -- "Great Square Root" | 4688 |
| kjohnson3 | macOS 13.7.7 Ventura | arm64 | 4.5.1 Patched (2025-09-10 r88807) -- "Great Square Root" | 4634 |
| taishan | Linux (openEuler 24.03 LTS) | aarch64 | 4.5.0 (2025-04-11) -- "How About a Twenty-Six" | 4658 |
| Click on any hostname to see more info about the system (e.g. compilers) (*) as reported by 'uname -p', except on Windows and Mac OS X | ||||
| Package 54/2359 | Hostname | OS / Arch | INSTALL | BUILD | CHECK | BUILD BIN | ||||||||
| ALDEx2 1.41.0 (landing page) Greg Gloor
| nebbiolo2 | Linux (Ubuntu 24.04.3 LTS) / x86_64 | OK | OK | OK | |||||||||
| lconway | macOS 12.7.6 Monterey / x86_64 | OK | OK | OK | OK | |||||||||
| kjohnson3 | macOS 13.7.7 Ventura / arm64 | OK | OK | OK | OK | |||||||||
| taishan | Linux (openEuler 24.03 LTS) / aarch64 | OK | OK | OK | ||||||||||
|
To the developers/maintainers of the ALDEx2 package: - Allow up to 24 hours (and sometimes 48 hours) for your latest push to git@git.bioconductor.org:packages/ALDEx2.git to reflect on this report. See Troubleshooting Build Report for more information. - Use the following Renviron settings to reproduce errors and warnings. - If 'R CMD check' started to fail recently on the Linux builder(s) over a missing dependency, add the missing dependency to 'Suggests:' in your DESCRIPTION file. See Renviron.bioc for more information. |
| Package: ALDEx2 |
| Version: 1.41.0 |
| Command: /Library/Frameworks/R.framework/Resources/bin/R CMD check --install=check:ALDEx2.install-out.txt --library=/Library/Frameworks/R.framework/Resources/library --no-vignettes --timings ALDEx2_1.41.0.tar.gz |
| StartedAt: 2025-10-23 19:20:00 -0400 (Thu, 23 Oct 2025) |
| EndedAt: 2025-10-23 19:24:31 -0400 (Thu, 23 Oct 2025) |
| EllapsedTime: 271.3 seconds |
| RetCode: 0 |
| Status: OK |
| CheckDir: ALDEx2.Rcheck |
| Warnings: 0 |
##############################################################################
##############################################################################
###
### Running command:
###
### /Library/Frameworks/R.framework/Resources/bin/R CMD check --install=check:ALDEx2.install-out.txt --library=/Library/Frameworks/R.framework/Resources/library --no-vignettes --timings ALDEx2_1.41.0.tar.gz
###
##############################################################################
##############################################################################
* using log directory ‘/Users/biocbuild/bbs-3.22-bioc/meat/ALDEx2.Rcheck’
* using R version 4.5.1 Patched (2025-09-10 r88807)
* using platform: x86_64-apple-darwin20
* R was compiled by
Apple clang version 14.0.0 (clang-1400.0.29.202)
GNU Fortran (GCC) 14.2.0
* running under: macOS Monterey 12.7.6
* using session charset: UTF-8
* using option ‘--no-vignettes’
* checking for file ‘ALDEx2/DESCRIPTION’ ... OK
* checking extension type ... Package
* this is package ‘ALDEx2’ version ‘1.41.0’
* checking package namespace information ... OK
* checking package dependencies ... OK
* checking if this is a source package ... OK
* checking if there is a namespace ... OK
* checking for hidden files and directories ... OK
* checking for portable file names ... OK
* checking for sufficient/correct file permissions ... OK
* checking whether package ‘ALDEx2’ can be installed ... OK
* checking installed package size ... OK
* checking package directory ... OK
* checking ‘build’ directory ... OK
* checking DESCRIPTION meta-information ... OK
* checking top-level files ... OK
* checking for left-over files ... OK
* checking index information ... OK
* checking package subdirectories ... OK
* checking code files for non-ASCII characters ... OK
* checking R files for syntax errors ... OK
* checking whether the package can be loaded ... OK
* checking whether the package can be loaded with stated dependencies ... OK
* checking whether the package can be unloaded cleanly ... OK
* checking whether the namespace can be loaded with stated dependencies ... OK
* checking whether the namespace can be unloaded cleanly ... OK
* checking dependencies in R code ... OK
* checking S3 generic/method consistency ... OK
* checking replacement functions ... OK
* checking foreign function calls ... OK
* checking R code for possible problems ... OK
* checking Rd files ... OK
* checking Rd metadata ... NOTE
Invalid package aliases in Rd file 'ALDEx2m-package.Rd':
‘ALDEx2m-package’
* checking Rd cross-references ... OK
* checking for missing documentation entries ... OK
* checking for code/documentation mismatches ... OK
* checking Rd \usage sections ... OK
* checking Rd contents ... OK
* checking for unstated dependencies in examples ... OK
* checking contents of ‘data’ directory ... OK
* checking data for non-ASCII characters ... OK
* checking data for ASCII and uncompressed saves ... OK
* checking files in ‘vignettes’ ... OK
* checking examples ... OK
* checking for unstated dependencies in ‘tests’ ... OK
* checking tests ...
Running ‘testthat.R’
OK
* checking for unstated dependencies in vignettes ... OK
* checking package vignettes ... OK
* checking running R code from vignettes ... SKIPPED
* checking re-building of vignette outputs ... SKIPPED
* checking PDF version of manual ... OK
* DONE
Status: 1 NOTE
See
‘/Users/biocbuild/bbs-3.22-bioc/meat/ALDEx2.Rcheck/00check.log’
for details.
ALDEx2.Rcheck/00install.out
############################################################################## ############################################################################## ### ### Running command: ### ### /Library/Frameworks/R.framework/Resources/bin/R CMD INSTALL ALDEx2 ### ############################################################################## ############################################################################## * installing to library ‘/Library/Frameworks/R.framework/Versions/4.5-x86_64/Resources/library’ * installing *source* package ‘ALDEx2’ ... ** this is package ‘ALDEx2’ version ‘1.41.0’ ** using staged installation ** R ** data ** inst ** byte-compile and prepare package for lazy loading ** help *** installing help indices ** building package indices ** installing vignettes ** testing if installed package can be loaded from temporary location ** testing if installed package can be loaded from final location ** testing if installed package keeps a record of temporary installation path * DONE (ALDEx2)
ALDEx2.Rcheck/tests/testthat.Rout
R version 4.5.1 Patched (2025-09-10 r88807) -- "Great Square Root"
Copyright (C) 2025 The R Foundation for Statistical Computing
Platform: x86_64-apple-darwin20
R is free software and comes with ABSOLUTELY NO WARRANTY.
You are welcome to redistribute it under certain conditions.
Type 'license()' or 'licence()' for distribution details.
R is a collaborative project with many contributors.
Type 'contributors()' for more information and
'citation()' on how to cite R or R packages in publications.
Type 'demo()' for some demos, 'help()' for on-line help, or
'help.start()' for an HTML browser interface to help.
Type 'q()' to quit R.
> library(testthat)
> library(ALDEx2)
Loading required package: zCompositions
Loading required package: MASS
Loading required package: truncnorm
Loading required package: survival
Loading required package: lattice
Loading required package: latticeExtra
>
> test_check("ALDEx2")
[ FAIL 0 | WARN 5 | SKIP 0 | PASS 34 ]
[ FAIL 0 | WARN 5 | SKIP 0 | PASS 34 ]
>
> proc.time()
user system elapsed
76.581 3.337 80.528
ALDEx2.Rcheck/ALDEx2-Ex.timings
| name | user | system | elapsed | |
| ALDEx2m-package | 0.000 | 0.000 | 0.001 | |
| aldex | 2.477 | 0.997 | 3.514 | |
| aldex.clr-class | 0.075 | 0.005 | 0.080 | |
| aldex.corr | 1.195 | 0.081 | 1.282 | |
| aldex.effect | 0.218 | 0.006 | 0.225 | |
| aldex.expectedDistance | 0.937 | 0.035 | 0.978 | |
| aldex.glm | 4.009 | 0.062 | 4.096 | |
| aldex.glm.effect | 0.415 | 0.015 | 0.433 | |
| aldex.glm.plot | 0.001 | 0.000 | 0.000 | |
| aldex.kw | 1.783 | 0.015 | 1.809 | |
| aldex.makeScaleMatrix | 0.014 | 0.001 | 0.016 | |
| aldex.plot | 0 | 0 | 0 | |
| aldex.plotFeature | 0.114 | 0.007 | 0.123 | |
| aldex.set.mode | 0.064 | 0.004 | 0.068 | |
| aldex.ttest | 0.136 | 0.003 | 0.140 | |
| getConditions-method | 0.064 | 0.003 | 0.069 | |
| getDenom-method | 0.087 | 0.004 | 0.090 | |
| getDirichletInstances-method | 0.062 | 0.003 | 0.065 | |
| getDirichletReplicate-method | 0.065 | 0.003 | 0.070 | |
| getDirichletSample-method | 0.072 | 0.003 | 0.076 | |
| getFeatureNames-method | 0.073 | 0.004 | 0.077 | |
| getFeatures-method | 0.058 | 0.003 | 0.062 | |
| getMonteCarloInstances-method | 0.058 | 0.003 | 0.061 | |
| getMonteCarloReplicate-method | 0.061 | 0.003 | 0.064 | |
| getMonteCarloSample-method | 0.056 | 0.003 | 0.058 | |
| getReads-method | 0.142 | 0.015 | 0.157 | |
| getSampleIDs-method | 0.061 | 0.002 | 0.064 | |
| getScaleSamples-method | 0.066 | 0.002 | 0.069 | |
| numConditions-method | 0.056 | 0.003 | 0.060 | |
| numFeatures-method | 0.052 | 0.002 | 0.054 | |
| numMCInstances-method | 0.067 | 0.003 | 0.070 | |