| Back to Multiple platform build/check report for BioC 3.19: simplified long | 
 | 
This page was generated on 2024-06-11 14:43 -0400 (Tue, 11 Jun 2024).
| Hostname | OS | Arch (*) | R version | Installed pkgs | 
|---|---|---|---|---|
| nebbiolo1 | Linux (Ubuntu 22.04.3 LTS) | x86_64 | 4.4.0 (2024-04-24) -- "Puppy Cup" | 4757 | 
| palomino3 | Windows Server 2022 Datacenter | x64 | 4.4.0 (2024-04-24 ucrt) -- "Puppy Cup" | 4491 | 
| lconway | macOS 12.7.1 Monterey | x86_64 | 4.4.0 (2024-04-24) -- "Puppy Cup" | 4522 | 
| kjohnson3 | macOS 13.6.5 Ventura | arm64 | 4.4.0 (2024-04-24) -- "Puppy Cup" | 4468 | 
| Click on any hostname to see more info about the system (e.g. compilers) (*) as reported by 'uname -p', except on Windows and Mac OS X | ||||
| Package 2226/2300 | Hostname | OS / Arch | INSTALL | BUILD | CHECK | BUILD BIN | ||||||||
| twoddpcr 1.28.0  (landing page) Anthony Chiu 
 | nebbiolo1 | Linux (Ubuntu 22.04.3 LTS) / x86_64 | OK | OK | OK |  | ||||||||
| palomino3 | Windows Server 2022 Datacenter / x64 | OK | OK | OK | OK |  | ||||||||
| lconway | macOS 12.7.1 Monterey / x86_64 | OK | OK | OK | OK |  | ||||||||
| kjohnson3 | macOS 13.6.5 Ventura / arm64 | OK | OK | OK | OK |  | ||||||||
| To the developers/maintainers of the twoddpcr package: - Allow up to 24 hours (and sometimes 48 hours) for your latest push to git@git.bioconductor.org:packages/twoddpcr.git to reflect on this report. See Troubleshooting Build Report for more information. - Use the following Renviron settings to reproduce errors and warnings. - If 'R CMD check' started to fail recently on the Linux builder(s) over a missing dependency, add the missing dependency to 'Suggests:' in your DESCRIPTION file. See Renviron.bioc for more information. | 
| Package: twoddpcr | 
| Version: 1.28.0 | 
| Command: /Library/Frameworks/R.framework/Resources/bin/R CMD check --install=check:twoddpcr.install-out.txt --library=/Library/Frameworks/R.framework/Resources/library --no-vignettes --timings twoddpcr_1.28.0.tar.gz | 
| StartedAt: 2024-06-09 23:42:27 -0400 (Sun, 09 Jun 2024) | 
| EndedAt: 2024-06-09 23:44:40 -0400 (Sun, 09 Jun 2024) | 
| EllapsedTime: 132.5 seconds | 
| RetCode: 0 | 
| Status: OK | 
| CheckDir: twoddpcr.Rcheck | 
| Warnings: 0 | 
##############################################################################
##############################################################################
###
### Running command:
###
###   /Library/Frameworks/R.framework/Resources/bin/R CMD check --install=check:twoddpcr.install-out.txt --library=/Library/Frameworks/R.framework/Resources/library --no-vignettes --timings twoddpcr_1.28.0.tar.gz
###
##############################################################################
##############################################################################
* using log directory ‘/Users/biocbuild/bbs-3.19-bioc/meat/twoddpcr.Rcheck’
* using R version 4.4.0 (2024-04-24)
* using platform: x86_64-apple-darwin20
* R was compiled by
    Apple clang version 14.0.0 (clang-1400.0.29.202)
    GNU Fortran (GCC) 12.2.0
* running under: macOS Monterey 12.7.1
* using session charset: UTF-8
* using option ‘--no-vignettes’
* checking for file ‘twoddpcr/DESCRIPTION’ ... OK
* this is package ‘twoddpcr’ version ‘1.28.0’
* checking package namespace information ... OK
* checking package dependencies ... OK
* checking if this is a source package ... OK
* checking if there is a namespace ... OK
* checking for hidden files and directories ... OK
* checking for portable file names ... OK
* checking for sufficient/correct file permissions ... OK
* checking whether package ‘twoddpcr’ can be installed ... OK
* checking installed package size ... OK
* checking package directory ... OK
* checking ‘build’ directory ... OK
* checking DESCRIPTION meta-information ... OK
* checking top-level files ... OK
* checking for left-over files ... OK
* checking index information ... OK
* checking package subdirectories ... OK
* checking code files for non-ASCII characters ... OK
* checking R files for syntax errors ... OK
* checking whether the package can be loaded ... OK
* checking whether the package can be loaded with stated dependencies ... OK
* checking whether the package can be unloaded cleanly ... OK
* checking whether the namespace can be loaded with stated dependencies ... OK
* checking whether the namespace can be unloaded cleanly ... OK
* checking dependencies in R code ... OK
* checking S3 generic/method consistency ... OK
* checking replacement functions ... OK
* checking foreign function calls ... OK
* checking R code for possible problems ... OK
* checking Rd files ... OK
* checking Rd metadata ... OK
* checking Rd cross-references ... OK
* checking for missing documentation entries ... OK
* checking for code/documentation mismatches ... OK
* checking Rd \usage sections ... NOTE
S3 methods shown with full name in Rd file 'ggplot.well.Rd':
  ‘ggplot.well’ ‘ggplot.plate’
The \usage entries for S3 methods should use the \method markup and not
their full name.
See chapter ‘Writing R documentation files’ in the ‘Writing R
Extensions’ manual.
* checking Rd contents ... OK
* checking for unstated dependencies in examples ... OK
* checking contents of ‘data’ directory ... OK
* checking data for non-ASCII characters ... OK
* checking LazyData ... OK
* checking data for ASCII and uncompressed saves ... OK
* checking files in ‘vignettes’ ... OK
* checking examples ... OK
Examples with CPU (user + system) or elapsed time > 5s
             user system elapsed
knnClassify 7.082  0.163   7.268
ggplot.well 6.169  0.242   6.436
* checking for unstated dependencies in ‘tests’ ... OK
* checking tests ...
  Running ‘testthat.R’
 OK
* checking for unstated dependencies in vignettes ... OK
* checking package vignettes ... OK
* checking running R code from vignettes ... SKIPPED
* checking re-building of vignette outputs ... SKIPPED
* checking PDF version of manual ... OK
* DONE
Status: 1 NOTE
See
  ‘/Users/biocbuild/bbs-3.19-bioc/meat/twoddpcr.Rcheck/00check.log’
for details.
twoddpcr.Rcheck/00install.out
############################################################################## ############################################################################## ### ### Running command: ### ### /Library/Frameworks/R.framework/Resources/bin/R CMD INSTALL twoddpcr ### ############################################################################## ############################################################################## * installing to library ‘/Library/Frameworks/R.framework/Versions/4.4-x86_64/Resources/library’ * installing *source* package ‘twoddpcr’ ... ** using staged installation ** R ** data *** moving datasets to lazyload DB ** inst ** byte-compile and prepare package for lazy loading ** help *** installing help indices ** building package indices ** installing vignettes ** testing if installed package can be loaded from temporary location ** testing if installed package can be loaded from final location ** testing if installed package keeps a record of temporary installation path * DONE (twoddpcr)
twoddpcr.Rcheck/tests/testthat.Rout
R version 4.4.0 (2024-04-24) -- "Puppy Cup"
Copyright (C) 2024 The R Foundation for Statistical Computing
Platform: x86_64-apple-darwin20
R is free software and comes with ABSOLUTELY NO WARRANTY.
You are welcome to redistribute it under certain conditions.
Type 'license()' or 'licence()' for distribution details.
R is a collaborative project with many contributors.
Type 'contributors()' for more information and
'citation()' on how to cite R or R packages in publications.
Type 'demo()' for some demos, 'help()' for on-line help, or
'help.start()' for an HTML browser interface to help.
Type 'q()' to quit R.
> library(testthat)
> library(twoddpcr)
> 
> test_check("twoddpcr")
[ FAIL 0 | WARN 3 | SKIP 0 | PASS 155 ]
[ FAIL 0 | WARN 3 | SKIP 0 | PASS 155 ]
> 
> proc.time()
   user  system elapsed 
  6.868   0.512   7.423 
twoddpcr.Rcheck/twoddpcr-Ex.timings
| name | user | system | elapsed | |
| amplitudes | 0.260 | 0.020 | 0.279 | |
| basicsSummary | 0.005 | 0.001 | 0.006 | |
| castSummary | 0.018 | 0.005 | 0.022 | |
| classCov | 0.063 | 0.011 | 0.074 | |
| classMeans | 0.065 | 0.010 | 0.075 | |
| classStats | 0.080 | 0.016 | 0.097 | |
| clusterCentres | 0.756 | 0.064 | 0.822 | |
| copiesSummary | 0.006 | 0.001 | 0.008 | |
| ddpcrPlate-class | 0.252 | 0.017 | 0.270 | |
| ddpcrWell-class | 0.023 | 0.002 | 0.026 | |
| ddpcrWell-methods | 0.233 | 0.010 | 0.243 | |
| dropletPlot | 4.307 | 0.221 | 4.560 | |
| exportTable | 0.157 | 0.023 | 0.206 | |
| extractPlateName | 0.000 | 0.000 | 0.001 | |
| extractWellNames | 0.000 | 0.000 | 0.001 | |
| facetPlot | 2.415 | 0.101 | 2.525 | |
| flatPlot | 3.717 | 0.213 | 3.961 | |
| fullCopiesSummary | 0.008 | 0.002 | 0.010 | |
| fullCountsSummary | 0.030 | 0.007 | 0.037 | |
| ggplot.well | 6.169 | 0.242 | 6.436 | |
| gridClassify | 4.728 | 0.106 | 4.847 | |
| heatPlot | 1.629 | 0.109 | 1.745 | |
| kmeansClassify | 1.151 | 0.077 | 1.237 | |
| knnClassify | 7.082 | 0.163 | 7.268 | |
| mahalanobisRain | 0.657 | 0.066 | 0.726 | |
| mutantCopiesSummary | 0.006 | 0.001 | 0.007 | |
| numDroplets | 0.316 | 0.023 | 0.341 | |
| parseClusterCounts | 0.013 | 0.003 | 0.017 | |
| plateClassification | 1.153 | 0.044 | 1.203 | |
| plateClassificationMethod | 0.371 | 0.015 | 0.387 | |
| plateSummary | 1.518 | 0.014 | 1.536 | |
| positiveCounts | 0.030 | 0.001 | 0.031 | |
| readCSVDataFrame | 0.014 | 0.005 | 0.018 | |
| relabelClasses | 0.049 | 0.001 | 0.050 | |
| removeDropletClasses | 0.764 | 0.032 | 0.799 | |
| renormalisePlate | 3.466 | 0.192 | 3.672 | |
| sdRain | 2.297 | 0.058 | 2.368 | |
| setChannelNames | 0.001 | 0.001 | 0.001 | |
| setDropletVolume | 0 | 0 | 0 | |
| sortDataFrame | 0.001 | 0.001 | 0.002 | |
| sortWells | 0.211 | 0.017 | 0.229 | |
| thresholdClassify | 1.411 | 0.033 | 1.447 | |
| wellClassification | 0.016 | 0.001 | 0.017 | |
| wellClassificationMethod | 0.016 | 0.001 | 0.016 | |
| whiteTheme | 1.505 | 0.039 | 1.554 | |
| wildTypeCopiesSummary | 0.006 | 0.001 | 0.008 | |