| Back to Multiple platform build/check report for BioC 3.19: simplified long | 
 | 
This page was generated on 2024-10-18 20:39 -0400 (Fri, 18 Oct 2024).
| Hostname | OS | Arch (*) | R version | Installed pkgs | 
|---|---|---|---|---|
| nebbiolo1 | Linux (Ubuntu 22.04.3 LTS) | x86_64 | 4.4.1 (2024-06-14) -- "Race for Your Life" | 4763 | 
| palomino7 | Windows Server 2022 Datacenter | x64 | 4.4.1 (2024-06-14 ucrt) -- "Race for Your Life" | 4500 | 
| merida1 | macOS 12.7.5 Monterey | x86_64 | 4.4.1 (2024-06-14) -- "Race for Your Life" | 4530 | 
| kjohnson1 | macOS 13.6.6 Ventura | arm64 | 4.4.1 (2024-06-14) -- "Race for Your Life" | 4480 | 
| Click on any hostname to see more info about the system (e.g. compilers) (*) as reported by 'uname -p', except on Windows and Mac OS X | ||||
| Package 2226/2300 | Hostname | OS / Arch | INSTALL | BUILD | CHECK | BUILD BIN | ||||||||
| twoddpcr 1.28.0  (landing page) Anthony Chiu 
 | nebbiolo1 | Linux (Ubuntu 22.04.3 LTS) / x86_64 | OK | OK | OK |  | ||||||||
| palomino7 | Windows Server 2022 Datacenter / x64 | OK | OK | OK | OK |  | ||||||||
| merida1 | macOS 12.7.5 Monterey / x86_64 | OK | OK | OK | OK |  | ||||||||
| kjohnson1 | macOS 13.6.6 Ventura / arm64 | OK | OK | OK | NA | |||||||||
| To the developers/maintainers of the twoddpcr package: - Allow up to 24 hours (and sometimes 48 hours) for your latest push to git@git.bioconductor.org:packages/twoddpcr.git to reflect on this report. See Troubleshooting Build Report for more information. - Use the following Renviron settings to reproduce errors and warnings. - If 'R CMD check' started to fail recently on the Linux builder(s) over a missing dependency, add the missing dependency to 'Suggests:' in your DESCRIPTION file. See Renviron.bioc for more information. | 
| Package: twoddpcr | 
| Version: 1.28.0 | 
| Command: /home/biocbuild/bbs-3.19-bioc/R/bin/R CMD check --install=check:twoddpcr.install-out.txt --library=/home/biocbuild/bbs-3.19-bioc/R/site-library --timings twoddpcr_1.28.0.tar.gz | 
| StartedAt: 2024-10-17 06:09:06 -0400 (Thu, 17 Oct 2024) | 
| EndedAt: 2024-10-17 06:13:06 -0400 (Thu, 17 Oct 2024) | 
| EllapsedTime: 240.5 seconds | 
| RetCode: 0 | 
| Status: OK | 
| CheckDir: twoddpcr.Rcheck | 
| Warnings: 0 | 
##############################################################################
##############################################################################
###
### Running command:
###
###   /home/biocbuild/bbs-3.19-bioc/R/bin/R CMD check --install=check:twoddpcr.install-out.txt --library=/home/biocbuild/bbs-3.19-bioc/R/site-library --timings twoddpcr_1.28.0.tar.gz
###
##############################################################################
##############################################################################
* using log directory ‘/home/biocbuild/bbs-3.19-bioc/meat/twoddpcr.Rcheck’
* using R version 4.4.1 (2024-06-14)
* using platform: x86_64-pc-linux-gnu
* R was compiled by
    gcc (Ubuntu 11.4.0-1ubuntu1~22.04) 11.4.0
    GNU Fortran (Ubuntu 11.4.0-1ubuntu1~22.04) 11.4.0
* running under: Ubuntu 22.04.5 LTS
* using session charset: UTF-8
* checking for file ‘twoddpcr/DESCRIPTION’ ... OK
* this is package ‘twoddpcr’ version ‘1.28.0’
* checking package namespace information ... OK
* checking package dependencies ... OK
* checking if this is a source package ... OK
* checking if there is a namespace ... OK
* checking for hidden files and directories ... OK
* checking for portable file names ... OK
* checking for sufficient/correct file permissions ... OK
* checking whether package ‘twoddpcr’ can be installed ... OK
* checking installed package size ... OK
* checking package directory ... OK
* checking ‘build’ directory ... OK
* checking DESCRIPTION meta-information ... OK
* checking top-level files ... OK
* checking for left-over files ... OK
* checking index information ... OK
* checking package subdirectories ... OK
* checking code files for non-ASCII characters ... OK
* checking R files for syntax errors ... OK
* checking whether the package can be loaded ... OK
* checking whether the package can be loaded with stated dependencies ... OK
* checking whether the package can be unloaded cleanly ... OK
* checking whether the namespace can be loaded with stated dependencies ... OK
* checking whether the namespace can be unloaded cleanly ... OK
* checking loading without being on the library search path ... OK
* checking dependencies in R code ... OK
* checking S3 generic/method consistency ... OK
* checking replacement functions ... OK
* checking foreign function calls ... OK
* checking R code for possible problems ... OK
* checking Rd files ... OK
* checking Rd metadata ... OK
* checking Rd cross-references ... OK
* checking for missing documentation entries ... OK
* checking for code/documentation mismatches ... OK
* checking Rd \usage sections ... NOTE
S3 methods shown with full name in Rd file 'ggplot.well.Rd':
  ‘ggplot.well’ ‘ggplot.plate’
The \usage entries for S3 methods should use the \method markup and not
their full name.
See chapter ‘Writing R documentation files’ in the ‘Writing R
Extensions’ manual.
* checking Rd contents ... OK
* checking for unstated dependencies in examples ... OK
* checking contents of ‘data’ directory ... OK
* checking data for non-ASCII characters ... OK
* checking LazyData ... OK
* checking data for ASCII and uncompressed saves ... OK
* checking files in ‘vignettes’ ... OK
* checking examples ... OK
Examples with CPU (user + system) or elapsed time > 5s
             user system elapsed
ggplot.well 6.891  0.100   6.991
knnClassify 6.760  0.072   6.833
* checking for unstated dependencies in ‘tests’ ... OK
* checking tests ...
  Running ‘testthat.R’
 OK
* checking for unstated dependencies in vignettes ... OK
* checking package vignettes ... OK
* checking re-building of vignette outputs ... OK
* checking PDF version of manual ... OK
* DONE
Status: 1 NOTE
See
  ‘/home/biocbuild/bbs-3.19-bioc/meat/twoddpcr.Rcheck/00check.log’
for details.
twoddpcr.Rcheck/00install.out
############################################################################## ############################################################################## ### ### Running command: ### ### /home/biocbuild/bbs-3.19-bioc/R/bin/R CMD INSTALL twoddpcr ### ############################################################################## ############################################################################## * installing to library ‘/home/biocbuild/bbs-3.19-bioc/R/site-library’ * installing *source* package ‘twoddpcr’ ... ** using staged installation ** R ** data *** moving datasets to lazyload DB ** inst ** byte-compile and prepare package for lazy loading ** help *** installing help indices ** building package indices ** installing vignettes ** testing if installed package can be loaded from temporary location ** testing if installed package can be loaded from final location ** testing if installed package keeps a record of temporary installation path * DONE (twoddpcr)
twoddpcr.Rcheck/tests/testthat.Rout
R version 4.4.1 (2024-06-14) -- "Race for Your Life"
Copyright (C) 2024 The R Foundation for Statistical Computing
Platform: x86_64-pc-linux-gnu
R is free software and comes with ABSOLUTELY NO WARRANTY.
You are welcome to redistribute it under certain conditions.
Type 'license()' or 'licence()' for distribution details.
R is a collaborative project with many contributors.
Type 'contributors()' for more information and
'citation()' on how to cite R or R packages in publications.
Type 'demo()' for some demos, 'help()' for on-line help, or
'help.start()' for an HTML browser interface to help.
Type 'q()' to quit R.
> library(testthat)
> library(twoddpcr)
> 
> test_check("twoddpcr")
[ FAIL 0 | WARN 3 | SKIP 0 | PASS 155 ]
[ FAIL 0 | WARN 3 | SKIP 0 | PASS 155 ]
> 
> proc.time()
   user  system elapsed 
  5.648   0.230   5.867 
twoddpcr.Rcheck/twoddpcr-Ex.timings
| name | user | system | elapsed | |
| amplitudes | 0.341 | 0.036 | 0.378 | |
| basicsSummary | 0.002 | 0.003 | 0.005 | |
| castSummary | 0.012 | 0.008 | 0.020 | |
| classCov | 0.043 | 0.020 | 0.064 | |
| classMeans | 0.056 | 0.000 | 0.056 | |
| classStats | 0.063 | 0.004 | 0.068 | |
| clusterCentres | 0.721 | 0.016 | 0.738 | |
| copiesSummary | 0.002 | 0.003 | 0.006 | |
| ddpcrPlate-class | 0.276 | 0.000 | 0.277 | |
| ddpcrWell-class | 0.024 | 0.000 | 0.024 | |
| ddpcrWell-methods | 0.262 | 0.000 | 0.262 | |
| dropletPlot | 4.097 | 0.064 | 4.161 | |
| exportTable | 0.118 | 0.009 | 0.128 | |
| extractPlateName | 0.000 | 0.000 | 0.001 | |
| extractWellNames | 0.000 | 0.000 | 0.001 | |
| facetPlot | 1.938 | 0.047 | 1.986 | |
| flatPlot | 4.476 | 0.092 | 4.570 | |
| fullCopiesSummary | 0.006 | 0.000 | 0.006 | |
| fullCountsSummary | 0.020 | 0.007 | 0.027 | |
| ggplot.well | 6.891 | 0.100 | 6.991 | |
| gridClassify | 4.678 | 0.092 | 4.769 | |
| heatPlot | 1.336 | 0.000 | 1.336 | |
| kmeansClassify | 1.322 | 0.024 | 1.346 | |
| knnClassify | 6.760 | 0.072 | 6.833 | |
| mahalanobisRain | 0.653 | 0.012 | 0.666 | |
| mutantCopiesSummary | 0.004 | 0.000 | 0.004 | |
| numDroplets | 0.270 | 0.003 | 0.274 | |
| parseClusterCounts | 0.007 | 0.004 | 0.012 | |
| plateClassification | 1.020 | 0.004 | 1.023 | |
| plateClassificationMethod | 0.343 | 0.000 | 0.343 | |
| plateSummary | 2.14 | 0.00 | 2.14 | |
| positiveCounts | 0.054 | 0.000 | 0.054 | |
| readCSVDataFrame | 0.008 | 0.004 | 0.012 | |
| relabelClasses | 0.047 | 0.000 | 0.047 | |
| removeDropletClasses | 0.596 | 0.004 | 0.601 | |
| renormalisePlate | 2.953 | 0.020 | 2.973 | |
| sdRain | 3.210 | 0.004 | 3.215 | |
| setChannelNames | 0.001 | 0.000 | 0.001 | |
| setDropletVolume | 0.000 | 0.000 | 0.001 | |
| sortDataFrame | 0.003 | 0.000 | 0.002 | |
| sortWells | 0.293 | 0.000 | 0.293 | |
| thresholdClassify | 1.639 | 0.016 | 1.655 | |
| wellClassification | 0.02 | 0.00 | 0.02 | |
| wellClassificationMethod | 0.029 | 0.000 | 0.030 | |
| whiteTheme | 1.322 | 0.011 | 1.334 | |
| wildTypeCopiesSummary | 0.004 | 0.000 | 0.005 | |