| Back to Multiple platform build/check report for BioC 3.19: simplified long | 
 | 
This page was generated on 2024-10-18 20:43 -0400 (Fri, 18 Oct 2024).
| Hostname | OS | Arch (*) | R version | Installed pkgs | 
|---|---|---|---|---|
| nebbiolo1 | Linux (Ubuntu 22.04.3 LTS) | x86_64 | 4.4.1 (2024-06-14) -- "Race for Your Life" | 4763 | 
| palomino7 | Windows Server 2022 Datacenter | x64 | 4.4.1 (2024-06-14 ucrt) -- "Race for Your Life" | 4500 | 
| merida1 | macOS 12.7.5 Monterey | x86_64 | 4.4.1 (2024-06-14) -- "Race for Your Life" | 4530 | 
| kjohnson1 | macOS 13.6.6 Ventura | arm64 | 4.4.1 (2024-06-14) -- "Race for Your Life" | 4480 | 
| Click on any hostname to see more info about the system (e.g. compilers) (*) as reported by 'uname -p', except on Windows and Mac OS X | ||||
| Package 2226/2300 | Hostname | OS / Arch | INSTALL | BUILD | CHECK | BUILD BIN | ||||||||
| twoddpcr 1.28.0  (landing page) Anthony Chiu 
 | nebbiolo1 | Linux (Ubuntu 22.04.3 LTS) / x86_64 | OK | OK | OK |  | ||||||||
| palomino7 | Windows Server 2022 Datacenter / x64 | OK | OK | OK | OK |  | ||||||||
| merida1 | macOS 12.7.5 Monterey / x86_64 | OK | OK | OK | OK |  | ||||||||
| kjohnson1 | macOS 13.6.6 Ventura / arm64 | OK | OK | OK | NA | |||||||||
| To the developers/maintainers of the twoddpcr package: - Allow up to 24 hours (and sometimes 48 hours) for your latest push to git@git.bioconductor.org:packages/twoddpcr.git to reflect on this report. See Troubleshooting Build Report for more information. - Use the following Renviron settings to reproduce errors and warnings. - If 'R CMD check' started to fail recently on the Linux builder(s) over a missing dependency, add the missing dependency to 'Suggests:' in your DESCRIPTION file. See Renviron.bioc for more information. | 
| Package: twoddpcr | 
| Version: 1.28.0 | 
| Command: /Library/Frameworks/R.framework/Resources/bin/R CMD check --install=check:twoddpcr.install-out.txt --library=/Library/Frameworks/R.framework/Resources/library --no-vignettes --timings twoddpcr_1.28.0.tar.gz | 
| StartedAt: 2024-10-18 16:03:09 -0400 (Fri, 18 Oct 2024) | 
| EndedAt: 2024-10-18 16:05:46 -0400 (Fri, 18 Oct 2024) | 
| EllapsedTime: 156.7 seconds | 
| RetCode: 0 | 
| Status: OK | 
| CheckDir: twoddpcr.Rcheck | 
| Warnings: 0 | 
##############################################################################
##############################################################################
###
### Running command:
###
###   /Library/Frameworks/R.framework/Resources/bin/R CMD check --install=check:twoddpcr.install-out.txt --library=/Library/Frameworks/R.framework/Resources/library --no-vignettes --timings twoddpcr_1.28.0.tar.gz
###
##############################################################################
##############################################################################
* using log directory ‘/Users/biocbuild/bbs-3.19-bioc/meat/twoddpcr.Rcheck’
* using R version 4.4.1 (2024-06-14)
* using platform: aarch64-apple-darwin20
* R was compiled by
    Apple clang version 14.0.0 (clang-1400.0.29.202)
    GNU Fortran (GCC) 12.2.0
* running under: macOS Ventura 13.6.6
* using session charset: UTF-8
* using option ‘--no-vignettes’
* checking for file ‘twoddpcr/DESCRIPTION’ ... OK
* this is package ‘twoddpcr’ version ‘1.28.0’
* checking package namespace information ... OK
* checking package dependencies ... OK
* checking if this is a source package ... OK
* checking if there is a namespace ... OK
* checking for hidden files and directories ... OK
* checking for portable file names ... OK
* checking for sufficient/correct file permissions ... OK
* checking whether package ‘twoddpcr’ can be installed ... OK
* checking installed package size ... OK
* checking package directory ... OK
* checking ‘build’ directory ... OK
* checking DESCRIPTION meta-information ... OK
* checking top-level files ... OK
* checking for left-over files ... OK
* checking index information ... OK
* checking package subdirectories ... OK
* checking code files for non-ASCII characters ... OK
* checking R files for syntax errors ... OK
* checking whether the package can be loaded ... OK
* checking whether the package can be loaded with stated dependencies ... OK
* checking whether the package can be unloaded cleanly ... OK
* checking whether the namespace can be loaded with stated dependencies ... OK
* checking whether the namespace can be unloaded cleanly ... OK
* checking dependencies in R code ... OK
* checking S3 generic/method consistency ... OK
* checking replacement functions ... OK
* checking foreign function calls ... OK
* checking R code for possible problems ... OK
* checking Rd files ... OK
* checking Rd metadata ... OK
* checking Rd cross-references ... OK
* checking for missing documentation entries ... OK
* checking for code/documentation mismatches ... OK
* checking Rd \usage sections ... NOTE
S3 methods shown with full name in Rd file 'ggplot.well.Rd':
  ‘ggplot.well’ ‘ggplot.plate’
The \usage entries for S3 methods should use the \method markup and not
their full name.
See chapter ‘Writing R documentation files’ in the ‘Writing R
Extensions’ manual.
* checking Rd contents ... OK
* checking for unstated dependencies in examples ... OK
* checking contents of ‘data’ directory ... OK
* checking data for non-ASCII characters ... OK
* checking LazyData ... OK
* checking data for ASCII and uncompressed saves ... OK
* checking files in ‘vignettes’ ... OK
* checking examples ... OK
Examples with CPU (user + system) or elapsed time > 5s
              user system elapsed
knnClassify  9.181  0.159   9.658
ggplot.well  8.451  0.267   9.097
gridClassify 6.679  0.161   7.101
dropletPlot  5.289  0.174   5.633
* checking for unstated dependencies in ‘tests’ ... OK
* checking tests ...
  Running ‘testthat.R’
 OK
* checking for unstated dependencies in vignettes ... OK
* checking package vignettes ... OK
* checking running R code from vignettes ... SKIPPED
* checking re-building of vignette outputs ... SKIPPED
* checking PDF version of manual ... OK
* DONE
Status: 1 NOTE
See
  ‘/Users/biocbuild/bbs-3.19-bioc/meat/twoddpcr.Rcheck/00check.log’
for details.
twoddpcr.Rcheck/00install.out
############################################################################## ############################################################################## ### ### Running command: ### ### /Library/Frameworks/R.framework/Resources/bin/R CMD INSTALL twoddpcr ### ############################################################################## ############################################################################## * installing to library ‘/Library/Frameworks/R.framework/Versions/4.4-arm64/Resources/library’ * installing *source* package ‘twoddpcr’ ... ** using staged installation ** R ** data *** moving datasets to lazyload DB ** inst ** byte-compile and prepare package for lazy loading ** help *** installing help indices ** building package indices ** installing vignettes ** testing if installed package can be loaded from temporary location ** testing if installed package can be loaded from final location ** testing if installed package keeps a record of temporary installation path * DONE (twoddpcr)
twoddpcr.Rcheck/tests/testthat.Rout
R version 4.4.1 (2024-06-14) -- "Race for Your Life"
Copyright (C) 2024 The R Foundation for Statistical Computing
Platform: aarch64-apple-darwin20
R is free software and comes with ABSOLUTELY NO WARRANTY.
You are welcome to redistribute it under certain conditions.
Type 'license()' or 'licence()' for distribution details.
R is a collaborative project with many contributors.
Type 'contributors()' for more information and
'citation()' on how to cite R or R packages in publications.
Type 'demo()' for some demos, 'help()' for on-line help, or
'help.start()' for an HTML browser interface to help.
Type 'q()' to quit R.
> library(testthat)
> library(twoddpcr)
> 
> test_check("twoddpcr")
[ FAIL 0 | WARN 3 | SKIP 0 | PASS 155 ]
[ FAIL 0 | WARN 3 | SKIP 0 | PASS 155 ]
> 
> proc.time()
   user  system elapsed 
  7.051   0.563   7.960 
twoddpcr.Rcheck/twoddpcr-Ex.timings
| name | user | system | elapsed | |
| amplitudes | 0.368 | 0.025 | 0.420 | |
| basicsSummary | 0.007 | 0.001 | 0.008 | |
| castSummary | 0.018 | 0.004 | 0.024 | |
| classCov | 0.071 | 0.008 | 0.083 | |
| classMeans | 0.066 | 0.006 | 0.079 | |
| classStats | 0.079 | 0.010 | 0.091 | |
| clusterCentres | 0.846 | 0.046 | 0.922 | |
| copiesSummary | 0.005 | 0.001 | 0.005 | |
| ddpcrPlate-class | 0.316 | 0.012 | 0.354 | |
| ddpcrWell-class | 0.026 | 0.002 | 0.033 | |
| ddpcrWell-methods | 0.284 | 0.008 | 0.297 | |
| dropletPlot | 5.289 | 0.174 | 5.633 | |
| exportTable | 0.143 | 0.026 | 0.189 | |
| extractPlateName | 0.001 | 0.000 | 0.001 | |
| extractWellNames | 0.001 | 0.000 | 0.001 | |
| facetPlot | 2.474 | 0.106 | 2.631 | |
| flatPlot | 4.313 | 0.192 | 4.684 | |
| fullCopiesSummary | 0.008 | 0.001 | 0.009 | |
| fullCountsSummary | 0.026 | 0.005 | 0.032 | |
| ggplot.well | 8.451 | 0.267 | 9.097 | |
| gridClassify | 6.679 | 0.161 | 7.101 | |
| heatPlot | 1.877 | 0.081 | 2.031 | |
| kmeansClassify | 1.136 | 0.060 | 1.233 | |
| knnClassify | 9.181 | 0.159 | 9.658 | |
| mahalanobisRain | 0.723 | 0.044 | 0.820 | |
| mutantCopiesSummary | 0.006 | 0.001 | 0.007 | |
| numDroplets | 0.312 | 0.016 | 0.362 | |
| parseClusterCounts | 0.010 | 0.002 | 0.012 | |
| plateClassification | 1.178 | 0.043 | 1.306 | |
| plateClassificationMethod | 0.410 | 0.011 | 0.439 | |
| plateSummary | 2.038 | 0.018 | 2.181 | |
| positiveCounts | 0.028 | 0.001 | 0.030 | |
| readCSVDataFrame | 0.015 | 0.004 | 0.021 | |
| relabelClasses | 0.053 | 0.003 | 0.057 | |
| removeDropletClasses | 0.859 | 0.025 | 0.922 | |
| renormalisePlate | 3.813 | 0.146 | 4.106 | |
| sdRain | 2.654 | 0.041 | 2.814 | |
| setChannelNames | 0 | 0 | 0 | |
| setDropletVolume | 0 | 0 | 0 | |
| sortDataFrame | 0.001 | 0.001 | 0.001 | |
| sortWells | 0.192 | 0.006 | 0.236 | |
| thresholdClassify | 1.511 | 0.043 | 1.625 | |
| wellClassification | 0.024 | 0.001 | 0.028 | |
| wellClassificationMethod | 0.023 | 0.001 | 0.024 | |
| whiteTheme | 2.053 | 0.032 | 2.187 | |
| wildTypeCopiesSummary | 0.005 | 0.001 | 0.006 | |