| Back to Multiple platform build/check report for BioC 3.19: simplified long |
|
This page was generated on 2024-06-11 14:44 -0400 (Tue, 11 Jun 2024).
| Hostname | OS | Arch (*) | R version | Installed pkgs |
|---|---|---|---|---|
| nebbiolo1 | Linux (Ubuntu 22.04.3 LTS) | x86_64 | 4.4.0 (2024-04-24) -- "Puppy Cup" | 4757 |
| palomino3 | Windows Server 2022 Datacenter | x64 | 4.4.0 (2024-04-24 ucrt) -- "Puppy Cup" | 4491 |
| lconway | macOS 12.7.1 Monterey | x86_64 | 4.4.0 (2024-04-24) -- "Puppy Cup" | 4522 |
| kjohnson3 | macOS 13.6.5 Ventura | arm64 | 4.4.0 (2024-04-24) -- "Puppy Cup" | 4468 |
| Click on any hostname to see more info about the system (e.g. compilers) (*) as reported by 'uname -p', except on Windows and Mac OS X | ||||
| Package 2226/2300 | Hostname | OS / Arch | INSTALL | BUILD | CHECK | BUILD BIN | ||||||||
| twoddpcr 1.28.0 (landing page) Anthony Chiu
| nebbiolo1 | Linux (Ubuntu 22.04.3 LTS) / x86_64 | OK | OK | OK | |||||||||
| palomino3 | Windows Server 2022 Datacenter / x64 | OK | OK | OK | OK | |||||||||
| lconway | macOS 12.7.1 Monterey / x86_64 | OK | OK | OK | OK | |||||||||
| kjohnson3 | macOS 13.6.5 Ventura / arm64 | OK | OK | OK | OK | |||||||||
|
To the developers/maintainers of the twoddpcr package: - Allow up to 24 hours (and sometimes 48 hours) for your latest push to git@git.bioconductor.org:packages/twoddpcr.git to reflect on this report. See Troubleshooting Build Report for more information. - Use the following Renviron settings to reproduce errors and warnings. - If 'R CMD check' started to fail recently on the Linux builder(s) over a missing dependency, add the missing dependency to 'Suggests:' in your DESCRIPTION file. See Renviron.bioc for more information. |
| Package: twoddpcr |
| Version: 1.28.0 |
| Command: /Library/Frameworks/R.framework/Resources/bin/R CMD check --install=check:twoddpcr.install-out.txt --library=/Library/Frameworks/R.framework/Resources/library --no-vignettes --timings twoddpcr_1.28.0.tar.gz |
| StartedAt: 2024-06-11 09:02:33 -0400 (Tue, 11 Jun 2024) |
| EndedAt: 2024-06-11 09:05:43 -0400 (Tue, 11 Jun 2024) |
| EllapsedTime: 190.0 seconds |
| RetCode: 0 |
| Status: OK |
| CheckDir: twoddpcr.Rcheck |
| Warnings: 0 |
##############################################################################
##############################################################################
###
### Running command:
###
### /Library/Frameworks/R.framework/Resources/bin/R CMD check --install=check:twoddpcr.install-out.txt --library=/Library/Frameworks/R.framework/Resources/library --no-vignettes --timings twoddpcr_1.28.0.tar.gz
###
##############################################################################
##############################################################################
* using log directory ‘/Users/biocbuild/bbs-3.19-bioc/meat/twoddpcr.Rcheck’
* using R version 4.4.0 (2024-04-24)
* using platform: aarch64-apple-darwin20
* R was compiled by
Apple clang version 14.0.0 (clang-1400.0.29.202)
GNU Fortran (GCC) 12.2.0
* running under: macOS Ventura 13.6.5
* using session charset: UTF-8
* using option ‘--no-vignettes’
* checking for file ‘twoddpcr/DESCRIPTION’ ... OK
* this is package ‘twoddpcr’ version ‘1.28.0’
* checking package namespace information ... OK
* checking package dependencies ... OK
* checking if this is a source package ... OK
* checking if there is a namespace ... OK
* checking for hidden files and directories ... OK
* checking for portable file names ... OK
* checking for sufficient/correct file permissions ... OK
* checking whether package ‘twoddpcr’ can be installed ... OK
* checking installed package size ... OK
* checking package directory ... OK
* checking ‘build’ directory ... OK
* checking DESCRIPTION meta-information ... OK
* checking top-level files ... OK
* checking for left-over files ... OK
* checking index information ... OK
* checking package subdirectories ... OK
* checking code files for non-ASCII characters ... OK
* checking R files for syntax errors ... OK
* checking whether the package can be loaded ... OK
* checking whether the package can be loaded with stated dependencies ... OK
* checking whether the package can be unloaded cleanly ... OK
* checking whether the namespace can be loaded with stated dependencies ... OK
* checking whether the namespace can be unloaded cleanly ... OK
* checking dependencies in R code ... OK
* checking S3 generic/method consistency ... OK
* checking replacement functions ... OK
* checking foreign function calls ... OK
* checking R code for possible problems ... OK
* checking Rd files ... OK
* checking Rd metadata ... OK
* checking Rd cross-references ... OK
* checking for missing documentation entries ... OK
* checking for code/documentation mismatches ... OK
* checking Rd \usage sections ... NOTE
S3 methods shown with full name in Rd file 'ggplot.well.Rd':
‘ggplot.well’ ‘ggplot.plate’
The \usage entries for S3 methods should use the \method markup and not
their full name.
See chapter ‘Writing R documentation files’ in the ‘Writing R
Extensions’ manual.
* checking Rd contents ... OK
* checking for unstated dependencies in examples ... OK
* checking contents of ‘data’ directory ... OK
* checking data for non-ASCII characters ... OK
* checking LazyData ... OK
* checking data for ASCII and uncompressed saves ... OK
* checking files in ‘vignettes’ ... OK
* checking examples ... OK
Examples with CPU (user + system) or elapsed time > 5s
user system elapsed
knnClassify 6.632 0.143 9.364
ggplot.well 5.682 0.199 8.278
gridClassify 4.494 0.092 6.442
dropletPlot 4.010 0.154 6.443
renormalisePlate 3.784 0.125 5.424
flatPlot 3.287 0.169 5.288
* checking for unstated dependencies in ‘tests’ ... OK
* checking tests ...
Running ‘testthat.R’
OK
* checking for unstated dependencies in vignettes ... OK
* checking package vignettes ... OK
* checking running R code from vignettes ... SKIPPED
* checking re-building of vignette outputs ... SKIPPED
* checking PDF version of manual ... OK
* DONE
Status: 1 NOTE
See
‘/Users/biocbuild/bbs-3.19-bioc/meat/twoddpcr.Rcheck/00check.log’
for details.
twoddpcr.Rcheck/00install.out
############################################################################## ############################################################################## ### ### Running command: ### ### /Library/Frameworks/R.framework/Resources/bin/R CMD INSTALL twoddpcr ### ############################################################################## ############################################################################## * installing to library ‘/Library/Frameworks/R.framework/Versions/4.4-arm64/Resources/library’ * installing *source* package ‘twoddpcr’ ... ** using staged installation ** R ** data *** moving datasets to lazyload DB ** inst ** byte-compile and prepare package for lazy loading ** help *** installing help indices ** building package indices ** installing vignettes ** testing if installed package can be loaded from temporary location ** testing if installed package can be loaded from final location ** testing if installed package keeps a record of temporary installation path * DONE (twoddpcr)
twoddpcr.Rcheck/tests/testthat.Rout
R version 4.4.0 (2024-04-24) -- "Puppy Cup"
Copyright (C) 2024 The R Foundation for Statistical Computing
Platform: aarch64-apple-darwin20
R is free software and comes with ABSOLUTELY NO WARRANTY.
You are welcome to redistribute it under certain conditions.
Type 'license()' or 'licence()' for distribution details.
R is a collaborative project with many contributors.
Type 'contributors()' for more information and
'citation()' on how to cite R or R packages in publications.
Type 'demo()' for some demos, 'help()' for on-line help, or
'help.start()' for an HTML browser interface to help.
Type 'q()' to quit R.
> library(testthat)
> library(twoddpcr)
>
> test_check("twoddpcr")
[ FAIL 0 | WARN 3 | SKIP 0 | PASS 155 ]
[ FAIL 0 | WARN 3 | SKIP 0 | PASS 155 ]
>
> proc.time()
user system elapsed
7.068 0.533 10.982
twoddpcr.Rcheck/twoddpcr-Ex.timings
| name | user | system | elapsed | |
| amplitudes | 0.315 | 0.021 | 0.490 | |
| basicsSummary | 0.006 | 0.000 | 0.012 | |
| castSummary | 0.017 | 0.004 | 0.031 | |
| classCov | 0.063 | 0.007 | 0.098 | |
| classMeans | 0.053 | 0.006 | 0.080 | |
| classStats | 0.076 | 0.007 | 0.113 | |
| clusterCentres | 0.746 | 0.033 | 1.146 | |
| copiesSummary | 0.006 | 0.000 | 0.010 | |
| ddpcrPlate-class | 0.275 | 0.010 | 0.440 | |
| ddpcrWell-class | 0.021 | 0.002 | 0.036 | |
| ddpcrWell-methods | 0.235 | 0.006 | 0.341 | |
| dropletPlot | 4.010 | 0.154 | 6.443 | |
| exportTable | 0.143 | 0.030 | 0.304 | |
| extractPlateName | 0.001 | 0.000 | 0.001 | |
| extractWellNames | 0.001 | 0.001 | 0.001 | |
| facetPlot | 2.325 | 0.068 | 3.711 | |
| flatPlot | 3.287 | 0.169 | 5.288 | |
| fullCopiesSummary | 0.008 | 0.001 | 0.013 | |
| fullCountsSummary | 0.025 | 0.005 | 0.045 | |
| ggplot.well | 5.682 | 0.199 | 8.278 | |
| gridClassify | 4.494 | 0.092 | 6.442 | |
| heatPlot | 1.664 | 0.074 | 2.280 | |
| kmeansClassify | 1.030 | 0.047 | 1.348 | |
| knnClassify | 6.632 | 0.143 | 9.364 | |
| mahalanobisRain | 0.654 | 0.038 | 0.908 | |
| mutantCopiesSummary | 0.005 | 0.001 | 0.007 | |
| numDroplets | 0.261 | 0.012 | 0.354 | |
| parseClusterCounts | 0.013 | 0.002 | 0.018 | |
| plateClassification | 1.025 | 0.033 | 1.340 | |
| plateClassificationMethod | 0.360 | 0.008 | 0.446 | |
| plateSummary | 1.389 | 0.013 | 1.668 | |
| positiveCounts | 0.020 | 0.002 | 0.023 | |
| readCSVDataFrame | 0.011 | 0.003 | 0.015 | |
| relabelClasses | 0.037 | 0.006 | 0.043 | |
| removeDropletClasses | 0.862 | 0.033 | 1.065 | |
| renormalisePlate | 3.784 | 0.125 | 5.424 | |
| sdRain | 2.144 | 0.040 | 2.967 | |
| setChannelNames | 0.001 | 0.001 | 0.002 | |
| setDropletVolume | 0 | 0 | 0 | |
| sortDataFrame | 0.002 | 0.001 | 0.004 | |
| sortWells | 0.257 | 0.008 | 0.340 | |
| thresholdClassify | 1.424 | 0.036 | 1.727 | |
| wellClassification | 0.017 | 0.001 | 0.018 | |
| wellClassificationMethod | 0.018 | 0.001 | 0.019 | |
| whiteTheme | 1.320 | 0.031 | 1.874 | |
| wildTypeCopiesSummary | 0.005 | 0.002 | 0.009 | |