| Back to Multiple platform build/check report for BioC 3.19: simplified long |
|
This page was generated on 2024-10-18 20:38 -0400 (Fri, 18 Oct 2024).
| Hostname | OS | Arch (*) | R version | Installed pkgs |
|---|---|---|---|---|
| nebbiolo1 | Linux (Ubuntu 22.04.3 LTS) | x86_64 | 4.4.1 (2024-06-14) -- "Race for Your Life" | 4763 |
| palomino7 | Windows Server 2022 Datacenter | x64 | 4.4.1 (2024-06-14 ucrt) -- "Race for Your Life" | 4500 |
| merida1 | macOS 12.7.5 Monterey | x86_64 | 4.4.1 (2024-06-14) -- "Race for Your Life" | 4530 |
| kjohnson1 | macOS 13.6.6 Ventura | arm64 | 4.4.1 (2024-06-14) -- "Race for Your Life" | 4480 |
| Click on any hostname to see more info about the system (e.g. compilers) (*) as reported by 'uname -p', except on Windows and Mac OS X | ||||
| Package 1429/2300 | Hostname | OS / Arch | INSTALL | BUILD | CHECK | BUILD BIN | ||||||||
| ngsReports 2.6.1 (landing page) Stevie Pederson
| nebbiolo1 | Linux (Ubuntu 22.04.3 LTS) / x86_64 | OK | OK | OK | |||||||||
| palomino7 | Windows Server 2022 Datacenter / x64 | OK | OK | OK | OK | |||||||||
| merida1 | macOS 12.7.5 Monterey / x86_64 | OK | OK | OK | OK | |||||||||
| kjohnson1 | macOS 13.6.6 Ventura / arm64 | OK | OK | OK | OK | |||||||||
|
To the developers/maintainers of the ngsReports package: - Allow up to 24 hours (and sometimes 48 hours) for your latest push to git@git.bioconductor.org:packages/ngsReports.git to reflect on this report. See Troubleshooting Build Report for more information. - Use the following Renviron settings to reproduce errors and warnings. - If 'R CMD check' started to fail recently on the Linux builder(s) over a missing dependency, add the missing dependency to 'Suggests:' in your DESCRIPTION file. See Renviron.bioc for more information. |
| Package: ngsReports |
| Version: 2.6.1 |
| Command: /home/biocbuild/bbs-3.19-bioc/R/bin/R CMD check --install=check:ngsReports.install-out.txt --library=/home/biocbuild/bbs-3.19-bioc/R/site-library --timings ngsReports_2.6.1.tar.gz |
| StartedAt: 2024-10-17 03:06:15 -0400 (Thu, 17 Oct 2024) |
| EndedAt: 2024-10-17 03:09:46 -0400 (Thu, 17 Oct 2024) |
| EllapsedTime: 211.4 seconds |
| RetCode: 0 |
| Status: OK |
| CheckDir: ngsReports.Rcheck |
| Warnings: 0 |
##############################################################################
##############################################################################
###
### Running command:
###
### /home/biocbuild/bbs-3.19-bioc/R/bin/R CMD check --install=check:ngsReports.install-out.txt --library=/home/biocbuild/bbs-3.19-bioc/R/site-library --timings ngsReports_2.6.1.tar.gz
###
##############################################################################
##############################################################################
* using log directory ‘/home/biocbuild/bbs-3.19-bioc/meat/ngsReports.Rcheck’
* using R version 4.4.1 (2024-06-14)
* using platform: x86_64-pc-linux-gnu
* R was compiled by
gcc (Ubuntu 11.4.0-1ubuntu1~22.04) 11.4.0
GNU Fortran (Ubuntu 11.4.0-1ubuntu1~22.04) 11.4.0
* running under: Ubuntu 22.04.5 LTS
* using session charset: UTF-8
* checking for file ‘ngsReports/DESCRIPTION’ ... OK
* this is package ‘ngsReports’ version ‘2.6.1’
* package encoding: UTF-8
* checking package namespace information ... OK
* checking package dependencies ... OK
* checking if this is a source package ... OK
* checking if there is a namespace ... OK
* checking for hidden files and directories ... OK
* checking for portable file names ... OK
* checking for sufficient/correct file permissions ... OK
* checking whether package ‘ngsReports’ can be installed ... OK
* checking installed package size ... OK
* checking package directory ... OK
* checking ‘build’ directory ... OK
* checking DESCRIPTION meta-information ... OK
* checking top-level files ... OK
* checking for left-over files ... OK
* checking index information ... OK
* checking package subdirectories ... OK
* checking code files for non-ASCII characters ... OK
* checking R files for syntax errors ... OK
* checking whether the package can be loaded ... OK
* checking whether the package can be loaded with stated dependencies ... OK
* checking whether the package can be unloaded cleanly ... OK
* checking whether the namespace can be loaded with stated dependencies ... OK
* checking whether the namespace can be unloaded cleanly ... OK
* checking loading without being on the library search path ... OK
* checking dependencies in R code ... OK
* checking S3 generic/method consistency ... OK
* checking replacement functions ... OK
* checking foreign function calls ... OK
* checking R code for possible problems ... OK
* checking Rd files ... OK
* checking Rd metadata ... OK
* checking Rd cross-references ... OK
* checking for missing documentation entries ... OK
* checking for code/documentation mismatches ... OK
* checking Rd \usage sections ... OK
* checking Rd contents ... OK
* checking for unstated dependencies in examples ... OK
* checking contents of ‘data’ directory ... OK
* checking data for non-ASCII characters ... OK
* checking LazyData ... OK
* checking data for ASCII and uncompressed saves ... OK
* checking files in ‘vignettes’ ... OK
* checking examples ... OK
* checking for unstated dependencies in ‘tests’ ... OK
* checking tests ...
Running ‘testthat.R’
OK
* checking for unstated dependencies in vignettes ... OK
* checking package vignettes ... OK
* checking re-building of vignette outputs ... OK
* checking PDF version of manual ... OK
* DONE
Status: OK
ngsReports.Rcheck/00install.out
############################################################################## ############################################################################## ### ### Running command: ### ### /home/biocbuild/bbs-3.19-bioc/R/bin/R CMD INSTALL ngsReports ### ############################################################################## ############################################################################## * installing to library ‘/home/biocbuild/bbs-3.19-bioc/R/site-library’ * installing *source* package ‘ngsReports’ ... ** using staged installation ** R ** data *** moving datasets to lazyload DB ** inst ** byte-compile and prepare package for lazy loading ** help *** installing help indices *** copying figures ** building package indices ** installing vignettes ** testing if installed package can be loaded from temporary location ** testing if installed package can be loaded from final location ** testing if installed package keeps a record of temporary installation path * DONE (ngsReports)
ngsReports.Rcheck/tests/testthat.Rout
R version 4.4.1 (2024-06-14) -- "Race for Your Life"
Copyright (C) 2024 The R Foundation for Statistical Computing
Platform: x86_64-pc-linux-gnu
R is free software and comes with ABSOLUTELY NO WARRANTY.
You are welcome to redistribute it under certain conditions.
Type 'license()' or 'licence()' for distribution details.
R is a collaborative project with many contributors.
Type 'contributors()' for more information and
'citation()' on how to cite R or R packages in publications.
Type 'demo()' for some demos, 'help()' for on-line help, or
'help.start()' for an HTML browser interface to help.
Type 'q()' to quit R.
> library(testthat)
> library(ngsReports)
Loading required package: BiocGenerics
Attaching package: 'BiocGenerics'
The following objects are masked from 'package:stats':
IQR, mad, sd, var, xtabs
The following objects are masked from 'package:base':
Filter, Find, Map, Position, Reduce, anyDuplicated, aperm, append,
as.data.frame, basename, cbind, colnames, dirname, do.call,
duplicated, eval, evalq, get, grep, grepl, intersect, is.unsorted,
lapply, mapply, match, mget, order, paste, pmax, pmax.int, pmin,
pmin.int, rank, rbind, rownames, sapply, setdiff, table, tapply,
union, unique, unsplit, which.max, which.min
Loading required package: ggplot2
Loading required package: patchwork
Loading required package: tibble
>
> test_check("ngsReports")
[ FAIL 0 | WARN 0 | SKIP 0 | PASS 387 ]
>
> proc.time()
user system elapsed
46.932 1.468 48.388
ngsReports.Rcheck/ngsReports-Ex.timings
| name | user | system | elapsed | |
| FastqcData | 0.078 | 0.007 | 0.086 | |
| FastqcDataList | 0.360 | 0.015 | 0.377 | |
| TheoreticalGC-class | 0.080 | 0.003 | 0.085 | |
| dot-FastqcFile-class | 0.003 | 0.000 | 0.003 | |
| dot-addPercent | 0.000 | 0.000 | 0.001 | |
| dot-emptyPlot | 0.150 | 0.000 | 0.151 | |
| dot-makeDendro | 0.472 | 0.072 | 0.543 | |
| dot-makeLabels | 0.002 | 0.000 | 0.002 | |
| dot-splitByTab | 0.006 | 0.000 | 0.006 | |
| estGcDistn | 0.023 | 0.012 | 0.036 | |
| extract-methods | 0.344 | 0.092 | 0.436 | |
| fqName-methods | 0.306 | 0.040 | 0.346 | |
| fqcVersion | 0.339 | 0.044 | 0.382 | |
| gcAvail | 0.023 | 0.000 | 0.022 | |
| gcTheoretical | 0.036 | 0.000 | 0.036 | |
| getColours-methods | 0.003 | 0.000 | 0.002 | |
| getGC | 0.018 | 0.000 | 0.018 | |
| getModule | 0.346 | 0.012 | 0.359 | |
| getSummary | 0.332 | 0.016 | 0.349 | |
| importNgsLogs | 0.023 | 0.000 | 0.024 | |
| importSJ | 0.007 | 0.000 | 0.007 | |
| isCompressed | 0.001 | 0.000 | 0.002 | |
| mData | 0.021 | 0.000 | 0.021 | |
| maxAdapterContent | 0.379 | 0.008 | 0.386 | |
| overRep2Fasta-methods | 0.356 | 0.016 | 0.372 | |
| path | 0.434 | 0.068 | 0.502 | |
| plotAdapterContent-methods | 2.362 | 0.064 | 2.426 | |
| plotAlignmentSummary | 0.662 | 0.079 | 0.742 | |
| plotAssemblyStats | 0.454 | 0.072 | 0.526 | |
| plotBaseQuals-methods | 1.300 | 0.056 | 1.356 | |
| plotDupLevels-methods | 0.914 | 0.048 | 0.961 | |
| plotFastqcPCA-methods | 0.536 | 0.008 | 0.544 | |
| plotGcContent-methods | 0.778 | 0.008 | 0.786 | |
| plotInsertSize-methods | 0.480 | 0.016 | 0.498 | |
| plotKmers-methods | 1.259 | 0.008 | 1.268 | |
| plotNContent-methods | 0.633 | 0.044 | 0.677 | |
| plotOverrep-methods | 0.663 | 0.004 | 0.667 | |
| plotReadTotals-methods | 0.637 | 0.004 | 0.641 | |
| plotSeqContent-methods | 2.992 | 0.064 | 3.055 | |
| plotSeqLengthDistn-methods | 0.987 | 0.024 | 1.010 | |
| plotSeqQuals-methods | 1.075 | 0.016 | 1.091 | |
| plotSummary-methods | 0.509 | 0.032 | 0.542 | |
| pwf | 0.005 | 0.000 | 0.005 | |
| readTotals | 0.388 | 0.024 | 0.411 | |
| summariseOverrep-methods | 0.685 | 0.012 | 0.696 | |
| writeHtmlReport | 0 | 0 | 0 | |