| Back to Multiple platform build/check report for BioC 3.19: simplified long |
|
This page was generated on 2024-10-18 20:42 -0400 (Fri, 18 Oct 2024).
| Hostname | OS | Arch (*) | R version | Installed pkgs |
|---|---|---|---|---|
| nebbiolo1 | Linux (Ubuntu 22.04.3 LTS) | x86_64 | 4.4.1 (2024-06-14) -- "Race for Your Life" | 4763 |
| palomino7 | Windows Server 2022 Datacenter | x64 | 4.4.1 (2024-06-14 ucrt) -- "Race for Your Life" | 4500 |
| merida1 | macOS 12.7.5 Monterey | x86_64 | 4.4.1 (2024-06-14) -- "Race for Your Life" | 4530 |
| kjohnson1 | macOS 13.6.6 Ventura | arm64 | 4.4.1 (2024-06-14) -- "Race for Your Life" | 4480 |
| Click on any hostname to see more info about the system (e.g. compilers) (*) as reported by 'uname -p', except on Windows and Mac OS X | ||||
| Package 1429/2300 | Hostname | OS / Arch | INSTALL | BUILD | CHECK | BUILD BIN | ||||||||
| ngsReports 2.6.1 (landing page) Stevie Pederson
| nebbiolo1 | Linux (Ubuntu 22.04.3 LTS) / x86_64 | OK | OK | OK | |||||||||
| palomino7 | Windows Server 2022 Datacenter / x64 | OK | OK | OK | OK | |||||||||
| merida1 | macOS 12.7.5 Monterey / x86_64 | OK | OK | OK | OK | |||||||||
| kjohnson1 | macOS 13.6.6 Ventura / arm64 | OK | OK | OK | OK | |||||||||
|
To the developers/maintainers of the ngsReports package: - Allow up to 24 hours (and sometimes 48 hours) for your latest push to git@git.bioconductor.org:packages/ngsReports.git to reflect on this report. See Troubleshooting Build Report for more information. - Use the following Renviron settings to reproduce errors and warnings. - If 'R CMD check' started to fail recently on the Linux builder(s) over a missing dependency, add the missing dependency to 'Suggests:' in your DESCRIPTION file. See Renviron.bioc for more information. |
| Package: ngsReports |
| Version: 2.6.1 |
| Command: /Library/Frameworks/R.framework/Resources/bin/R CMD check --install=check:ngsReports.install-out.txt --library=/Library/Frameworks/R.framework/Resources/library --no-vignettes --timings ngsReports_2.6.1.tar.gz |
| StartedAt: 2024-10-18 06:00:12 -0400 (Fri, 18 Oct 2024) |
| EndedAt: 2024-10-18 06:03:49 -0400 (Fri, 18 Oct 2024) |
| EllapsedTime: 217.3 seconds |
| RetCode: 0 |
| Status: OK |
| CheckDir: ngsReports.Rcheck |
| Warnings: 0 |
##############################################################################
##############################################################################
###
### Running command:
###
### /Library/Frameworks/R.framework/Resources/bin/R CMD check --install=check:ngsReports.install-out.txt --library=/Library/Frameworks/R.framework/Resources/library --no-vignettes --timings ngsReports_2.6.1.tar.gz
###
##############################################################################
##############################################################################
* using log directory ‘/Users/biocbuild/bbs-3.19-bioc/meat/ngsReports.Rcheck’
* using R version 4.4.1 (2024-06-14)
* using platform: aarch64-apple-darwin20
* R was compiled by
Apple clang version 14.0.0 (clang-1400.0.29.202)
GNU Fortran (GCC) 12.2.0
* running under: macOS Ventura 13.6.6
* using session charset: UTF-8
* using option ‘--no-vignettes’
* checking for file ‘ngsReports/DESCRIPTION’ ... OK
* this is package ‘ngsReports’ version ‘2.6.1’
* package encoding: UTF-8
* checking package namespace information ... OK
* checking package dependencies ... OK
* checking if this is a source package ... OK
* checking if there is a namespace ... OK
* checking for hidden files and directories ... OK
* checking for portable file names ... OK
* checking for sufficient/correct file permissions ... OK
* checking whether package ‘ngsReports’ can be installed ... OK
* checking installed package size ... OK
* checking package directory ... OK
* checking ‘build’ directory ... OK
* checking DESCRIPTION meta-information ... OK
* checking top-level files ... OK
* checking for left-over files ... OK
* checking index information ... OK
* checking package subdirectories ... OK
* checking code files for non-ASCII characters ... OK
* checking R files for syntax errors ... OK
* checking whether the package can be loaded ... OK
* checking whether the package can be loaded with stated dependencies ... OK
* checking whether the package can be unloaded cleanly ... OK
* checking whether the namespace can be loaded with stated dependencies ... OK
* checking whether the namespace can be unloaded cleanly ... OK
* checking dependencies in R code ... OK
* checking S3 generic/method consistency ... OK
* checking replacement functions ... OK
* checking foreign function calls ... OK
* checking R code for possible problems ... OK
* checking Rd files ... OK
* checking Rd metadata ... OK
* checking Rd cross-references ... OK
* checking for missing documentation entries ... OK
* checking for code/documentation mismatches ... OK
* checking Rd \usage sections ... OK
* checking Rd contents ... OK
* checking for unstated dependencies in examples ... OK
* checking contents of ‘data’ directory ... OK
* checking data for non-ASCII characters ... OK
* checking LazyData ... OK
* checking data for ASCII and uncompressed saves ... OK
* checking files in ‘vignettes’ ... OK
* checking examples ... OK
* checking for unstated dependencies in ‘tests’ ... OK
* checking tests ...
Running ‘testthat.R’
OK
* checking for unstated dependencies in vignettes ... OK
* checking package vignettes ... OK
* checking running R code from vignettes ... SKIPPED
* checking re-building of vignette outputs ... SKIPPED
* checking PDF version of manual ... OK
* DONE
Status: OK
ngsReports.Rcheck/00install.out
############################################################################## ############################################################################## ### ### Running command: ### ### /Library/Frameworks/R.framework/Resources/bin/R CMD INSTALL ngsReports ### ############################################################################## ############################################################################## * installing to library ‘/Library/Frameworks/R.framework/Versions/4.4-arm64/Resources/library’ * installing *source* package ‘ngsReports’ ... ** using staged installation ** R ** data *** moving datasets to lazyload DB ** inst ** byte-compile and prepare package for lazy loading ** help *** installing help indices *** copying figures ** building package indices ** installing vignettes ** testing if installed package can be loaded from temporary location ** testing if installed package can be loaded from final location ** testing if installed package keeps a record of temporary installation path * DONE (ngsReports)
ngsReports.Rcheck/tests/testthat.Rout
R version 4.4.1 (2024-06-14) -- "Race for Your Life"
Copyright (C) 2024 The R Foundation for Statistical Computing
Platform: aarch64-apple-darwin20
R is free software and comes with ABSOLUTELY NO WARRANTY.
You are welcome to redistribute it under certain conditions.
Type 'license()' or 'licence()' for distribution details.
R is a collaborative project with many contributors.
Type 'contributors()' for more information and
'citation()' on how to cite R or R packages in publications.
Type 'demo()' for some demos, 'help()' for on-line help, or
'help.start()' for an HTML browser interface to help.
Type 'q()' to quit R.
> library(testthat)
> library(ngsReports)
Loading required package: BiocGenerics
Attaching package: 'BiocGenerics'
The following objects are masked from 'package:stats':
IQR, mad, sd, var, xtabs
The following objects are masked from 'package:base':
Filter, Find, Map, Position, Reduce, anyDuplicated, aperm, append,
as.data.frame, basename, cbind, colnames, dirname, do.call,
duplicated, eval, evalq, get, grep, grepl, intersect, is.unsorted,
lapply, mapply, match, mget, order, paste, pmax, pmax.int, pmin,
pmin.int, rank, rbind, rownames, sapply, setdiff, table, tapply,
union, unique, unsplit, which.max, which.min
Loading required package: ggplot2
Loading required package: patchwork
Loading required package: tibble
>
> test_check("ngsReports")
2024-10-18 06:03:22.936 R[25218:393443780] XType: Using static font registry.
[ FAIL 0 | WARN 0 | SKIP 0 | PASS 387 ]
>
> proc.time()
user system elapsed
50.568 2.124 54.000
ngsReports.Rcheck/ngsReports-Ex.timings
| name | user | system | elapsed | |
| FastqcData | 0.102 | 0.008 | 0.117 | |
| FastqcDataList | 0.428 | 0.030 | 0.468 | |
| TheoreticalGC-class | 0.076 | 0.004 | 0.083 | |
| dot-FastqcFile-class | 0.003 | 0.001 | 0.004 | |
| dot-addPercent | 0.001 | 0.000 | 0.001 | |
| dot-emptyPlot | 0.150 | 0.005 | 0.159 | |
| dot-makeDendro | 0.548 | 0.028 | 0.598 | |
| dot-makeLabels | 0.001 | 0.000 | 0.001 | |
| dot-splitByTab | 0.004 | 0.000 | 0.004 | |
| estGcDistn | 0.022 | 0.001 | 0.023 | |
| extract-methods | 0.420 | 0.018 | 0.449 | |
| fqName-methods | 0.394 | 0.016 | 0.413 | |
| fqcVersion | 0.433 | 0.018 | 0.463 | |
| gcAvail | 0.023 | 0.001 | 0.024 | |
| gcTheoretical | 0.032 | 0.000 | 0.034 | |
| getColours-methods | 0.002 | 0.000 | 0.003 | |
| getGC | 0.019 | 0.000 | 0.019 | |
| getModule | 0.425 | 0.015 | 0.441 | |
| getSummary | 0.428 | 0.018 | 0.468 | |
| importNgsLogs | 0.021 | 0.001 | 0.022 | |
| importSJ | 0.007 | 0.001 | 0.007 | |
| isCompressed | 0.002 | 0.001 | 0.003 | |
| mData | 0.018 | 0.000 | 0.018 | |
| maxAdapterContent | 0.467 | 0.015 | 0.486 | |
| overRep2Fasta-methods | 0.424 | 0.014 | 0.451 | |
| path | 0.561 | 0.015 | 0.585 | |
| plotAdapterContent-methods | 2.572 | 0.034 | 2.633 | |
| plotAlignmentSummary | 0.734 | 0.006 | 0.743 | |
| plotAssemblyStats | 0.533 | 0.036 | 0.570 | |
| plotBaseQuals-methods | 1.491 | 0.059 | 1.555 | |
| plotDupLevels-methods | 1.083 | 0.028 | 1.118 | |
| plotFastqcPCA-methods | 0.650 | 0.017 | 0.669 | |
| plotGcContent-methods | 0.905 | 0.021 | 0.939 | |
| plotInsertSize-methods | 0.545 | 0.007 | 0.570 | |
| plotKmers-methods | 1.477 | 0.030 | 1.516 | |
| plotNContent-methods | 0.693 | 0.009 | 0.705 | |
| plotOverrep-methods | 0.768 | 0.017 | 0.790 | |
| plotReadTotals-methods | 0.754 | 0.023 | 0.799 | |
| plotSeqContent-methods | 3.188 | 0.043 | 3.249 | |
| plotSeqLengthDistn-methods | 1.143 | 0.023 | 1.173 | |
| plotSeqQuals-methods | 1.262 | 0.022 | 1.293 | |
| plotSummary-methods | 0.569 | 0.019 | 0.602 | |
| pwf | 0.005 | 0.002 | 0.006 | |
| readTotals | 0.456 | 0.015 | 0.473 | |
| summariseOverrep-methods | 0.794 | 0.023 | 0.823 | |
| writeHtmlReport | 0.001 | 0.000 | 0.001 | |