| Back to Multiple platform build/check report for BioC 3.19: simplified long |
|
This page was generated on 2024-10-18 20:41 -0400 (Fri, 18 Oct 2024).
| Hostname | OS | Arch (*) | R version | Installed pkgs |
|---|---|---|---|---|
| nebbiolo1 | Linux (Ubuntu 22.04.3 LTS) | x86_64 | 4.4.1 (2024-06-14) -- "Race for Your Life" | 4763 |
| palomino7 | Windows Server 2022 Datacenter | x64 | 4.4.1 (2024-06-14 ucrt) -- "Race for Your Life" | 4500 |
| merida1 | macOS 12.7.5 Monterey | x86_64 | 4.4.1 (2024-06-14) -- "Race for Your Life" | 4530 |
| kjohnson1 | macOS 13.6.6 Ventura | arm64 | 4.4.1 (2024-06-14) -- "Race for Your Life" | 4480 |
| Click on any hostname to see more info about the system (e.g. compilers) (*) as reported by 'uname -p', except on Windows and Mac OS X | ||||
| Package 1429/2300 | Hostname | OS / Arch | INSTALL | BUILD | CHECK | BUILD BIN | ||||||||
| ngsReports 2.6.1 (landing page) Stevie Pederson
| nebbiolo1 | Linux (Ubuntu 22.04.3 LTS) / x86_64 | OK | OK | OK | |||||||||
| palomino7 | Windows Server 2022 Datacenter / x64 | OK | OK | OK | OK | |||||||||
| merida1 | macOS 12.7.5 Monterey / x86_64 | OK | OK | OK | OK | |||||||||
| kjohnson1 | macOS 13.6.6 Ventura / arm64 | OK | OK | OK | OK | |||||||||
|
To the developers/maintainers of the ngsReports package: - Allow up to 24 hours (and sometimes 48 hours) for your latest push to git@git.bioconductor.org:packages/ngsReports.git to reflect on this report. See Troubleshooting Build Report for more information. - Use the following Renviron settings to reproduce errors and warnings. - If 'R CMD check' started to fail recently on the Linux builder(s) over a missing dependency, add the missing dependency to 'Suggests:' in your DESCRIPTION file. See Renviron.bioc for more information. |
| Package: ngsReports |
| Version: 2.6.1 |
| Command: /Library/Frameworks/R.framework/Resources/bin/R CMD check --install=check:ngsReports.install-out.txt --library=/Library/Frameworks/R.framework/Resources/library --no-vignettes --timings ngsReports_2.6.1.tar.gz |
| StartedAt: 2024-10-17 10:03:52 -0400 (Thu, 17 Oct 2024) |
| EndedAt: 2024-10-17 10:11:30 -0400 (Thu, 17 Oct 2024) |
| EllapsedTime: 458.8 seconds |
| RetCode: 0 |
| Status: OK |
| CheckDir: ngsReports.Rcheck |
| Warnings: 0 |
##############################################################################
##############################################################################
###
### Running command:
###
### /Library/Frameworks/R.framework/Resources/bin/R CMD check --install=check:ngsReports.install-out.txt --library=/Library/Frameworks/R.framework/Resources/library --no-vignettes --timings ngsReports_2.6.1.tar.gz
###
##############################################################################
##############################################################################
* using log directory ‘/Users/biocbuild/bbs-3.19-bioc/meat/ngsReports.Rcheck’
* using R version 4.4.1 (2024-06-14)
* using platform: x86_64-apple-darwin20
* R was compiled by
Apple clang version 14.0.0 (clang-1400.0.29.202)
GNU Fortran (GCC) 12.2.0
* running under: macOS Monterey 12.7.6
* using session charset: UTF-8
* using option ‘--no-vignettes’
* checking for file ‘ngsReports/DESCRIPTION’ ... OK
* this is package ‘ngsReports’ version ‘2.6.1’
* package encoding: UTF-8
* checking package namespace information ... OK
* checking package dependencies ... OK
* checking if this is a source package ... OK
* checking if there is a namespace ... OK
* checking for hidden files and directories ... OK
* checking for portable file names ... OK
* checking for sufficient/correct file permissions ... OK
* checking whether package ‘ngsReports’ can be installed ... OK
* checking installed package size ... OK
* checking package directory ... OK
* checking ‘build’ directory ... OK
* checking DESCRIPTION meta-information ... OK
* checking top-level files ... OK
* checking for left-over files ... OK
* checking index information ... OK
* checking package subdirectories ... OK
* checking code files for non-ASCII characters ... OK
* checking R files for syntax errors ... OK
* checking whether the package can be loaded ... OK
* checking whether the package can be loaded with stated dependencies ... OK
* checking whether the package can be unloaded cleanly ... OK
* checking whether the namespace can be loaded with stated dependencies ... OK
* checking whether the namespace can be unloaded cleanly ... OK
* checking dependencies in R code ... OK
* checking S3 generic/method consistency ... OK
* checking replacement functions ... OK
* checking foreign function calls ... OK
* checking R code for possible problems ... OK
* checking Rd files ... OK
* checking Rd metadata ... OK
* checking Rd cross-references ... OK
* checking for missing documentation entries ... OK
* checking for code/documentation mismatches ... OK
* checking Rd \usage sections ... OK
* checking Rd contents ... OK
* checking for unstated dependencies in examples ... OK
* checking contents of ‘data’ directory ... OK
* checking data for non-ASCII characters ... OK
* checking LazyData ... OK
* checking data for ASCII and uncompressed saves ... OK
* checking files in ‘vignettes’ ... OK
* checking examples ... OK
Examples with CPU (user + system) or elapsed time > 5s
user system elapsed
plotSeqContent-methods 7.726 0.067 8.728
plotAdapterContent-methods 5.733 0.067 6.459
* checking for unstated dependencies in ‘tests’ ... OK
* checking tests ...
Running ‘testthat.R’
OK
* checking for unstated dependencies in vignettes ... OK
* checking package vignettes ... OK
* checking running R code from vignettes ... SKIPPED
* checking re-building of vignette outputs ... SKIPPED
* checking PDF version of manual ... OK
* DONE
Status: OK
ngsReports.Rcheck/00install.out
############################################################################## ############################################################################## ### ### Running command: ### ### /Library/Frameworks/R.framework/Resources/bin/R CMD INSTALL ngsReports ### ############################################################################## ############################################################################## * installing to library ‘/Library/Frameworks/R.framework/Versions/4.4-x86_64/Resources/library’ * installing *source* package ‘ngsReports’ ... ** using staged installation ** R ** data *** moving datasets to lazyload DB ** inst ** byte-compile and prepare package for lazy loading ** help *** installing help indices *** copying figures ** building package indices ** installing vignettes ** testing if installed package can be loaded from temporary location ** testing if installed package can be loaded from final location ** testing if installed package keeps a record of temporary installation path * DONE (ngsReports)
ngsReports.Rcheck/tests/testthat.Rout
R version 4.4.1 (2024-06-14) -- "Race for Your Life"
Copyright (C) 2024 The R Foundation for Statistical Computing
Platform: x86_64-apple-darwin20
R is free software and comes with ABSOLUTELY NO WARRANTY.
You are welcome to redistribute it under certain conditions.
Type 'license()' or 'licence()' for distribution details.
R is a collaborative project with many contributors.
Type 'contributors()' for more information and
'citation()' on how to cite R or R packages in publications.
Type 'demo()' for some demos, 'help()' for on-line help, or
'help.start()' for an HTML browser interface to help.
Type 'q()' to quit R.
> library(testthat)
> library(ngsReports)
Loading required package: BiocGenerics
Attaching package: 'BiocGenerics'
The following objects are masked from 'package:stats':
IQR, mad, sd, var, xtabs
The following objects are masked from 'package:base':
Filter, Find, Map, Position, Reduce, anyDuplicated, aperm, append,
as.data.frame, basename, cbind, colnames, dirname, do.call,
duplicated, eval, evalq, get, grep, grepl, intersect, is.unsorted,
lapply, mapply, match, mget, order, paste, pmax, pmax.int, pmin,
pmin.int, rank, rbind, rownames, sapply, setdiff, table, tapply,
union, unique, unsplit, which.max, which.min
Loading required package: ggplot2
Loading required package: patchwork
Loading required package: tibble
>
> test_check("ngsReports")
[ FAIL 0 | WARN 0 | SKIP 0 | PASS 387 ]
>
> proc.time()
user system elapsed
104.891 2.872 120.979
ngsReports.Rcheck/ngsReports-Ex.timings
| name | user | system | elapsed | |
| FastqcData | 0.155 | 0.012 | 0.193 | |
| FastqcDataList | 0.714 | 0.038 | 0.891 | |
| TheoreticalGC-class | 0.142 | 0.006 | 0.166 | |
| dot-FastqcFile-class | 0.004 | 0.002 | 0.010 | |
| dot-addPercent | 0.001 | 0.001 | 0.001 | |
| dot-emptyPlot | 0.290 | 0.007 | 0.338 | |
| dot-makeDendro | 0.952 | 0.036 | 1.129 | |
| dot-makeLabels | 0.002 | 0.001 | 0.003 | |
| dot-splitByTab | 0.007 | 0.001 | 0.009 | |
| estGcDistn | 0.050 | 0.003 | 0.061 | |
| extract-methods | 0.712 | 0.027 | 0.871 | |
| fqName-methods | 0.694 | 0.024 | 0.853 | |
| fqcVersion | 0.749 | 0.024 | 0.882 | |
| gcAvail | 0.046 | 0.001 | 0.051 | |
| gcTheoretical | 0.081 | 0.001 | 0.089 | |
| getColours-methods | 0.003 | 0.001 | 0.004 | |
| getGC | 0.038 | 0.000 | 0.043 | |
| getModule | 0.786 | 0.024 | 0.918 | |
| getSummary | 0.724 | 0.021 | 0.839 | |
| importNgsLogs | 0.049 | 0.002 | 0.060 | |
| importSJ | 0.012 | 0.002 | 0.015 | |
| isCompressed | 0.003 | 0.002 | 0.006 | |
| mData | 0.049 | 0.000 | 0.054 | |
| maxAdapterContent | 0.806 | 0.023 | 0.927 | |
| overRep2Fasta-methods | 0.726 | 0.022 | 0.844 | |
| path | 0.818 | 0.021 | 0.943 | |
| plotAdapterContent-methods | 5.733 | 0.067 | 6.459 | |
| plotAlignmentSummary | 0.963 | 0.008 | 1.085 | |
| plotAssemblyStats | 1.336 | 0.112 | 1.637 | |
| plotBaseQuals-methods | 3.275 | 0.089 | 3.862 | |
| plotDupLevels-methods | 2.394 | 0.039 | 2.827 | |
| plotFastqcPCA-methods | 1.278 | 0.037 | 1.541 | |
| plotGcContent-methods | 1.894 | 0.037 | 2.139 | |
| plotInsertSize-methods | 1.267 | 0.013 | 1.437 | |
| plotKmers-methods | 3.224 | 0.052 | 3.671 | |
| plotNContent-methods | 1.631 | 0.015 | 1.856 | |
| plotOverrep-methods | 1.588 | 0.029 | 1.820 | |
| plotReadTotals-methods | 1.562 | 0.029 | 1.790 | |
| plotSeqContent-methods | 7.726 | 0.067 | 8.728 | |
| plotSeqLengthDistn-methods | 2.405 | 0.032 | 2.705 | |
| plotSeqQuals-methods | 2.762 | 0.033 | 3.097 | |
| plotSummary-methods | 1.087 | 0.024 | 1.240 | |
| pwf | 0.007 | 0.001 | 0.010 | |
| readTotals | 0.762 | 0.022 | 0.876 | |
| summariseOverrep-methods | 1.406 | 0.033 | 1.605 | |
| writeHtmlReport | 0.000 | 0.000 | 0.001 | |