| Back to Multiple platform build/check report for BioC 3.19: simplified long |
|
This page was generated on 2024-06-28 17:41 -0400 (Fri, 28 Jun 2024).
| Hostname | OS | Arch (*) | R version | Installed pkgs |
|---|---|---|---|---|
| nebbiolo1 | Linux (Ubuntu 22.04.3 LTS) | x86_64 | 4.4.0 (2024-04-24) -- "Puppy Cup" | 4760 |
| palomino3 | Windows Server 2022 Datacenter | x64 | 4.4.0 (2024-04-24 ucrt) -- "Puppy Cup" | 4494 |
| merida1 | macOS 12.7.4 Monterey | x86_64 | 4.4.0 (2024-04-24) -- "Puppy Cup" | 4508 |
| kjohnson1 | macOS 13.6.6 Ventura | arm64 | 4.4.0 (2024-04-24) -- "Puppy Cup" | 4466 |
| palomino7 | Windows Server 2022 Datacenter | x64 | 4.4.1 (2024-06-14 ucrt) -- "Race for Your Life" | 4362 |
| Click on any hostname to see more info about the system (e.g. compilers) (*) as reported by 'uname -p', except on Windows and Mac OS X | ||||
| Package 908/2300 | Hostname | OS / Arch | INSTALL | BUILD | CHECK | BUILD BIN | ||||||||
| graper 1.20.0 (landing page) Britta Velten
| nebbiolo1 | Linux (Ubuntu 22.04.3 LTS) / x86_64 | OK | OK | OK | |||||||||
| palomino3 | Windows Server 2022 Datacenter / x64 | OK | OK | OK | OK | |||||||||
| merida1 | macOS 12.7.4 Monterey / x86_64 | OK | OK | WARNINGS | OK | |||||||||
| kjohnson1 | macOS 13.6.6 Ventura / arm64 | OK | OK | WARNINGS | OK | |||||||||
| palomino7 | Windows Server 2022 Datacenter / x64 | OK | OK | OK | OK | |||||||||
|
To the developers/maintainers of the graper package: - Allow up to 24 hours (and sometimes 48 hours) for your latest push to git@git.bioconductor.org:packages/graper.git to reflect on this report. See Troubleshooting Build Report for more information. - Use the following Renviron settings to reproduce errors and warnings. - If 'R CMD check' started to fail recently on the Linux builder(s) over a missing dependency, add the missing dependency to 'Suggests:' in your DESCRIPTION file. See Renviron.bioc for more information. |
| Package: graper |
| Version: 1.20.0 |
| Command: F:\biocbuild\bbs-3.19-bioc\R\bin\R.exe CMD check --no-multiarch --install=check:graper.install-out.txt --library=F:\biocbuild\bbs-3.19-bioc\R\library --no-vignettes --timings graper_1.20.0.tar.gz |
| StartedAt: 2024-06-27 02:20:21 -0400 (Thu, 27 Jun 2024) |
| EndedAt: 2024-06-27 02:21:54 -0400 (Thu, 27 Jun 2024) |
| EllapsedTime: 92.6 seconds |
| RetCode: 0 |
| Status: OK |
| CheckDir: graper.Rcheck |
| Warnings: 0 |
##############################################################################
##############################################################################
###
### Running command:
###
### F:\biocbuild\bbs-3.19-bioc\R\bin\R.exe CMD check --no-multiarch --install=check:graper.install-out.txt --library=F:\biocbuild\bbs-3.19-bioc\R\library --no-vignettes --timings graper_1.20.0.tar.gz
###
##############################################################################
##############################################################################
* using log directory 'F:/biocbuild/bbs-3.19-bioc/meat/graper.Rcheck'
* using R version 4.4.0 (2024-04-24 ucrt)
* using platform: x86_64-w64-mingw32
* R was compiled by
gcc.exe (GCC) 13.2.0
GNU Fortran (GCC) 13.2.0
* running under: Windows Server 2022 x64 (build 20348)
* using session charset: UTF-8
* using option '--no-vignettes'
* checking for file 'graper/DESCRIPTION' ... OK
* checking extension type ... Package
* this is package 'graper' version '1.20.0'
* package encoding: UTF-8
* checking package namespace information ... OK
* checking package dependencies ... OK
* checking if this is a source package ... OK
* checking if there is a namespace ... OK
* checking for hidden files and directories ... OK
* checking for portable file names ... OK
* checking whether package 'graper' can be installed ... OK
* used C++ compiler: 'G__~1.EXE (GCC) 13.2.0'
* checking C++ specification ... NOTE
Specified C++11: please drop specification unless essential
* checking installed package size ... OK
* checking package directory ... OK
* checking 'build' directory ... OK
* checking DESCRIPTION meta-information ... OK
* checking top-level files ... OK
* checking for left-over files ... OK
* checking index information ... OK
* checking package subdirectories ... OK
* checking code files for non-ASCII characters ... OK
* checking R files for syntax errors ... OK
* checking whether the package can be loaded ... OK
* checking whether the package can be loaded with stated dependencies ... OK
* checking whether the package can be unloaded cleanly ... OK
* checking whether the namespace can be loaded with stated dependencies ... OK
* checking whether the namespace can be unloaded cleanly ... OK
* checking dependencies in R code ... OK
* checking S3 generic/method consistency ... OK
* checking replacement functions ... OK
* checking foreign function calls ... OK
* checking R code for possible problems ... OK
* checking Rd files ... NOTE
checkRd: (-1) predict.graper.Rd:19-21: Lost braces in \itemize; meant \describe ?
checkRd: (-1) predict.graper.Rd:22: Lost braces in \itemize; meant \describe ?
checkRd: (-1) predict.graper.Rd:23-24: Lost braces in \itemize; meant \describe ?
* checking Rd metadata ... OK
* checking Rd cross-references ... OK
* checking for missing documentation entries ... OK
* checking for code/documentation mismatches ... OK
* checking Rd \usage sections ... OK
* checking Rd contents ... OK
* checking for unstated dependencies in examples ... OK
* checking line endings in C/C++/Fortran sources/headers ... OK
* checking line endings in Makefiles ... OK
* checking compilation flags in Makevars ... OK
* checking for GNU extensions in Makefiles ... OK
* checking for portable use of $(BLAS_LIBS) and $(LAPACK_LIBS) ... OK
* checking use of PKG_*FLAGS in Makefiles ... OK
* checking compiled code ... NOTE
Note: information on .o files for x64 is not available
File 'F:/biocbuild/bbs-3.19-bioc/R/library/graper/libs/x64/graper.dll':
Found '_exit', possibly from '_exit' (C)
Found 'abort', possibly from 'abort' (C), 'runtime' (Fortran)
Found 'exit', possibly from 'exit' (C), 'stop' (Fortran)
Compiled code should not call entry points which might terminate R nor
write to stdout/stderr instead of to the console, nor use Fortran I/O
nor system RNGs nor [v]sprintf. The detected symbols are linked into
the code but might come from libraries and not actually be called.
See 'Writing portable packages' in the 'Writing R Extensions' manual.
* checking files in 'vignettes' ... OK
* checking examples ... OK
* checking for unstated dependencies in 'tests' ... OK
* checking tests ...
Running 'testthat.R'
OK
* checking for unstated dependencies in vignettes ... OK
* checking package vignettes ... OK
* checking running R code from vignettes ... SKIPPED
* checking re-building of vignette outputs ... SKIPPED
* checking PDF version of manual ... OK
* DONE
Status: 3 NOTEs
See
'F:/biocbuild/bbs-3.19-bioc/meat/graper.Rcheck/00check.log'
for details.
graper.Rcheck/00install.out
##############################################################################
##############################################################################
###
### Running command:
###
### F:\biocbuild\bbs-3.19-bioc\R\bin\R.exe CMD INSTALL graper
###
##############################################################################
##############################################################################
* installing to library 'F:/biocbuild/bbs-3.19-bioc/R/library'
* installing *source* package 'graper' ...
** using staged installation
** libs
using C++ compiler: 'G__~1.EXE (GCC) 13.2.0'
using C++11
g++ -std=gnu++11 -I"F:/biocbuild/bbs-3.19-bioc/R/include" -DNDEBUG -I'F:/biocbuild/bbs-3.19-bioc/R/library/Rcpp/include' -I'F:/biocbuild/bbs-3.19-bioc/R/library/RcppArmadillo/include' -I'F:/biocbuild/bbs-3.19-bioc/R/library/BH/include' -I"C:/rtools44/x86_64-w64-mingw32.static.posix/include" -O2 -Wall -mfpmath=sse -msse2 -mstackrealign -c RcppExports.cpp -o RcppExports.o
g++ -std=gnu++11 -I"F:/biocbuild/bbs-3.19-bioc/R/include" -DNDEBUG -I'F:/biocbuild/bbs-3.19-bioc/R/library/Rcpp/include' -I'F:/biocbuild/bbs-3.19-bioc/R/library/RcppArmadillo/include' -I'F:/biocbuild/bbs-3.19-bioc/R/library/BH/include' -I"C:/rtools44/x86_64-w64-mingw32.static.posix/include" -O2 -Wall -mfpmath=sse -msse2 -mstackrealign -c fit_graper.cpp -o fit_graper.o
In file included from F:/biocbuild/bbs-3.19-bioc/R/library/BH/include/boost/math/special_functions/detail/round_fwd.hpp:11,
from F:/biocbuild/bbs-3.19-bioc/R/library/BH/include/boost/math/special_functions/math_fwd.hpp:29,
from F:/biocbuild/bbs-3.19-bioc/R/library/BH/include/boost/math/special_functions/digamma.hpp:15,
from graper_linear_dense_ff.h:2,
from fit_graper.cpp:4:
F:/biocbuild/bbs-3.19-bioc/R/library/BH/include/boost/math/tools/config.hpp:23:6: warning: #warning "The minimum language standard to use Boost.Math will be C++14 starting in July 2023 (Boost 1.82 release)" [-Wcpp]
23 | # warning "The minimum language standard to use Boost.Math will be C++14 starting in July 2023 (Boost 1.82 release)"
| ^~~~~~~
g++ -shared -s -static-libgcc -o graper.dll tmp.def RcppExports.o fit_graper.o -LF:/biocbuild/bbs-3.19-bioc/R/bin/x64 -lRlapack -LF:/biocbuild/bbs-3.19-bioc/R/bin/x64 -lRblas -lgfortran -lm -lquadmath -LC:/rtools44/x86_64-w64-mingw32.static.posix/lib/x64 -LC:/rtools44/x86_64-w64-mingw32.static.posix/lib -LF:/biocbuild/bbs-3.19-bioc/R/bin/x64 -lR
installing to F:/biocbuild/bbs-3.19-bioc/R/library/00LOCK-graper/00new/graper/libs/x64
** R
** byte-compile and prepare package for lazy loading
** help
*** installing help indices
** building package indices
** installing vignettes
** testing if installed package can be loaded from temporary location
** testing if installed package can be loaded from final location
** testing if installed package keeps a record of temporary installation path
* DONE (graper)
graper.Rcheck/tests/testthat.Rout
R version 4.4.0 (2024-04-24 ucrt) -- "Puppy Cup"
Copyright (C) 2024 The R Foundation for Statistical Computing
Platform: x86_64-w64-mingw32/x64
R is free software and comes with ABSOLUTELY NO WARRANTY.
You are welcome to redistribute it under certain conditions.
Type 'license()' or 'licence()' for distribution details.
R is a collaborative project with many contributors.
Type 'contributors()' for more information and
'citation()' on how to cite R or R packages in publications.
Type 'demo()' for some demos, 'help()' for on-line help, or
'help.start()' for an HTML browser interface to help.
Type 'q()' to quit R.
> library(testthat)
> library(graper)
>
> test_check("graper")
iteration 1
Updating parameters of variational distributions...
Calculating ELB..
ELB=-866.419
ELB improved by inf
iteration 2
Updating parameters of variational distributions...
Calculating ELB..
ELB=-570.356
ELB improved by 296.064
iteration 3
Updating parameters of variational distributions...
Calculating ELB..
ELB=-509.908
ELB improved by 60.4481
iteration 4
Updating parameters of variational distributions...
Calculating ELB..
ELB=-469.981
ELB improved by 39.9264
iteration 5
Updating parameters of variational distributions...
Calculating ELB..
ELB=-450.707
ELB improved by 19.2747
iteration 6
Updating parameters of variational distributions...
Calculating ELB..
ELB=-442.684
ELB improved by 8.02254
iteration 7
Updating parameters of variational distributions...
Calculating ELB..
ELB=-438.738
ELB improved by 3.94637
iteration 8
Updating parameters of variational distributions...
Calculating ELB..
ELB=-436.172
ELB improved by 2.56617
iteration 9
Updating parameters of variational distributions...
Calculating ELB..
ELB=-434.107
ELB improved by 2.06416
iteration 10
Updating parameters of variational distributions...
Calculating ELB..
ELB=-432.2
ELB improved by 1.90784
iteration 11
Updating parameters of variational distributions...
Calculating ELB..
ELB=-430.301
ELB improved by 1.89835
iteration 12
Updating parameters of variational distributions...
Calculating ELB..
ELB=-428.355
ELB improved by 1.9463
iteration 13
Updating parameters of variational distributions...
Calculating ELB..
ELB=-426.36
ELB improved by 1.99497
iteration 14
Updating parameters of variational distributions...
Calculating ELB..
ELB=-424.366
ELB improved by 1.99404
iteration 15
Updating parameters of variational distributions...
Calculating ELB..
ELB=-422.459
ELB improved by 1.90666
iteration 16
Updating parameters of variational distributions...
Calculating ELB..
ELB=-420.731
ELB improved by 1.7281
iteration 17
Updating parameters of variational distributions...
Calculating ELB..
ELB=-419.25
ELB improved by 1.48139
iteration 18
Updating parameters of variational distributions...
Calculating ELB..
ELB=-418.057
ELB improved by 1.19263
iteration 19
Updating parameters of variational distributions...
Calculating ELB..
ELB=-417.163
ELB improved by 0.894315
iteration 20
Updating parameters of variational distributions...
Calculating ELB..
ELB=-416.528
ELB improved by 0.63511
iteration 21
Updating parameters of variational distributions...
Calculating ELB..
ELB=-416.081
ELB improved by 0.446472
iteration 22
Updating parameters of variational distributions...
Calculating ELB..
ELB=-415.757
ELB improved by 0.324212
iteration 23
Updating parameters of variational distributions...
Calculating ELB..
ELB=-415.509
ELB improved by 0.248419
iteration 24
Updating parameters of variational distributions...
Calculating ELB..
ELB=-415.307
ELB improved by 0.201309
iteration 25
Updating parameters of variational distributions...
Calculating ELB..
ELB=-415.136
ELB improved by 0.171581
iteration 26
Updating parameters of variational distributions...
Calculating ELB..
ELB=-414.983
ELB improved by 0.153049
iteration 27
Updating parameters of variational distributions...
Calculating ELB..
ELB=-414.84
ELB improved by 0.142609
iteration 28
Updating parameters of variational distributions...
Calculating ELB..
ELB=-414.701
ELB improved by 0.138921
iteration 29
Updating parameters of variational distributions...
Calculating ELB..
ELB=-414.559
ELB improved by 0.1417
iteration 30
Updating parameters of variational distributions...
Calculating ELB..
ELB=-414.408
ELB improved by 0.15111
iteration 31
Updating parameters of variational distributions...
Calculating ELB..
ELB=-414.242
ELB improved by 0.166613
iteration 32
Updating parameters of variational distributions...
Calculating ELB..
ELB=-414.056
ELB improved by 0.185306
iteration 33
Updating parameters of variational distributions...
Calculating ELB..
ELB=-413.854
ELB improved by 0.202115
iteration 34
Updating parameters of variational distributions...
Calculating ELB..
ELB=-413.64
ELB improved by 0.21441
iteration 35
Updating parameters of variational distributions...
Calculating ELB..
ELB=-413.414
ELB improved by 0.225585
iteration 36
Updating parameters of variational distributions...
Calculating ELB..
ELB=-413.173
ELB improved by 0.241005
iteration 37
Updating parameters of variational distributions...
Calculating ELB..
ELB=-412.91
ELB improved by 0.263232
iteration 38
Updating parameters of variational distributions...
Calculating ELB..
ELB=-412.618
ELB improved by 0.29244
iteration 39
Updating parameters of variational distributions...
Calculating ELB..
ELB=-412.289
ELB improved by 0.328365
iteration 40
Updating parameters of variational distributions...
Calculating ELB..
ELB=-411.918
ELB improved by 0.371034
iteration 41
Updating parameters of variational distributions...
Calculating ELB..
ELB=-411.498
ELB improved by 0.420662
iteration 42
Updating parameters of variational distributions...
Calculating ELB..
ELB=-411.02
ELB improved by 0.477376
iteration 43
Updating parameters of variational distributions...
Calculating ELB..
ELB=-410.479
ELB improved by 0.540912
iteration 44
Updating parameters of variational distributions...
Calculating ELB..
ELB=-409.869
ELB improved by 0.610235
iteration 45
Updating parameters of variational distributions...
Calculating ELB..
ELB=-409.186
ELB improved by 0.683049
iteration 46
Updating parameters of variational distributions...
Calculating ELB..
ELB=-408.431
ELB improved by 0.755326
iteration 47
Updating parameters of variational distributions...
Calculating ELB..
ELB=-407.609
ELB improved by 0.821244
iteration 48
Updating parameters of variational distributions...
Calculating ELB..
ELB=-406.735
ELB improved by 0.873868
iteration 49
Updating parameters of variational distributions...
Calculating ELB..
ELB=-405.829
ELB improved by 0.906248
iteration 50
Updating parameters of variational distributions...
Calculating ELB..
ELB=-404.917
ELB improved by 0.912131
iteration 51
Updating parameters of variational distributions...
Calculating ELB..
ELB=-404.031
ELB improved by 0.886567
iteration 52
Updating parameters of variational distributions...
Calculating ELB..
ELB=-403.203
ELB improved by 0.827653
iteration 53
Updating parameters of variational distributions...
Calculating ELB..
ELB=-402.464
ELB improved by 0.739139
iteration 54
Updating parameters of variational distributions...
Calculating ELB..
ELB=-401.832
ELB improved by 0.63134
iteration 55
Updating parameters of variational distributions...
Calculating ELB..
ELB=-401.314
ELB improved by 0.518489
iteration 56
Updating parameters of variational distributions...
Calculating ELB..
ELB=-400.9
ELB improved by 0.413822
iteration 57
Updating parameters of variational distributions...
Calculating ELB..
ELB=-400.574
ELB improved by 0.325797
iteration 58
Updating parameters of variational distributions...
Calculating ELB..
ELB=-400.317
ELB improved by 0.257501
iteration 59
Updating parameters of variational distributions...
Calculating ELB..
ELB=-400.108
ELB improved by 0.208736
iteration 60
Updating parameters of variational distributions...
Calculating ELB..
ELB=-399.929
ELB improved by 0.179328
iteration 61
Updating parameters of variational distributions...
Calculating ELB..
ELB=-399.755
ELB improved by 0.173597
iteration 62
Updating parameters of variational distributions...
Calculating ELB..
ELB=-399.547
ELB improved by 0.207741
iteration 63
Updating parameters of variational distributions...
Calculating ELB..
ELB=-399.236
ELB improved by 0.311901
iteration 64
Updating parameters of variational distributions...
Calculating ELB..
ELB=-398.772
ELB improved by 0.463736
iteration 65
Updating parameters of variational distributions...
Calculating ELB..
ELB=-398.259
ELB improved by 0.51305
iteration 66
Updating parameters of variational distributions...
Calculating ELB..
ELB=-397.821
ELB improved by 0.437626
iteration 67
Updating parameters of variational distributions...
Calculating ELB..
ELB=-397.465
ELB improved by 0.35598
iteration 68
Updating parameters of variational distributions...
Calculating ELB..
ELB=-397.156
ELB improved by 0.309035
iteration 69
Updating parameters of variational distributions...
Calculating ELB..
ELB=-396.874
ELB improved by 0.282232
iteration 70
Updating parameters of variational distributions...
Calculating ELB..
ELB=-396.612
ELB improved by 0.261903
iteration 71
Updating parameters of variational distributions...
Calculating ELB..
ELB=-396.364
ELB improved by 0.248243
iteration 72
Updating parameters of variational distributions...
Calculating ELB..
ELB=-396.126
ELB improved by 0.237983
iteration 73
Updating parameters of variational distributions...
Calculating ELB..
ELB=-395.911
ELB improved by 0.214933
iteration 74
Updating parameters of variational distributions...
Calculating ELB..
ELB=-395.737
ELB improved by 0.174024
iteration 75
Updating parameters of variational distributions...
Calculating ELB..
ELB=-395.604
ELB improved by 0.132708
iteration 76
Updating parameters of variational distributions...
Calculating ELB..
ELB=-395.502
ELB improved by 0.101908
iteration 77
Updating parameters of variational distributions...
Calculating ELB..
ELB=-395.421
ELB improved by 0.0810594
iteration 78
Updating parameters of variational distributions...
Calculating ELB..
ELB=-395.354
ELB improved by 0.0673027
iteration 79
Updating parameters of variational distributions...
Calculating ELB..
ELB=-395.296
ELB improved by 0.0580322
iteration 80
Updating parameters of variational distributions...
Calculating ELB..
ELB=-395.244
ELB improved by 0.0515298
iteration 81
Updating parameters of variational distributions...
Calculating ELB..
ELB=-395.197
ELB improved by 0.0468854
iteration 82
Updating parameters of variational distributions...
Calculating ELB..
ELB=-395.154
ELB improved by 0.043306
iteration 83
Updating parameters of variational distributions...
Calculating ELB..
ELB=-395.114
ELB improved by 0.0396313
iteration 84
Updating parameters of variational distributions...
Calculating ELB..
ELB=-395.08
ELB improved by 0.0347997
iteration 85
Updating parameters of variational distributions...
Calculating ELB..
ELB=-395.051
ELB improved by 0.0287902
iteration 86
Updating parameters of variational distributions...
Calculating ELB..
ELB=-395.028
ELB improved by 0.0226234
iteration 87
Updating parameters of variational distributions...
Calculating ELB..
ELB=-395.011
ELB improved by 0.0173288
iteration 88
Updating parameters of variational distributions...
Calculating ELB..
ELB=-394.998
ELB improved by 0.0132797
iteration 89
Updating parameters of variational distributions...
Calculating ELB..
ELB=-394.987
ELB improved by 0.0103546
iteration 90
Updating parameters of variational distributions...
Calculating ELB..
ELB=-394.979
ELB improved by 0.00828625
ELB converged
iteration 1
Updating parameters of variational distributions...
Calculating ELB..
ELB=-862.746
ELB improved by inf
iteration 2
Updating parameters of variational distributions...
Calculating ELB..
ELB=-601.97
ELB improved by 260.775
iteration 3
Updating parameters of variational distributions...
Calculating ELB..
ELB=-540.89
ELB improved by 61.0804
iteration 4
Updating parameters of variational distributions...
Calculating ELB..
ELB=-491.231
ELB improved by 49.6586
iteration 5
Updating parameters of variational distributions...
Calculating ELB..
ELB=-464.307
ELB improved by 26.9242
iteration 6
Updating parameters of variational distributions...
Calculating ELB..
ELB=-452.424
ELB improved by 11.8836
iteration 7
Updating parameters of variational distributions...
Calculating ELB..
ELB=-446.241
ELB improved by 6.18213
iteration 8
Updating parameters of variational distributions...
Calculating ELB..
ELB=-441.768
ELB improved by 4.47356
iteration 9
Updating parameters of variational distributions...
Calculating ELB..
ELB=-437.636
ELB improved by 4.13163
iteration 10
Updating parameters of variational distributions...
Calculating ELB..
ELB=-433.271
ELB improved by 4.3652
iteration 11
Updating parameters of variational distributions...
Calculating ELB..
ELB=-428.457
ELB improved by 4.81427
iteration 12
Updating parameters of variational distributions...
Calculating ELB..
ELB=-423.317
ELB improved by 5.14007
iteration 13
Updating parameters of variational distributions...
Calculating ELB..
ELB=-418.354
ELB improved by 4.96301
iteration 14
Updating parameters of variational distributions...
Calculating ELB..
ELB=-414.201
ELB improved by 4.1525
iteration 15
Updating parameters of variational distributions...
Calculating ELB..
ELB=-411.17
ELB improved by 3.03104
iteration 16
Updating parameters of variational distributions...
Calculating ELB..
ELB=-409.133
ELB improved by 2.03679
iteration 17
Updating parameters of variational distributions...
Calculating ELB..
ELB=-407.8
ELB improved by 1.33351
iteration 18
Updating parameters of variational distributions...
Calculating ELB..
ELB=-406.92
ELB improved by 0.879702
iteration 19
Updating parameters of variational distributions...
Calculating ELB..
ELB=-406.323
ELB improved by 0.596925
iteration 20
Updating parameters of variational distributions...
Calculating ELB..
ELB=-405.899
ELB improved by 0.424136
iteration 21
Updating parameters of variational distributions...
Calculating ELB..
ELB=-405.582
ELB improved by 0.316698
iteration 22
Updating parameters of variational distributions...
Calculating ELB..
ELB=-405.336
ELB improved by 0.246281
iteration 23
Updating parameters of variational distributions...
Calculating ELB..
ELB=-405.138
ELB improved by 0.197758
iteration 24
Updating parameters of variational distributions...
Calculating ELB..
ELB=-404.975
ELB improved by 0.163078
iteration 25
Updating parameters of variational distributions...
Calculating ELB..
ELB=-404.838
ELB improved by 0.137482
iteration 26
Updating parameters of variational distributions...
Calculating ELB..
ELB=-404.72
ELB improved by 0.117995
iteration 27
Updating parameters of variational distributions...
Calculating ELB..
ELB=-404.617
ELB improved by 0.102751
iteration 28
Updating parameters of variational distributions...
Calculating ELB..
ELB=-404.527
ELB improved by 0.0905634
iteration 29
Updating parameters of variational distributions...
Calculating ELB..
ELB=-404.446
ELB improved by 0.0806579
iteration 30
Updating parameters of variational distributions...
Calculating ELB..
ELB=-404.373
ELB improved by 0.0725075
iteration 31
Updating parameters of variational distributions...
Calculating ELB..
ELB=-404.308
ELB improved by 0.0657403
iteration 32
Updating parameters of variational distributions...
Calculating ELB..
ELB=-404.248
ELB improved by 0.0600852
iteration 33
Updating parameters of variational distributions...
Calculating ELB..
ELB=-404.192
ELB improved by 0.0553398
iteration 34
Updating parameters of variational distributions...
Calculating ELB..
ELB=-404.141
ELB improved by 0.0513505
iteration 35
Updating parameters of variational distributions...
Calculating ELB..
ELB=-404.093
ELB improved by 0.0479992
iteration 36
Updating parameters of variational distributions...
Calculating ELB..
ELB=-404.048
ELB improved by 0.0451949
iteration 37
Updating parameters of variational distributions...
Calculating ELB..
ELB=-404.005
ELB improved by 0.0428675
iteration 38
Updating parameters of variational distributions...
Calculating ELB..
ELB=-403.964
ELB improved by 0.0409636
iteration 39
Updating parameters of variational distributions...
Calculating ELB..
ELB=-403.924
ELB improved by 0.0394443
iteration 40
Updating parameters of variational distributions...
Calculating ELB..
ELB=-403.886
ELB improved by 0.0382829
iteration 41
Updating parameters of variational distributions...
Calculating ELB..
ELB=-403.849
ELB improved by 0.037464
iteration 42
Updating parameters of variational distributions...
Calculating ELB..
ELB=-403.812
ELB improved by 0.036984
iteration 43
Updating parameters of variational distributions...
Calculating ELB..
ELB=-403.775
ELB improved by 0.036851
iteration 44
Updating parameters of variational distributions...
Calculating ELB..
ELB=-403.738
ELB improved by 0.0370867
iteration 45
Updating parameters of variational distributions...
Calculating ELB..
ELB=-403.7
ELB improved by 0.0377289
iteration 46
Updating parameters of variational distributions...
Calculating ELB..
ELB=-403.661
ELB improved by 0.0388346
iteration 47
Updating parameters of variational distributions...
Calculating ELB..
ELB=-403.621
ELB improved by 0.0404855
iteration 48
Updating parameters of variational distributions...
Calculating ELB..
ELB=-403.578
ELB improved by 0.0427936
iteration 49
Updating parameters of variational distributions...
Calculating ELB..
ELB=-403.532
ELB improved by 0.0459085
iteration 50
Updating parameters of variational distributions...
Calculating ELB..
ELB=-403.482
ELB improved by 0.0500231
iteration 51
Updating parameters of variational distributions...
Calculating ELB..
ELB=-403.427
ELB improved by 0.0553766
iteration 52
Updating parameters of variational distributions...
Calculating ELB..
ELB=-403.364
ELB improved by 0.062244
iteration 53
Updating parameters of variational distributions...
Calculating ELB..
ELB=-403.293
ELB improved by 0.0709037
iteration 54
Updating parameters of variational distributions...
Calculating ELB..
ELB=-403.212
ELB improved by 0.0815658
iteration 55
Updating parameters of variational distributions...
Calculating ELB..
ELB=-403.118
ELB improved by 0.0942574
iteration 56
Updating parameters of variational distributions...
Calculating ELB..
ELB=-403.009
ELB improved by 0.108707
iteration 57
Updating parameters of variational distributions...
Calculating ELB..
ELB=-402.885
ELB improved by 0.124329
iteration 58
Updating parameters of variational distributions...
Calculating ELB..
ELB=-402.744
ELB improved by 0.140418
iteration 59
Updating parameters of variational distributions...
Calculating ELB..
ELB=-402.588
ELB improved by 0.156463
iteration 60
Updating parameters of variational distributions...
Calculating ELB..
ELB=-402.415
ELB improved by 0.172319
iteration 61
Updating parameters of variational distributions...
Calculating ELB..
ELB=-402.227
ELB improved by 0.188057
iteration 62
Updating parameters of variational distributions...
Calculating ELB..
ELB=-402.024
ELB improved by 0.203708
iteration 63
Updating parameters of variational distributions...
Calculating ELB..
ELB=-401.804
ELB improved by 0.219167
iteration 64
Updating parameters of variational distributions...
Calculating ELB..
ELB=-401.57
ELB improved by 0.234263
iteration 65
Updating parameters of variational distributions...
Calculating ELB..
ELB=-401.321
ELB improved by 0.248884
iteration 66
Updating parameters of variational distributions...
Calculating ELB..
ELB=-401.058
ELB improved by 0.263045
iteration 67
Updating parameters of variational distributions...
Calculating ELB..
ELB=-400.781
ELB improved by 0.276874
iteration 68
Updating parameters of variational distributions...
Calculating ELB..
ELB=-400.491
ELB improved by 0.290534
iteration 69
Updating parameters of variational distributions...
Calculating ELB..
ELB=-400.187
ELB improved by 0.304105
iteration 70
Updating parameters of variational distributions...
Calculating ELB..
ELB=-399.869
ELB improved by 0.317484
iteration 71
Updating parameters of variational distributions...
Calculating ELB..
ELB=-399.539
ELB improved by 0.330293
iteration 72
Updating parameters of variational distributions...
Calculating ELB..
ELB=-399.197
ELB improved by 0.341827
iteration 73
Updating parameters of variational distributions...
Calculating ELB..
ELB=-398.846
ELB improved by 0.351031
iteration 74
Updating parameters of variational distributions...
Calculating ELB..
ELB=-398.49
ELB improved by 0.356553
iteration 75
Updating parameters of variational distributions...
Calculating ELB..
ELB=-398.133
ELB improved by 0.356921
iteration 76
Updating parameters of variational distributions...
Calculating ELB..
ELB=-397.782
ELB improved by 0.350936
iteration 77
Updating parameters of variational distributions...
Calculating ELB..
ELB=-397.444
ELB improved by 0.338148
iteration 78
Updating parameters of variational distributions...
Calculating ELB..
ELB=-397.124
ELB improved by 0.319137
iteration 79
Updating parameters of variational distributions...
Calculating ELB..
ELB=-396.829
ELB improved by 0.295319
iteration 80
Updating parameters of variational distributions...
Calculating ELB..
ELB=-396.561
ELB improved by 0.268339
iteration 81
Updating parameters of variational distributions...
Calculating ELB..
ELB=-396.321
ELB improved by 0.239529
iteration 82
Updating parameters of variational distributions...
Calculating ELB..
ELB=-396.111
ELB improved by 0.209968
iteration 83
Updating parameters of variational distributions...
Calculating ELB..
ELB=-395.93
ELB improved by 0.181118
iteration 84
Updating parameters of variational distributions...
Calculating ELB..
ELB=-395.775
ELB improved by 0.155115
iteration 85
Updating parameters of variational distributions...
Calculating ELB..
ELB=-395.641
ELB improved by 0.13403
iteration 86
Updating parameters of variational distributions...
Calculating ELB..
ELB=-395.522
ELB improved by 0.11859
iteration 87
Updating parameters of variational distributions...
Calculating ELB..
ELB=-395.415
ELB improved by 0.107305
iteration 88
Updating parameters of variational distributions...
Calculating ELB..
ELB=-395.318
ELB improved by 0.0967573
iteration 89
Updating parameters of variational distributions...
Calculating ELB..
ELB=-395.235
ELB improved by 0.0837795
iteration 90
Updating parameters of variational distributions...
Calculating ELB..
ELB=-395.166
ELB improved by 0.0682686
iteration 91
Updating parameters of variational distributions...
Calculating ELB..
ELB=-395.113
ELB improved by 0.0529455
iteration 92
Updating parameters of variational distributions...
Calculating ELB..
ELB=-395.073
ELB improved by 0.0402317
iteration 93
Updating parameters of variational distributions...
Calculating ELB..
ELB=-395.042
ELB improved by 0.0306866
iteration 94
Updating parameters of variational distributions...
Calculating ELB..
ELB=-395.019
ELB improved by 0.0237742
iteration 95
Updating parameters of variational distributions...
Calculating ELB..
ELB=-395
ELB improved by 0.0187905
iteration 96
Updating parameters of variational distributions...
Calculating ELB..
ELB=-394.985
ELB improved by 0.0151828
iteration 97
Updating parameters of variational distributions...
Calculating ELB..
ELB=-394.972
ELB improved by 0.0125651
iteration 98
Updating parameters of variational distributions...
Calculating ELB..
ELB=-394.961
ELB improved by 0.0106728
iteration 99
Updating parameters of variational distributions...
Calculating ELB..
ELB=-394.952
ELB improved by 0.00932453
ELB converged
iteration 1
Updating parameters of variational distributions...
Calculating ELB..
ELB=-862.342
ELB improved by inf
iteration 2
Updating parameters of variational distributions...
Calculating ELB..
ELB=-580.237
ELB improved by 282.105
iteration 3
Updating parameters of variational distributions...
Calculating ELB..
ELB=-518.092
ELB improved by 62.1457
iteration 4
Updating parameters of variational distributions...
Calculating ELB..
ELB=-476.26
ELB improved by 41.8313
iteration 5
Updating parameters of variational distributions...
Calculating ELB..
ELB=-456.394
ELB improved by 19.8662
iteration 6
Updating parameters of variational distributions...
Calculating ELB..
ELB=-448.126
ELB improved by 8.26816
iteration 7
Updating parameters of variational distributions...
Calculating ELB..
ELB=-443.974
ELB improved by 4.15162
iteration 8
Updating parameters of variational distributions...
Calculating ELB..
ELB=-441.138
ELB improved by 2.83604
iteration 9
Updating parameters of variational distributions...
Calculating ELB..
ELB=-438.671
ELB improved by 2.46687
iteration 10
Updating parameters of variational distributions...
Calculating ELB..
ELB=-436.224
ELB improved by 2.44707
iteration 11
Updating parameters of variational distributions...
Calculating ELB..
ELB=-433.624
ELB improved by 2.60046
iteration 12
Updating parameters of variational distributions...
Calculating ELB..
ELB=-430.773
ELB improved by 2.85065
iteration 13
Updating parameters of variational distributions...
Calculating ELB..
ELB=-427.654
ELB improved by 3.11894
iteration 14
Updating parameters of variational distributions...
Calculating ELB..
ELB=-424.378
ELB improved by 3.27601
iteration 15
Updating parameters of variational distributions...
Calculating ELB..
ELB=-421.223
ELB improved by 3.15537
iteration 16
Updating parameters of variational distributions...
Calculating ELB..
ELB=-418.539
ELB improved by 2.68354
iteration 17
Updating parameters of variational distributions...
Calculating ELB..
ELB=-416.523
ELB improved by 2.01623
iteration 18
Updating parameters of variational distributions...
Calculating ELB..
ELB=-415.112
ELB improved by 1.41066
iteration 19
Updating parameters of variational distributions...
Calculating ELB..
ELB=-414.118
ELB improved by 0.994533
iteration 20
Updating parameters of variational distributions...
Calculating ELB..
ELB=-413.368
ELB improved by 0.750107
iteration 21
Updating parameters of variational distributions...
Calculating ELB..
ELB=-412.752
ELB improved by 0.615389
iteration 22
Updating parameters of variational distributions...
Calculating ELB..
ELB=-412.211
ELB improved by 0.541439
iteration 23
Updating parameters of variational distributions...
Calculating ELB..
ELB=-411.711
ELB improved by 0.499819
iteration 24
Updating parameters of variational distributions...
Calculating ELB..
ELB=-411.235
ELB improved by 0.475669
iteration 25
Updating parameters of variational distributions...
Calculating ELB..
ELB=-410.774
ELB improved by 0.461466
iteration 26
Updating parameters of variational distributions...
Calculating ELB..
ELB=-410.321
ELB improved by 0.453345
iteration 27
Updating parameters of variational distributions...
Calculating ELB..
ELB=-409.871
ELB improved by 0.449219
iteration 28
Updating parameters of variational distributions...
Calculating ELB..
ELB=-409.423
ELB improved by 0.44794
iteration 29
Updating parameters of variational distributions...
Calculating ELB..
ELB=-408.975
ELB improved by 0.44897
iteration 30
Updating parameters of variational distributions...
Calculating ELB..
ELB=-408.522
ELB improved by 0.452152
iteration 31
Updating parameters of variational distributions...
Calculating ELB..
ELB=-408.065
ELB improved by 0.457482
iteration 32
Updating parameters of variational distributions...
Calculating ELB..
ELB=-407.6
ELB improved by 0.464846
iteration 33
Updating parameters of variational distributions...
Calculating ELB..
ELB=-407.126
ELB improved by 0.473762
iteration 34
Updating parameters of variational distributions...
Calculating ELB..
ELB=-406.643
ELB improved by 0.483148
iteration 35
Updating parameters of variational distributions...
Calculating ELB..
ELB=-406.152
ELB improved by 0.491181
iteration 36
Updating parameters of variational distributions...
Calculating ELB..
ELB=-405.657
ELB improved by 0.495363
iteration 37
Updating parameters of variational distributions...
Calculating ELB..
ELB=-405.164
ELB improved by 0.492947
iteration 38
Updating parameters of variational distributions...
Calculating ELB..
ELB=-404.682
ELB improved by 0.48179
iteration 39
Updating parameters of variational distributions...
Calculating ELB..
ELB=-404.22
ELB improved by 0.461521
iteration 40
Updating parameters of variational distributions...
Calculating ELB..
ELB=-403.786
ELB improved by 0.434716
iteration 41
Updating parameters of variational distributions...
Calculating ELB..
ELB=-403.378
ELB improved by 0.408033
iteration 42
Updating parameters of variational distributions...
Calculating ELB..
ELB=-402.983
ELB improved by 0.394588
iteration 43
Updating parameters of variational distributions...
Calculating ELB..
ELB=-402.561
ELB improved by 0.422309
iteration 44
Updating parameters of variational distributions...
Calculating ELB..
ELB=-402.006
ELB improved by 0.554592
iteration 45
Updating parameters of variational distributions...
Calculating ELB..
ELB=-401.138
ELB improved by 0.86776
iteration 46
Updating parameters of variational distributions...
Calculating ELB..
ELB=-399.953
ELB improved by 1.18535
iteration 47
Updating parameters of variational distributions...
Calculating ELB..
ELB=-398.915
ELB improved by 1.03784
iteration 48
Updating parameters of variational distributions...
Calculating ELB..
ELB=-398.267
ELB improved by 0.647787
iteration 49
Updating parameters of variational distributions...
Calculating ELB..
ELB=-397.888
ELB improved by 0.379524
iteration 50
Updating parameters of variational distributions...
Calculating ELB..
ELB=-397.658
ELB improved by 0.23002
iteration 51
Updating parameters of variational distributions...
Calculating ELB..
ELB=-397.512
ELB improved by 0.14609
iteration 52
Updating parameters of variational distributions...
Calculating ELB..
ELB=-397.414
ELB improved by 0.0975902
iteration 53
Updating parameters of variational distributions...
Calculating ELB..
ELB=-397.345
ELB improved by 0.0690378
iteration 54
Updating parameters of variational distributions...
Calculating ELB..
ELB=-397.293
ELB improved by 0.0518989
iteration 55
Updating parameters of variational distributions...
Calculating ELB..
ELB=-397.252
ELB improved by 0.0413034
iteration 56
Updating parameters of variational distributions...
Calculating ELB..
ELB=-397.217
ELB improved by 0.0344783
iteration 57
Updating parameters of variational distributions...
Calculating ELB..
ELB=-397.188
ELB improved by 0.0298432
iteration 58
Updating parameters of variational distributions...
Calculating ELB..
ELB=-397.161
ELB improved by 0.0264831
iteration 59
Updating parameters of variational distributions...
Calculating ELB..
ELB=-397.137
ELB improved by 0.0238531
iteration 60
Updating parameters of variational distributions...
Calculating ELB..
ELB=-397.116
ELB improved by 0.0216214
iteration 61
Updating parameters of variational distributions...
Calculating ELB..
ELB=-397.096
ELB improved by 0.0195904
iteration 62
Updating parameters of variational distributions...
Calculating ELB..
ELB=-397.078
ELB improved by 0.0176577
iteration 63
Updating parameters of variational distributions...
Calculating ELB..
ELB=-397.063
ELB improved by 0.0157925
iteration 64
Updating parameters of variational distributions...
Calculating ELB..
ELB=-397.049
ELB improved by 0.0140124
iteration 65
Updating parameters of variational distributions...
Calculating ELB..
ELB=-397.036
ELB improved by 0.0123587
iteration 66
Updating parameters of variational distributions...
Calculating ELB..
ELB=-397.025
ELB improved by 0.0108721
iteration 67
Updating parameters of variational distributions...
Calculating ELB..
ELB=-397.016
ELB improved by 0.00957781
ELB converged
iteration 1
Updating parameters of variational distributions...
Calculating ELB..
ELB=-856.661
ELB improved by inf
iteration 2
Updating parameters of variational distributions...
Calculating ELB..
ELB=-570.046
ELB improved by 286.615
iteration 3
Updating parameters of variational distributions...
Calculating ELB..
ELB=-508.221
ELB improved by 61.825
iteration 4
Updating parameters of variational distributions...
Calculating ELB..
ELB=-471.25
ELB improved by 36.9713
iteration 5
Updating parameters of variational distributions...
Calculating ELB..
ELB=-456.123
ELB improved by 15.1271
iteration 6
Updating parameters of variational distributions...
Calculating ELB..
ELB=-449.414
ELB improved by 6.7086
iteration 7
Updating parameters of variational distributions...
Calculating ELB..
ELB=-444.848
ELB improved by 4.56592
iteration 8
Updating parameters of variational distributions...
Calculating ELB..
ELB=-440.78
ELB improved by 4.06801
iteration 9
Updating parameters of variational distributions...
Calculating ELB..
ELB=-436.644
ELB improved by 4.13588
iteration 10
Updating parameters of variational distributions...
Calculating ELB..
ELB=-432.305
ELB improved by 4.3394
iteration 11
Updating parameters of variational distributions...
Calculating ELB..
ELB=-427.931
ELB improved by 4.37357
iteration 12
Updating parameters of variational distributions...
Calculating ELB..
ELB=-423.915
ELB improved by 4.01646
iteration 13
Updating parameters of variational distributions...
Calculating ELB..
ELB=-420.64
ELB improved by 3.27446
iteration 14
Updating parameters of variational distributions...
Calculating ELB..
ELB=-418.223
ELB improved by 2.41685
iteration 15
Updating parameters of variational distributions...
Calculating ELB..
ELB=-416.486
ELB improved by 1.73753
iteration 16
Updating parameters of variational distributions...
Calculating ELB..
ELB=-415.178
ELB improved by 1.30737
iteration 17
Updating parameters of variational distributions...
Calculating ELB..
ELB=-414.145
ELB improved by 1.03316
iteration 18
Updating parameters of variational distributions...
Calculating ELB..
ELB=-413.289
ELB improved by 0.856212
iteration 19
Updating parameters of variational distributions...
Calculating ELB..
ELB=-412.529
ELB improved by 0.759672
iteration 20
Updating parameters of variational distributions...
Calculating ELB..
ELB=-411.827
ELB improved by 0.702875
iteration 21
Updating parameters of variational distributions...
Calculating ELB..
ELB=-411.155
ELB improved by 0.671098
iteration 22
Updating parameters of variational distributions...
Calculating ELB..
ELB=-410.484
ELB improved by 0.671264
iteration 23
Updating parameters of variational distributions...
Calculating ELB..
ELB=-409.785
ELB improved by 0.6989
iteration 24
Updating parameters of variational distributions...
Calculating ELB..
ELB=-409.043
ELB improved by 0.742629
iteration 25
Updating parameters of variational distributions...
Calculating ELB..
ELB=-408.249
ELB improved by 0.793233
iteration 26
Updating parameters of variational distributions...
Calculating ELB..
ELB=-407.404
ELB improved by 0.845375
iteration 27
Updating parameters of variational distributions...
Calculating ELB..
ELB=-406.507
ELB improved by 0.897116
iteration 28
Updating parameters of variational distributions...
Calculating ELB..
ELB=-405.558
ELB improved by 0.94896
iteration 29
Updating parameters of variational distributions...
Calculating ELB..
ELB=-404.556
ELB improved by 1.00224
iteration 30
Updating parameters of variational distributions...
Calculating ELB..
ELB=-403.499
ELB improved by 1.05715
iteration 31
Updating parameters of variational distributions...
Calculating ELB..
ELB=-402.387
ELB improved by 1.11186
iteration 32
Updating parameters of variational distributions...
Calculating ELB..
ELB=-401.221
ELB improved by 1.16529
iteration 33
Updating parameters of variational distributions...
Calculating ELB..
ELB=-399.993
ELB improved by 1.22843
iteration 34
Updating parameters of variational distributions...
Calculating ELB..
ELB=-398.644
ELB improved by 1.34889
iteration 35
Updating parameters of variational distributions...
Calculating ELB..
ELB=-397.076
ELB improved by 1.56823
iteration 36
Updating parameters of variational distributions...
Calculating ELB..
ELB=-395.468
ELB improved by 1.60749
iteration 37
Updating parameters of variational distributions...
Calculating ELB..
ELB=-394.176
ELB improved by 1.29244
iteration 38
Updating parameters of variational distributions...
Calculating ELB..
ELB=-393.257
ELB improved by 0.918554
iteration 39
Updating parameters of variational distributions...
Calculating ELB..
ELB=-392.636
ELB improved by 0.621821
iteration 40
Updating parameters of variational distributions...
Calculating ELB..
ELB=-392.22
ELB improved by 0.415491
iteration 41
Updating parameters of variational distributions...
Calculating ELB..
ELB=-391.939
ELB improved by 0.281004
iteration 42
Updating parameters of variational distributions...
Calculating ELB..
ELB=-391.744
ELB improved by 0.19483
iteration 43
Updating parameters of variational distributions...
Calculating ELB..
ELB=-391.605
ELB improved by 0.138891
iteration 44
Updating parameters of variational distributions...
Calculating ELB..
ELB=-391.504
ELB improved by 0.101671
iteration 45
Updating parameters of variational distributions...
Calculating ELB..
ELB=-391.427
ELB improved by 0.0762284
iteration 46
Updating parameters of variational distributions...
Calculating ELB..
ELB=-391.369
ELB improved by 0.0584181
iteration 47
Updating parameters of variational distributions...
Calculating ELB..
ELB=-391.323
ELB improved by 0.0457357
iteration 48
Updating parameters of variational distributions...
Calculating ELB..
ELB=-391.287
ELB improved by 0.0366035
iteration 49
Updating parameters of variational distributions...
Calculating ELB..
ELB=-391.257
ELB improved by 0.0299625
iteration 50
Updating parameters of variational distributions...
Calculating ELB..
ELB=-391.232
ELB improved by 0.0250697
iteration 51
Updating parameters of variational distributions...
Calculating ELB..
ELB=-391.21
ELB improved by 0.0213998
iteration 52
Updating parameters of variational distributions...
Calculating ELB..
ELB=-391.192
ELB improved by 0.0185862
iteration 53
Updating parameters of variational distributions...
Calculating ELB..
ELB=-391.175
ELB improved by 0.0163775
iteration 54
Updating parameters of variational distributions...
Calculating ELB..
ELB=-391.161
ELB improved by 0.0146031
iteration 55
Updating parameters of variational distributions...
Calculating ELB..
ELB=-391.148
ELB improved by 0.0131475
iteration 56
Updating parameters of variational distributions...
Calculating ELB..
ELB=-391.136
ELB improved by 0.0119318
iteration 57
Updating parameters of variational distributions...
Calculating ELB..
ELB=-391.125
ELB improved by 0.0109015
iteration 58
Updating parameters of variational distributions...
Calculating ELB..
ELB=-391.115
ELB improved by 0.0100182
iteration 59
Updating parameters of variational distributions...
Calculating ELB..
ELB=-391.105
ELB improved by 0.0092544
ELB converged
[ FAIL 0 | WARN 0 | SKIP 0 | PASS 24 ]
>
> proc.time()
user system elapsed
2.39 0.29 2.65
graper.Rcheck/graper-Ex.timings
| name | user | system | elapsed | |
| coef.graper | 0.04 | 0.00 | 0.25 | |
| getPIPs | 0.04 | 0.03 | 0.08 | |
| graper | 0.08 | 0.01 | 0.09 | |
| makeExampleData | 0 | 0 | 0 | |
| makeExampleDataWithUnequalGroups | 0.01 | 0.00 | 0.02 | |
| plotELBO | 0.28 | 0.00 | 0.28 | |
| plotGroupPenalties | 1.17 | 0.04 | 1.22 | |
| plotPosterior | 0.54 | 0.03 | 0.56 | |
| predict.graper | 1.92 | 0.06 | 1.98 | |
| print.graper | 0.06 | 0.00 | 0.07 | |