| Back to Multiple platform build/check report for BioC 3.19: simplified long |
|
This page was generated on 2024-05-09 11:40:44 -0400 (Thu, 09 May 2024).
| Hostname | OS | Arch (*) | R version | Installed pkgs |
|---|---|---|---|---|
| nebbiolo1 | Linux (Ubuntu 22.04.3 LTS) | x86_64 | 4.4.0 (2024-04-24) -- "Puppy Cup" | 4748 |
| palomino3 | Windows Server 2022 Datacenter | x64 | 4.4.0 (2024-04-24 ucrt) -- "Puppy Cup" | 4484 |
| lconway | macOS 12.7.1 Monterey | x86_64 | 4.4.0 (2024-04-24) -- "Puppy Cup" | 4514 |
| kunpeng2 | Linux (openEuler 22.03 LTS-SP1) | aarch64 | 4.4.0 beta (2024-04-15 r86425) -- "Puppy Cup" | 4480 |
| Click on any hostname to see more info about the system (e.g. compilers) (*) as reported by 'uname -p', except on Windows and Mac OS X | ||||
| Package 510/2300 | Hostname | OS / Arch | INSTALL | BUILD | CHECK | BUILD BIN | ||||||||
| dar 1.0.0 (landing page) Francesc Catala-Moll
| nebbiolo1 | Linux (Ubuntu 22.04.3 LTS) / x86_64 | OK | OK | OK | |||||||||
| palomino3 | Windows Server 2022 Datacenter / x64 | OK | OK | OK | OK | |||||||||
| lconway | macOS 12.7.1 Monterey / x86_64 | OK | OK | OK | OK | |||||||||
| kunpeng2 | Linux (openEuler 22.03 LTS-SP1) / aarch64 | OK | OK | OK | ||||||||||
| kjohnson3 | macOS 13.6.5 Ventura / arm64 | see weekly results here | ||||||||||||
|
To the developers/maintainers of the dar package: - Allow up to 24 hours (and sometimes 48 hours) for your latest push to git@git.bioconductor.org:packages/dar.git to reflect on this report. See Troubleshooting Build Report for more information. - Use the following Renviron settings to reproduce errors and warnings. - If 'R CMD check' started to fail recently on the Linux builder(s) over a missing dependency, add the missing dependency to 'Suggests:' in your DESCRIPTION file. See Renviron.bioc for more information. - See Martin Grigorov's blog post for how to debug Linux ARM64 related issues on a x86_64 host. |
| Package: dar |
| Version: 1.0.0 |
| Command: /home/biocbuild/R/R-beta-2024-04-15_r86425/bin/R CMD check --install=check:dar.install-out.txt --library=/home/biocbuild/R/R-beta-2024-04-15_r86425/site-library --no-vignettes --timings dar_1.0.0.tar.gz |
| StartedAt: 2024-05-09 06:31:06 -0000 (Thu, 09 May 2024) |
| EndedAt: 2024-05-09 06:45:47 -0000 (Thu, 09 May 2024) |
| EllapsedTime: 881.5 seconds |
| RetCode: 0 |
| Status: OK |
| CheckDir: dar.Rcheck |
| Warnings: 0 |
##############################################################################
##############################################################################
###
### Running command:
###
### /home/biocbuild/R/R-beta-2024-04-15_r86425/bin/R CMD check --install=check:dar.install-out.txt --library=/home/biocbuild/R/R-beta-2024-04-15_r86425/site-library --no-vignettes --timings dar_1.0.0.tar.gz
###
##############################################################################
##############################################################################
* using log directory ‘/home/biocbuild/bbs-3.19-bioc/meat/dar.Rcheck’
* using R version 4.4.0 beta (2024-04-15 r86425)
* using platform: aarch64-unknown-linux-gnu
* R was compiled by
gcc (GCC) 10.3.1
GNU Fortran (GCC) 10.3.1
* running under: openEuler 22.03 (LTS-SP1)
* using session charset: UTF-8
* using option ‘--no-vignettes’
* checking for file ‘dar/DESCRIPTION’ ... OK
* this is package ‘dar’ version ‘1.0.0’
* package encoding: UTF-8
* checking package namespace information ... OK
* checking package dependencies ... OK
* checking if this is a source package ... OK
* checking if there is a namespace ... OK
* checking for hidden files and directories ... OK
* checking for portable file names ... OK
* checking for sufficient/correct file permissions ... OK
* checking whether package ‘dar’ can be installed ... OK
* checking installed package size ... OK
* checking package directory ... OK
* checking ‘build’ directory ... OK
* checking DESCRIPTION meta-information ... OK
* checking top-level files ... OK
* checking for left-over files ... OK
* checking index information ... OK
* checking package subdirectories ... OK
* checking code files for non-ASCII characters ... OK
* checking R files for syntax errors ... OK
* checking whether the package can be loaded ... OK
* checking whether the package can be loaded with stated dependencies ... OK
* checking whether the package can be unloaded cleanly ... OK
* checking whether the namespace can be loaded with stated dependencies ... OK
* checking whether the namespace can be unloaded cleanly ... OK
* checking loading without being on the library search path ... OK
* checking dependencies in R code ... OK
* checking S3 generic/method consistency ... OK
* checking replacement functions ... OK
* checking foreign function calls ... OK
* checking R code for possible problems ... OK
* checking Rd files ... OK
* checking Rd metadata ... OK
* checking Rd cross-references ... OK
* checking for missing documentation entries ... OK
* checking for code/documentation mismatches ... OK
* checking Rd \usage sections ... OK
* checking Rd contents ... OK
* checking for unstated dependencies in examples ... OK
* checking contents of ‘data’ directory ... OK
* checking data for non-ASCII characters ... OK
* checking data for ASCII and uncompressed saves ... OK
* checking R/sysdata.rda ... OK
* checking files in ‘vignettes’ ... OK
* checking examples ... OK
Examples with CPU (user + system) or elapsed time > 5s
user system elapsed
step_aldex 23.119 1.439 24.624
step_ancom 22.184 0.391 22.635
step_deseq 9.379 0.180 9.580
step_metagenomeseq 6.682 0.224 14.571
prep 3.750 0.191 48.848
import_steps 2.703 0.343 46.114
export_steps 2.187 0.760 17.493
recipe 1.269 0.059 22.930
* checking for unstated dependencies in ‘tests’ ... OK
* checking tests ...
Running ‘testthat.R’
OK
* checking for unstated dependencies in vignettes ... OK
* checking package vignettes ... OK
* checking running R code from vignettes ... SKIPPED
* checking re-building of vignette outputs ... SKIPPED
* checking PDF version of manual ... OK
* DONE
Status: OK
dar.Rcheck/00install.out
############################################################################## ############################################################################## ### ### Running command: ### ### /home/biocbuild/R/R-beta-2024-04-15_r86425/bin/R CMD INSTALL dar ### ############################################################################## ############################################################################## * installing to library ‘/home/biocbuild/R/R-beta-2024-04-15_r86425/site-library’ * installing *source* package ‘dar’ ... ** using staged installation ** R ** data ** inst ** byte-compile and prepare package for lazy loading ** help *** installing help indices *** copying figures ** building package indices ** installing vignettes ** testing if installed package can be loaded from temporary location ** testing if installed package can be loaded from final location ** testing if installed package keeps a record of temporary installation path * DONE (dar)
dar.Rcheck/tests/testthat.Rout
R version 4.4.0 beta (2024-04-15 r86425) -- "Puppy Cup"
Copyright (C) 2024 The R Foundation for Statistical Computing
Platform: aarch64-unknown-linux-gnu
R is free software and comes with ABSOLUTELY NO WARRANTY.
You are welcome to redistribute it under certain conditions.
Type 'license()' or 'licence()' for distribution details.
R is a collaborative project with many contributors.
Type 'contributors()' for more information and
'citation()' on how to cite R or R packages in publications.
Type 'demo()' for some demos, 'help()' for on-line help, or
'help.start()' for an HTML browser interface to help.
Type 'q()' to quit R.
> library(testthat)
> library(dar)
>
> test_check("dar")
Starting 2 test processes
[ FAIL 0 | WARN 0 | SKIP 10 | PASS 82 ]
══ Skipped tests (10) ══════════════════════════════════════════════════════════
• On CRAN (10): 'test-roxytest-tests-bake.R:18:3',
'test-roxytest-tests-ancom.R:14:3', 'test-roxytest-tests-lefse.R:15:3',
'test-roxytest-tests-maaslin2.R:16:3', 'test-roxytest-tests-pkg_check.R:6:3',
'test-roxytest-tests-misc.R:73:3', 'test-roxytest-tests-misc.R:101:3',
'test-roxytest-tests-misc.R:108:3', 'test-roxytest-tests-read_data.R:24:3',
'test-roxytest-tests-steps_and_checks.R:7:3'
[ FAIL 0 | WARN 0 | SKIP 10 | PASS 82 ]
>
> proc.time()
user system elapsed
305.417 11.044 434.213
dar.Rcheck/dar-Ex.timings
| name | user | system | elapsed | |
| abundance_plt | 3.17 | 0.10 | 3.28 | |
| add_tax | 0.221 | 0.000 | 0.222 | |
| add_var | 0.208 | 0.000 | 0.208 | |
| bake | 1.212 | 0.056 | 1.270 | |
| contains_rarefaction | 0.306 | 0.011 | 0.319 | |
| cool | 0.403 | 0.004 | 0.407 | |
| corr_heatmap | 4.403 | 0.087 | 4.501 | |
| exclusion_plt | 1.246 | 0.004 | 1.252 | |
| export_steps | 2.187 | 0.760 | 17.493 | |
| find_intersections | 0.263 | 0.056 | 0.320 | |
| get_comparisons | 0.030 | 0.004 | 0.034 | |
| get_phy | 0.025 | 0.000 | 0.025 | |
| get_tax | 0.030 | 0.000 | 0.031 | |
| get_var | 0.030 | 0.000 | 0.031 | |
| import_steps | 2.703 | 0.343 | 46.114 | |
| intersection_df | 0.254 | 0.017 | 0.270 | |
| intersection_plt | 2.313 | 0.471 | 2.789 | |
| mutual_plt | 2.808 | 0.075 | 2.890 | |
| otu_table | 0.592 | 0.020 | 0.614 | |
| overlap_df | 0.385 | 0.008 | 0.393 | |
| phy_qc | 1.848 | 0.044 | 1.895 | |
| prep | 3.750 | 0.191 | 48.848 | |
| rand_id | 0.001 | 0.000 | 0.000 | |
| read_data | 2.151 | 0.493 | 2.485 | |
| recipe | 1.269 | 0.059 | 22.930 | |
| required_deps | 0.059 | 0.008 | 0.067 | |
| sample_data | 0.044 | 0.000 | 0.043 | |
| step_aldex | 23.119 | 1.439 | 24.624 | |
| step_ancom | 22.184 | 0.391 | 22.635 | |
| step_corncob | 3.669 | 0.075 | 3.798 | |
| step_deseq | 9.379 | 0.180 | 9.580 | |
| step_filter_by_abundance | 0.052 | 0.000 | 0.051 | |
| step_filter_by_prevalence | 0.052 | 0.000 | 0.052 | |
| step_filter_by_rarity | 0.047 | 0.004 | 0.052 | |
| step_filter_by_variance | 0.049 | 0.004 | 0.053 | |
| step_filter_taxa | 0.051 | 0.004 | 0.055 | |
| step_lefse | 0.256 | 0.008 | 0.264 | |
| step_maaslin | 4.579 | 0.072 | 4.661 | |
| step_metagenomeseq | 6.682 | 0.224 | 14.571 | |
| step_rarefaction | 0.067 | 0.000 | 0.066 | |
| step_subset_taxa | 0.050 | 0.004 | 0.053 | |
| step_wilcox | 2.476 | 0.136 | 2.617 | |
| steps_ids | 0.017 | 0.004 | 0.021 | |
| tax_table | 0.067 | 0.000 | 0.067 | |
| tidyeval | 0.024 | 0.000 | 0.024 | |
| to_tibble | 0.663 | 0.020 | 0.684 | |
| use_rarefy | 0.017 | 0.000 | 0.017 | |
| zero_otu | 0.645 | 0.020 | 0.667 | |