| Back to Multiple platform build/check report for BioC 3.19: simplified long | 
 | 
This page was generated on 2024-10-18 20:38 -0400 (Fri, 18 Oct 2024).
| Hostname | OS | Arch (*) | R version | Installed pkgs | 
|---|---|---|---|---|
| nebbiolo1 | Linux (Ubuntu 22.04.3 LTS) | x86_64 | 4.4.1 (2024-06-14) -- "Race for Your Life" | 4763 | 
| palomino7 | Windows Server 2022 Datacenter | x64 | 4.4.1 (2024-06-14 ucrt) -- "Race for Your Life" | 4500 | 
| merida1 | macOS 12.7.5 Monterey | x86_64 | 4.4.1 (2024-06-14) -- "Race for Your Life" | 4530 | 
| kjohnson1 | macOS 13.6.6 Ventura | arm64 | 4.4.1 (2024-06-14) -- "Race for Your Life" | 4480 | 
| Click on any hostname to see more info about the system (e.g. compilers) (*) as reported by 'uname -p', except on Windows and Mac OS X | ||||
| Package 510/2300 | Hostname | OS / Arch | INSTALL | BUILD | CHECK | BUILD BIN | ||||||||
| dar 1.0.0  (landing page) Francesc Catala-Moll 
 | nebbiolo1 | Linux (Ubuntu 22.04.3 LTS) / x86_64 | OK | OK | OK |  | ||||||||
| palomino7 | Windows Server 2022 Datacenter / x64 | OK | OK | OK | OK |  | ||||||||
| merida1 | macOS 12.7.5 Monterey / x86_64 | OK | OK | OK | OK |  | ||||||||
| kjohnson1 | macOS 13.6.6 Ventura / arm64 | OK | OK | OK | OK |  | ||||||||
| To the developers/maintainers of the dar package: - Allow up to 24 hours (and sometimes 48 hours) for your latest push to git@git.bioconductor.org:packages/dar.git to reflect on this report. See Troubleshooting Build Report for more information. - Use the following Renviron settings to reproduce errors and warnings. - If 'R CMD check' started to fail recently on the Linux builder(s) over a missing dependency, add the missing dependency to 'Suggests:' in your DESCRIPTION file. See Renviron.bioc for more information. | 
| Package: dar | 
| Version: 1.0.0 | 
| Command: /home/biocbuild/bbs-3.19-bioc/R/bin/R CMD check --install=check:dar.install-out.txt --library=/home/biocbuild/bbs-3.19-bioc/R/site-library --timings dar_1.0.0.tar.gz | 
| StartedAt: 2024-10-16 23:27:47 -0400 (Wed, 16 Oct 2024) | 
| EndedAt: 2024-10-16 23:41:05 -0400 (Wed, 16 Oct 2024) | 
| EllapsedTime: 798.6 seconds | 
| RetCode: 0 | 
| Status: OK | 
| CheckDir: dar.Rcheck | 
| Warnings: 0 | 
##############################################################################
##############################################################################
###
### Running command:
###
###   /home/biocbuild/bbs-3.19-bioc/R/bin/R CMD check --install=check:dar.install-out.txt --library=/home/biocbuild/bbs-3.19-bioc/R/site-library --timings dar_1.0.0.tar.gz
###
##############################################################################
##############################################################################
* using log directory ‘/home/biocbuild/bbs-3.19-bioc/meat/dar.Rcheck’
* using R version 4.4.1 (2024-06-14)
* using platform: x86_64-pc-linux-gnu
* R was compiled by
    gcc (Ubuntu 11.4.0-1ubuntu1~22.04) 11.4.0
    GNU Fortran (Ubuntu 11.4.0-1ubuntu1~22.04) 11.4.0
* running under: Ubuntu 22.04.5 LTS
* using session charset: UTF-8
* checking for file ‘dar/DESCRIPTION’ ... OK
* this is package ‘dar’ version ‘1.0.0’
* package encoding: UTF-8
* checking package namespace information ... OK
* checking package dependencies ... OK
* checking if this is a source package ... OK
* checking if there is a namespace ... OK
* checking for hidden files and directories ... OK
* checking for portable file names ... OK
* checking for sufficient/correct file permissions ... OK
* checking whether package ‘dar’ can be installed ... OK
* checking installed package size ... OK
* checking package directory ... OK
* checking ‘build’ directory ... OK
* checking DESCRIPTION meta-information ... OK
* checking top-level files ... OK
* checking for left-over files ... OK
* checking index information ... OK
* checking package subdirectories ... OK
* checking code files for non-ASCII characters ... OK
* checking R files for syntax errors ... OK
* checking whether the package can be loaded ... OK
* checking whether the package can be loaded with stated dependencies ... OK
* checking whether the package can be unloaded cleanly ... OK
* checking whether the namespace can be loaded with stated dependencies ... OK
* checking whether the namespace can be unloaded cleanly ... OK
* checking loading without being on the library search path ... OK
* checking dependencies in R code ... OK
* checking S3 generic/method consistency ... OK
* checking replacement functions ... OK
* checking foreign function calls ... OK
* checking R code for possible problems ... OK
* checking Rd files ... OK
* checking Rd metadata ... OK
* checking Rd cross-references ... OK
* checking for missing documentation entries ... OK
* checking for code/documentation mismatches ... OK
* checking Rd \usage sections ... OK
* checking Rd contents ... OK
* checking for unstated dependencies in examples ... OK
* checking contents of ‘data’ directory ... OK
* checking data for non-ASCII characters ... OK
* checking data for ASCII and uncompressed saves ... OK
* checking R/sysdata.rda ... OK
* checking files in ‘vignettes’ ... OK
* checking examples ... OK
Examples with CPU (user + system) or elapsed time > 5s
                     user system elapsed
step_ancom         18.635  0.959  19.596
step_aldex         18.478  1.084  19.563
step_deseq          6.593  0.448   7.041
step_metagenomeseq  5.439  0.356  12.297
prep                2.862  0.202  36.787
import_steps        2.038  0.157  34.680
export_steps        1.671  0.109  11.953
recipe              1.184  0.059  19.981
* checking for unstated dependencies in ‘tests’ ... OK
* checking tests ...
  Running ‘testthat.R’
 OK
* checking for unstated dependencies in vignettes ... OK
* checking package vignettes ... OK
* checking re-building of vignette outputs ... OK
* checking PDF version of manual ... OK
* DONE
Status: OK
dar.Rcheck/00install.out
############################################################################## ############################################################################## ### ### Running command: ### ### /home/biocbuild/bbs-3.19-bioc/R/bin/R CMD INSTALL dar ### ############################################################################## ############################################################################## * installing to library ‘/home/biocbuild/bbs-3.19-bioc/R/site-library’ * installing *source* package ‘dar’ ... ** using staged installation ** R ** data ** inst ** byte-compile and prepare package for lazy loading ** help *** installing help indices *** copying figures ** building package indices ** installing vignettes ** testing if installed package can be loaded from temporary location ** testing if installed package can be loaded from final location ** testing if installed package keeps a record of temporary installation path * DONE (dar)
dar.Rcheck/tests/testthat.Rout
R version 4.4.1 (2024-06-14) -- "Race for Your Life"
Copyright (C) 2024 The R Foundation for Statistical Computing
Platform: x86_64-pc-linux-gnu
R is free software and comes with ABSOLUTELY NO WARRANTY.
You are welcome to redistribute it under certain conditions.
Type 'license()' or 'licence()' for distribution details.
R is a collaborative project with many contributors.
Type 'contributors()' for more information and
'citation()' on how to cite R or R packages in publications.
Type 'demo()' for some demos, 'help()' for on-line help, or
'help.start()' for an HTML browser interface to help.
Type 'q()' to quit R.
> library(testthat)
> library(dar)
> 
> test_check("dar")
Starting 2 test processes
[ FAIL 0 | WARN 0 | SKIP 10 | PASS 82 ]
══ Skipped tests (10) ══════════════════════════════════════════════════════════
• On CRAN (10): 'test-roxytest-tests-bake.R:18:3',
  'test-roxytest-tests-ancom.R:14:3', 'test-roxytest-tests-lefse.R:15:3',
  'test-roxytest-tests-maaslin2.R:16:3', 'test-roxytest-tests-pkg_check.R:6:3',
  'test-roxytest-tests-misc.R:73:3', 'test-roxytest-tests-misc.R:101:3',
  'test-roxytest-tests-misc.R:108:3', 'test-roxytest-tests-read_data.R:24:3',
  'test-roxytest-tests-steps_and_checks.R:7:3'
[ FAIL 0 | WARN 0 | SKIP 10 | PASS 82 ]
> 
> proc.time()
   user  system elapsed 
207.895  11.784 311.373 
dar.Rcheck/dar-Ex.timings
| name | user | system | elapsed | |
| abundance_plt | 2.767 | 0.144 | 2.911 | |
| add_tax | 0.152 | 0.004 | 0.156 | |
| add_var | 0.139 | 0.004 | 0.143 | |
| bake | 0.436 | 0.004 | 0.440 | |
| contains_rarefaction | 0.245 | 0.016 | 0.261 | |
| cool | 0.291 | 0.000 | 0.291 | |
| corr_heatmap | 3.499 | 0.076 | 3.575 | |
| exclusion_plt | 0.828 | 0.164 | 0.993 | |
| export_steps | 1.671 | 0.109 | 11.953 | |
| find_intersections | 0.174 | 0.000 | 0.174 | |
| get_comparisons | 0.028 | 0.000 | 0.028 | |
| get_phy | 0.014 | 0.008 | 0.021 | |
| get_tax | 0.025 | 0.000 | 0.025 | |
| get_var | 0.021 | 0.004 | 0.025 | |
| import_steps | 2.038 | 0.157 | 34.680 | |
| intersection_df | 0.193 | 0.028 | 0.221 | |
| intersection_plt | 1.499 | 0.064 | 1.562 | |
| mutual_plt | 1.849 | 0.048 | 1.897 | |
| otu_table | 0.386 | 0.020 | 0.406 | |
| overlap_df | 0.252 | 0.004 | 0.256 | |
| phy_qc | 1.103 | 0.052 | 1.154 | |
| prep | 2.862 | 0.202 | 36.787 | |
| rand_id | 0.000 | 0.000 | 0.001 | |
| read_data | 1.610 | 0.597 | 2.006 | |
| recipe | 1.184 | 0.059 | 19.981 | |
| required_deps | 0.054 | 0.004 | 0.059 | |
| sample_data | 0.042 | 0.000 | 0.042 | |
| step_aldex | 18.478 | 1.084 | 19.563 | |
| step_ancom | 18.635 | 0.959 | 19.596 | |
| step_corncob | 3.174 | 0.113 | 3.288 | |
| step_deseq | 6.593 | 0.448 | 7.041 | |
| step_filter_by_abundance | 0.042 | 0.000 | 0.042 | |
| step_filter_by_prevalence | 0.035 | 0.008 | 0.043 | |
| step_filter_by_rarity | 0.037 | 0.003 | 0.040 | |
| step_filter_by_variance | 0.038 | 0.005 | 0.042 | |
| step_filter_taxa | 0.041 | 0.000 | 0.041 | |
| step_lefse | 0.068 | 0.008 | 0.076 | |
| step_maaslin | 3.488 | 0.144 | 3.632 | |
| step_metagenomeseq | 5.439 | 0.356 | 12.297 | |
| step_rarefaction | 0.051 | 0.000 | 0.051 | |
| step_subset_taxa | 0.039 | 0.004 | 0.042 | |
| step_wilcox | 1.929 | 0.104 | 2.034 | |
| steps_ids | 0.018 | 0.000 | 0.017 | |
| tax_table | 0.049 | 0.007 | 0.056 | |
| tidyeval | 0.020 | 0.005 | 0.024 | |
| to_tibble | 0.422 | 0.015 | 0.438 | |
| use_rarefy | 0.02 | 0.00 | 0.02 | |
| zero_otu | 0.419 | 0.036 | 0.455 | |