| Back to Multiple platform build/check report for BioC 3.19: simplified long | 
 | 
This page was generated on 2024-10-18 20:42 -0400 (Fri, 18 Oct 2024).
| Hostname | OS | Arch (*) | R version | Installed pkgs | 
|---|---|---|---|---|
| nebbiolo1 | Linux (Ubuntu 22.04.3 LTS) | x86_64 | 4.4.1 (2024-06-14) -- "Race for Your Life" | 4763 | 
| palomino7 | Windows Server 2022 Datacenter | x64 | 4.4.1 (2024-06-14 ucrt) -- "Race for Your Life" | 4500 | 
| merida1 | macOS 12.7.5 Monterey | x86_64 | 4.4.1 (2024-06-14) -- "Race for Your Life" | 4530 | 
| kjohnson1 | macOS 13.6.6 Ventura | arm64 | 4.4.1 (2024-06-14) -- "Race for Your Life" | 4480 | 
| Click on any hostname to see more info about the system (e.g. compilers) (*) as reported by 'uname -p', except on Windows and Mac OS X | ||||
| Package 510/2300 | Hostname | OS / Arch | INSTALL | BUILD | CHECK | BUILD BIN | ||||||||
| dar 1.0.0  (landing page) Francesc Catala-Moll 
 | nebbiolo1 | Linux (Ubuntu 22.04.3 LTS) / x86_64 | OK | OK | OK |  | ||||||||
| palomino7 | Windows Server 2022 Datacenter / x64 | OK | OK | OK | OK |  | ||||||||
| merida1 | macOS 12.7.5 Monterey / x86_64 | OK | OK | OK | OK |  | ||||||||
| kjohnson1 | macOS 13.6.6 Ventura / arm64 | OK | OK | OK | OK |  | ||||||||
| To the developers/maintainers of the dar package: - Allow up to 24 hours (and sometimes 48 hours) for your latest push to git@git.bioconductor.org:packages/dar.git to reflect on this report. See Troubleshooting Build Report for more information. - Use the following Renviron settings to reproduce errors and warnings. - If 'R CMD check' started to fail recently on the Linux builder(s) over a missing dependency, add the missing dependency to 'Suggests:' in your DESCRIPTION file. See Renviron.bioc for more information. | 
| Package: dar | 
| Version: 1.0.0 | 
| Command: /Library/Frameworks/R.framework/Resources/bin/R CMD check --install=check:dar.install-out.txt --library=/Library/Frameworks/R.framework/Resources/library --no-vignettes --timings dar_1.0.0.tar.gz | 
| StartedAt: 2024-10-17 18:47:33 -0400 (Thu, 17 Oct 2024) | 
| EndedAt: 2024-10-17 19:01:44 -0400 (Thu, 17 Oct 2024) | 
| EllapsedTime: 850.7 seconds | 
| RetCode: 0 | 
| Status: OK | 
| CheckDir: dar.Rcheck | 
| Warnings: 0 | 
##############################################################################
##############################################################################
###
### Running command:
###
###   /Library/Frameworks/R.framework/Resources/bin/R CMD check --install=check:dar.install-out.txt --library=/Library/Frameworks/R.framework/Resources/library --no-vignettes --timings dar_1.0.0.tar.gz
###
##############################################################################
##############################################################################
* using log directory ‘/Users/biocbuild/bbs-3.19-bioc/meat/dar.Rcheck’
* using R version 4.4.1 (2024-06-14)
* using platform: aarch64-apple-darwin20
* R was compiled by
    Apple clang version 14.0.0 (clang-1400.0.29.202)
    GNU Fortran (GCC) 12.2.0
* running under: macOS Ventura 13.6.6
* using session charset: UTF-8
* using option ‘--no-vignettes’
* checking for file ‘dar/DESCRIPTION’ ... OK
* this is package ‘dar’ version ‘1.0.0’
* package encoding: UTF-8
* checking package namespace information ... OK
* checking package dependencies ... OK
* checking if this is a source package ... OK
* checking if there is a namespace ... OK
* checking for hidden files and directories ... OK
* checking for portable file names ... OK
* checking for sufficient/correct file permissions ... OK
* checking whether package ‘dar’ can be installed ... OK
* checking installed package size ... OK
* checking package directory ... OK
* checking ‘build’ directory ... OK
* checking DESCRIPTION meta-information ... OK
* checking top-level files ... OK
* checking for left-over files ... OK
* checking index information ... OK
* checking package subdirectories ... OK
* checking code files for non-ASCII characters ... OK
* checking R files for syntax errors ... OK
* checking whether the package can be loaded ... OK
* checking whether the package can be loaded with stated dependencies ... OK
* checking whether the package can be unloaded cleanly ... OK
* checking whether the namespace can be loaded with stated dependencies ... OK
* checking whether the namespace can be unloaded cleanly ... OK
* checking dependencies in R code ... OK
* checking S3 generic/method consistency ... OK
* checking replacement functions ... OK
* checking foreign function calls ... OK
* checking R code for possible problems ... OK
* checking Rd files ... OK
* checking Rd metadata ... OK
* checking Rd cross-references ... OK
* checking for missing documentation entries ... OK
* checking for code/documentation mismatches ... OK
* checking Rd \usage sections ... OK
* checking Rd contents ... OK
* checking for unstated dependencies in examples ... OK
* checking contents of ‘data’ directory ... OK
* checking data for non-ASCII characters ... OK
* checking data for ASCII and uncompressed saves ... OK
* checking R/sysdata.rda ... OK
* checking files in ‘vignettes’ ... OK
* checking examples ... OK
Examples with CPU (user + system) or elapsed time > 5s
                     user system elapsed
step_aldex         19.618  2.398  22.977
step_ancom         16.951  0.792  18.038
step_deseq          7.258  0.110   7.382
step_metagenomeseq  4.093  0.092  11.427
prep                2.261  0.081  42.916
export_steps        1.855  0.191  15.144
import_steps        1.560  0.142  42.064
recipe              0.839  0.029  21.662
* checking for unstated dependencies in ‘tests’ ... OK
* checking tests ...
  Running ‘testthat.R’
 OK
* checking for unstated dependencies in vignettes ... OK
* checking package vignettes ... OK
* checking running R code from vignettes ... SKIPPED
* checking re-building of vignette outputs ... SKIPPED
* checking PDF version of manual ... OK
* DONE
Status: OK
dar.Rcheck/00install.out
############################################################################## ############################################################################## ### ### Running command: ### ### /Library/Frameworks/R.framework/Resources/bin/R CMD INSTALL dar ### ############################################################################## ############################################################################## * installing to library ‘/Library/Frameworks/R.framework/Versions/4.4-arm64/Resources/library’ * installing *source* package ‘dar’ ... ** using staged installation ** R ** data ** inst ** byte-compile and prepare package for lazy loading ** help *** installing help indices *** copying figures ** building package indices ** installing vignettes ** testing if installed package can be loaded from temporary location ** testing if installed package can be loaded from final location ** testing if installed package keeps a record of temporary installation path * DONE (dar)
dar.Rcheck/tests/testthat.Rout
R version 4.4.1 (2024-06-14) -- "Race for Your Life"
Copyright (C) 2024 The R Foundation for Statistical Computing
Platform: aarch64-apple-darwin20
R is free software and comes with ABSOLUTELY NO WARRANTY.
You are welcome to redistribute it under certain conditions.
Type 'license()' or 'licence()' for distribution details.
R is a collaborative project with many contributors.
Type 'contributors()' for more information and
'citation()' on how to cite R or R packages in publications.
Type 'demo()' for some demos, 'help()' for on-line help, or
'help.start()' for an HTML browser interface to help.
Type 'q()' to quit R.
> library(testthat)
> library(dar)
> 
> test_check("dar")
Starting 2 test processes
[ FAIL 0 | WARN 0 | SKIP 10 | PASS 82 ]
══ Skipped tests (10) ══════════════════════════════════════════════════════════
• On CRAN (10): 'test-roxytest-tests-bake.R:18:3',
  'test-roxytest-tests-ancom.R:14:3', 'test-roxytest-tests-lefse.R:15:3',
  'test-roxytest-tests-maaslin2.R:16:3', 'test-roxytest-tests-pkg_check.R:6:3',
  'test-roxytest-tests-misc.R:73:3', 'test-roxytest-tests-misc.R:101:3',
  'test-roxytest-tests-misc.R:108:3', 'test-roxytest-tests-read_data.R:24:3',
  'test-roxytest-tests-steps_and_checks.R:7:3'
[ FAIL 0 | WARN 0 | SKIP 10 | PASS 82 ]
> 
> proc.time()
   user  system elapsed 
249.576  20.603 445.918 
dar.Rcheck/dar-Ex.timings
| name | user | system | elapsed | |
| abundance_plt | 3.070 | 0.123 | 3.220 | |
| add_tax | 0.180 | 0.008 | 0.189 | |
| add_var | 0.176 | 0.007 | 0.184 | |
| bake | 0.534 | 0.013 | 0.551 | |
| contains_rarefaction | 0.312 | 0.016 | 0.329 | |
| cool | 0.334 | 0.009 | 0.348 | |
| corr_heatmap | 4.325 | 0.100 | 4.503 | |
| exclusion_plt | 0.953 | 0.017 | 0.998 | |
| export_steps | 1.855 | 0.191 | 15.144 | |
| find_intersections | 0.188 | 0.038 | 0.262 | |
| get_comparisons | 0.032 | 0.006 | 0.040 | |
| get_phy | 0.028 | 0.004 | 0.033 | |
| get_tax | 0.031 | 0.005 | 0.039 | |
| get_var | 0.032 | 0.005 | 0.039 | |
| import_steps | 1.560 | 0.142 | 42.064 | |
| intersection_df | 0.193 | 0.008 | 0.220 | |
| intersection_plt | 1.473 | 0.015 | 1.504 | |
| mutual_plt | 1.906 | 0.026 | 1.969 | |
| otu_table | 0.401 | 0.005 | 0.409 | |
| overlap_df | 0.317 | 0.010 | 0.331 | |
| phy_qc | 1.200 | 0.023 | 1.250 | |
| prep | 2.261 | 0.081 | 42.916 | |
| rand_id | 0.001 | 0.001 | 0.001 | |
| read_data | 1.538 | 0.123 | 1.711 | |
| recipe | 0.839 | 0.029 | 21.662 | |
| required_deps | 0.066 | 0.010 | 0.082 | |
| sample_data | 0.040 | 0.005 | 0.049 | |
| step_aldex | 19.618 | 2.398 | 22.977 | |
| step_ancom | 16.951 | 0.792 | 18.038 | |
| step_corncob | 2.941 | 0.234 | 3.196 | |
| step_deseq | 7.258 | 0.110 | 7.382 | |
| step_filter_by_abundance | 0.057 | 0.007 | 0.064 | |
| step_filter_by_prevalence | 0.057 | 0.006 | 0.063 | |
| step_filter_by_rarity | 0.048 | 0.006 | 0.054 | |
| step_filter_by_variance | 0.048 | 0.004 | 0.052 | |
| step_filter_taxa | 0.049 | 0.008 | 0.058 | |
| step_lefse | 0.080 | 0.005 | 0.084 | |
| step_maaslin | 3.265 | 0.172 | 3.443 | |
| step_metagenomeseq | 4.093 | 0.092 | 11.427 | |
| step_rarefaction | 0.058 | 0.012 | 0.070 | |
| step_subset_taxa | 0.050 | 0.012 | 0.063 | |
| step_wilcox | 1.894 | 0.036 | 1.950 | |
| steps_ids | 0.011 | 0.007 | 0.020 | |
| tax_table | 0.031 | 0.006 | 0.039 | |
| tidyeval | 0.014 | 0.001 | 0.015 | |
| to_tibble | 0.349 | 0.013 | 0.406 | |
| use_rarefy | 0.008 | 0.004 | 0.013 | |
| zero_otu | 0.214 | 0.007 | 0.225 | |