| Back to Multiple platform build/check report for BioC 3.19: simplified long |
|
This page was generated on 2024-06-11 14:42 -0400 (Tue, 11 Jun 2024).
| Hostname | OS | Arch (*) | R version | Installed pkgs |
|---|---|---|---|---|
| nebbiolo1 | Linux (Ubuntu 22.04.3 LTS) | x86_64 | 4.4.0 (2024-04-24) -- "Puppy Cup" | 4757 |
| palomino3 | Windows Server 2022 Datacenter | x64 | 4.4.0 (2024-04-24 ucrt) -- "Puppy Cup" | 4491 |
| lconway | macOS 12.7.1 Monterey | x86_64 | 4.4.0 (2024-04-24) -- "Puppy Cup" | 4522 |
| kjohnson3 | macOS 13.6.5 Ventura | arm64 | 4.4.0 (2024-04-24) -- "Puppy Cup" | 4468 |
| Click on any hostname to see more info about the system (e.g. compilers) (*) as reported by 'uname -p', except on Windows and Mac OS X | ||||
| Package 510/2300 | Hostname | OS / Arch | INSTALL | BUILD | CHECK | BUILD BIN | ||||||||
| dar 1.0.0 (landing page) Francesc Catala-Moll
| nebbiolo1 | Linux (Ubuntu 22.04.3 LTS) / x86_64 | OK | OK | OK | |||||||||
| palomino3 | Windows Server 2022 Datacenter / x64 | OK | OK | OK | OK | |||||||||
| lconway | macOS 12.7.1 Monterey / x86_64 | OK | OK | OK | OK | |||||||||
| kjohnson3 | macOS 13.6.5 Ventura / arm64 | OK | OK | OK | OK | |||||||||
|
To the developers/maintainers of the dar package: - Allow up to 24 hours (and sometimes 48 hours) for your latest push to git@git.bioconductor.org:packages/dar.git to reflect on this report. See Troubleshooting Build Report for more information. - Use the following Renviron settings to reproduce errors and warnings. - If 'R CMD check' started to fail recently on the Linux builder(s) over a missing dependency, add the missing dependency to 'Suggests:' in your DESCRIPTION file. See Renviron.bioc for more information. |
| Package: dar |
| Version: 1.0.0 |
| Command: /Library/Frameworks/R.framework/Resources/bin/R CMD check --install=check:dar.install-out.txt --library=/Library/Frameworks/R.framework/Resources/library --no-vignettes --timings dar_1.0.0.tar.gz |
| StartedAt: 2024-06-09 19:49:14 -0400 (Sun, 09 Jun 2024) |
| EndedAt: 2024-06-09 20:01:44 -0400 (Sun, 09 Jun 2024) |
| EllapsedTime: 749.8 seconds |
| RetCode: 0 |
| Status: OK |
| CheckDir: dar.Rcheck |
| Warnings: 0 |
##############################################################################
##############################################################################
###
### Running command:
###
### /Library/Frameworks/R.framework/Resources/bin/R CMD check --install=check:dar.install-out.txt --library=/Library/Frameworks/R.framework/Resources/library --no-vignettes --timings dar_1.0.0.tar.gz
###
##############################################################################
##############################################################################
* using log directory ‘/Users/biocbuild/bbs-3.19-bioc/meat/dar.Rcheck’
* using R version 4.4.0 (2024-04-24)
* using platform: x86_64-apple-darwin20
* R was compiled by
Apple clang version 14.0.0 (clang-1400.0.29.202)
GNU Fortran (GCC) 12.2.0
* running under: macOS Monterey 12.7.1
* using session charset: UTF-8
* using option ‘--no-vignettes’
* checking for file ‘dar/DESCRIPTION’ ... OK
* this is package ‘dar’ version ‘1.0.0’
* package encoding: UTF-8
* checking package namespace information ... OK
* checking package dependencies ... OK
* checking if this is a source package ... OK
* checking if there is a namespace ... OK
* checking for hidden files and directories ... OK
* checking for portable file names ... OK
* checking for sufficient/correct file permissions ... OK
* checking whether package ‘dar’ can be installed ... OK
* checking installed package size ... OK
* checking package directory ... OK
* checking ‘build’ directory ... OK
* checking DESCRIPTION meta-information ... OK
* checking top-level files ... OK
* checking for left-over files ... OK
* checking index information ... OK
* checking package subdirectories ... OK
* checking code files for non-ASCII characters ... OK
* checking R files for syntax errors ... OK
* checking whether the package can be loaded ... OK
* checking whether the package can be loaded with stated dependencies ... OK
* checking whether the package can be unloaded cleanly ... OK
* checking whether the namespace can be loaded with stated dependencies ... OK
* checking whether the namespace can be unloaded cleanly ... OK
* checking dependencies in R code ... OK
* checking S3 generic/method consistency ... OK
* checking replacement functions ... OK
* checking foreign function calls ... OK
* checking R code for possible problems ... OK
* checking Rd files ... OK
* checking Rd metadata ... OK
* checking Rd cross-references ... OK
* checking for missing documentation entries ... OK
* checking for code/documentation mismatches ... OK
* checking Rd \usage sections ... OK
* checking Rd contents ... OK
* checking for unstated dependencies in examples ... OK
* checking contents of ‘data’ directory ... OK
* checking data for non-ASCII characters ... OK
* checking data for ASCII and uncompressed saves ... OK
* checking R/sysdata.rda ... OK
* checking files in ‘vignettes’ ... OK
* checking examples ... OK
Examples with CPU (user + system) or elapsed time > 5s
user system elapsed
step_aldex 17.974 2.858 20.924
step_ancom 17.187 0.960 18.199
step_deseq 7.019 0.108 7.135
step_metagenomeseq 4.107 0.097 11.391
prep 2.289 0.068 41.140
export_steps 1.683 0.212 14.490
import_steps 1.524 0.081 38.194
recipe 0.716 0.024 19.572
* checking for unstated dependencies in ‘tests’ ... OK
* checking tests ...
Running ‘testthat.R’
OK
* checking for unstated dependencies in vignettes ... OK
* checking package vignettes ... OK
* checking running R code from vignettes ... SKIPPED
* checking re-building of vignette outputs ... SKIPPED
* checking PDF version of manual ... OK
* DONE
Status: OK
dar.Rcheck/00install.out
############################################################################## ############################################################################## ### ### Running command: ### ### /Library/Frameworks/R.framework/Resources/bin/R CMD INSTALL dar ### ############################################################################## ############################################################################## * installing to library ‘/Library/Frameworks/R.framework/Versions/4.4-x86_64/Resources/library’ * installing *source* package ‘dar’ ... ** using staged installation ** R ** data ** inst ** byte-compile and prepare package for lazy loading ** help *** installing help indices *** copying figures ** building package indices ** installing vignettes ** testing if installed package can be loaded from temporary location ** testing if installed package can be loaded from final location ** testing if installed package keeps a record of temporary installation path * DONE (dar)
dar.Rcheck/tests/testthat.Rout
R version 4.4.0 (2024-04-24) -- "Puppy Cup"
Copyright (C) 2024 The R Foundation for Statistical Computing
Platform: x86_64-apple-darwin20
R is free software and comes with ABSOLUTELY NO WARRANTY.
You are welcome to redistribute it under certain conditions.
Type 'license()' or 'licence()' for distribution details.
R is a collaborative project with many contributors.
Type 'contributors()' for more information and
'citation()' on how to cite R or R packages in publications.
Type 'demo()' for some demos, 'help()' for on-line help, or
'help.start()' for an HTML browser interface to help.
Type 'q()' to quit R.
> library(testthat)
> library(dar)
>
> test_check("dar")
Starting 2 test processes
[ FAIL 0 | WARN 0 | SKIP 10 | PASS 82 ]
══ Skipped tests (10) ══════════════════════════════════════════════════════════
• On CRAN (10): 'test-roxytest-tests-bake.R:18:3',
'test-roxytest-tests-ancom.R:14:3', 'test-roxytest-tests-lefse.R:15:3',
'test-roxytest-tests-misc.R:73:3', 'test-roxytest-tests-misc.R:101:3',
'test-roxytest-tests-misc.R:108:3', 'test-roxytest-tests-pkg_check.R:6:3',
'test-roxytest-tests-maaslin2.R:16:3',
'test-roxytest-tests-read_data.R:24:3',
'test-roxytest-tests-steps_and_checks.R:7:3'
[ FAIL 0 | WARN 0 | SKIP 10 | PASS 82 ]
>
> proc.time()
user system elapsed
223.117 14.489 365.576
dar.Rcheck/dar-Ex.timings
| name | user | system | elapsed | |
| abundance_plt | 2.540 | 0.113 | 2.662 | |
| add_tax | 0.667 | 0.010 | 0.677 | |
| add_var | 0.186 | 0.007 | 0.194 | |
| bake | 0.612 | 0.011 | 0.624 | |
| contains_rarefaction | 0.281 | 0.018 | 0.303 | |
| cool | 0.351 | 0.008 | 0.359 | |
| corr_heatmap | 3.788 | 0.143 | 3.947 | |
| exclusion_plt | 1.060 | 0.013 | 1.075 | |
| export_steps | 1.683 | 0.212 | 14.490 | |
| find_intersections | 0.196 | 0.003 | 0.199 | |
| get_comparisons | 0.024 | 0.003 | 0.025 | |
| get_phy | 0.018 | 0.002 | 0.020 | |
| get_tax | 0.030 | 0.003 | 0.033 | |
| get_var | 0.029 | 0.003 | 0.033 | |
| import_steps | 1.524 | 0.081 | 38.194 | |
| intersection_df | 0.212 | 0.008 | 0.222 | |
| intersection_plt | 1.687 | 0.014 | 1.704 | |
| mutual_plt | 2.313 | 0.022 | 2.341 | |
| otu_table | 0.430 | 0.002 | 0.433 | |
| overlap_df | 0.237 | 0.006 | 0.243 | |
| phy_qc | 1.391 | 0.023 | 1.415 | |
| prep | 2.289 | 0.068 | 41.140 | |
| rand_id | 0.000 | 0.001 | 0.001 | |
| read_data | 1.746 | 0.378 | 1.869 | |
| recipe | 0.716 | 0.024 | 19.572 | |
| required_deps | 0.064 | 0.009 | 0.073 | |
| sample_data | 0.039 | 0.002 | 0.041 | |
| step_aldex | 17.974 | 2.858 | 20.924 | |
| step_ancom | 17.187 | 0.960 | 18.199 | |
| step_corncob | 2.918 | 0.149 | 3.082 | |
| step_deseq | 7.019 | 0.108 | 7.135 | |
| step_filter_by_abundance | 0.047 | 0.007 | 0.055 | |
| step_filter_by_prevalence | 0.046 | 0.006 | 0.052 | |
| step_filter_by_rarity | 0.046 | 0.006 | 0.052 | |
| step_filter_by_variance | 0.050 | 0.004 | 0.055 | |
| step_filter_taxa | 0.051 | 0.004 | 0.055 | |
| step_lefse | 0.080 | 0.006 | 0.087 | |
| step_maaslin | 3.799 | 0.218 | 4.030 | |
| step_metagenomeseq | 4.107 | 0.097 | 11.391 | |
| step_rarefaction | 0.050 | 0.005 | 0.054 | |
| step_subset_taxa | 0.056 | 0.003 | 0.058 | |
| step_wilcox | 2.105 | 0.028 | 2.139 | |
| steps_ids | 0.023 | 0.004 | 0.027 | |
| tax_table | 0.064 | 0.007 | 0.071 | |
| tidyeval | 0.020 | 0.001 | 0.021 | |
| to_tibble | 0.572 | 0.009 | 0.583 | |
| use_rarefy | 0.016 | 0.006 | 0.023 | |
| zero_otu | 0.434 | 0.005 | 0.439 | |