| Back to Multiple platform build/check report for BioC 3.19: simplified long |
|
This page was generated on 2024-06-11 14:42 -0400 (Tue, 11 Jun 2024).
| Hostname | OS | Arch (*) | R version | Installed pkgs |
|---|---|---|---|---|
| nebbiolo1 | Linux (Ubuntu 22.04.3 LTS) | x86_64 | 4.4.0 (2024-04-24) -- "Puppy Cup" | 4757 |
| palomino3 | Windows Server 2022 Datacenter | x64 | 4.4.0 (2024-04-24 ucrt) -- "Puppy Cup" | 4491 |
| lconway | macOS 12.7.1 Monterey | x86_64 | 4.4.0 (2024-04-24) -- "Puppy Cup" | 4522 |
| kjohnson3 | macOS 13.6.5 Ventura | arm64 | 4.4.0 (2024-04-24) -- "Puppy Cup" | 4468 |
| Click on any hostname to see more info about the system (e.g. compilers) (*) as reported by 'uname -p', except on Windows and Mac OS X | ||||
| Package 385/2300 | Hostname | OS / Arch | INSTALL | BUILD | CHECK | BUILD BIN | ||||||||
| cn.mops 1.50.0 (landing page) Gundula Povysil
| nebbiolo1 | Linux (Ubuntu 22.04.3 LTS) / x86_64 | OK | OK | OK | |||||||||
| palomino3 | Windows Server 2022 Datacenter / x64 | OK | OK | OK | OK | |||||||||
| lconway | macOS 12.7.1 Monterey / x86_64 | OK | OK | OK | OK | |||||||||
| kjohnson3 | macOS 13.6.5 Ventura / arm64 | OK | OK | OK | OK | |||||||||
|
To the developers/maintainers of the cn.mops package: - Allow up to 24 hours (and sometimes 48 hours) for your latest push to git@git.bioconductor.org:packages/cn.mops.git to reflect on this report. See Troubleshooting Build Report for more information. - Use the following Renviron settings to reproduce errors and warnings. - If 'R CMD check' started to fail recently on the Linux builder(s) over a missing dependency, add the missing dependency to 'Suggests:' in your DESCRIPTION file. See Renviron.bioc for more information. |
| Package: cn.mops |
| Version: 1.50.0 |
| Command: /Library/Frameworks/R.framework/Resources/bin/R CMD check --install=check:cn.mops.install-out.txt --library=/Library/Frameworks/R.framework/Resources/library --no-vignettes --timings cn.mops_1.50.0.tar.gz |
| StartedAt: 2024-06-09 19:30:28 -0400 (Sun, 09 Jun 2024) |
| EndedAt: 2024-06-09 19:33:59 -0400 (Sun, 09 Jun 2024) |
| EllapsedTime: 210.9 seconds |
| RetCode: 0 |
| Status: OK |
| CheckDir: cn.mops.Rcheck |
| Warnings: 0 |
##############################################################################
##############################################################################
###
### Running command:
###
### /Library/Frameworks/R.framework/Resources/bin/R CMD check --install=check:cn.mops.install-out.txt --library=/Library/Frameworks/R.framework/Resources/library --no-vignettes --timings cn.mops_1.50.0.tar.gz
###
##############################################################################
##############################################################################
* using log directory ‘/Users/biocbuild/bbs-3.19-bioc/meat/cn.mops.Rcheck’
* using R version 4.4.0 (2024-04-24)
* using platform: x86_64-apple-darwin20
* R was compiled by
Apple clang version 14.0.0 (clang-1400.0.29.202)
GNU Fortran (GCC) 12.2.0
* running under: macOS Monterey 12.7.1
* using session charset: UTF-8
* using option ‘--no-vignettes’
* checking for file ‘cn.mops/DESCRIPTION’ ... OK
* checking extension type ... Package
* this is package ‘cn.mops’ version ‘1.50.0’
* checking package namespace information ... OK
* checking package dependencies ... OK
* checking if this is a source package ... OK
* checking if there is a namespace ... OK
* checking for hidden files and directories ... OK
* checking for portable file names ... OK
* checking for sufficient/correct file permissions ... OK
* checking whether package ‘cn.mops’ can be installed ... OK
* used C compiler: ‘Apple clang version 14.0.0 (clang-1400.0.29.202)’
* used C++ compiler: ‘Apple clang version 14.0.0 (clang-1400.0.29.202)’
* used SDK: ‘MacOSX11.3.sdk’
* checking installed package size ... OK
* checking package directory ... OK
* checking ‘build’ directory ... OK
* checking DESCRIPTION meta-information ... OK
* checking top-level files ... OK
* checking for left-over files ... OK
* checking index information ... OK
* checking package subdirectories ... OK
* checking code files for non-ASCII characters ... OK
* checking R files for syntax errors ... OK
* checking whether the package can be loaded ... OK
* checking whether the package can be loaded with stated dependencies ... OK
* checking whether the package can be unloaded cleanly ... OK
* checking whether the namespace can be loaded with stated dependencies ... OK
* checking whether the namespace can be unloaded cleanly ... OK
* checking whether startup messages can be suppressed ... OK
* checking dependencies in R code ... OK
* checking S3 generic/method consistency ... OK
* checking replacement functions ... OK
* checking foreign function calls ... OK
* checking R code for possible problems ... OK
* checking Rd files ... OK
* checking Rd metadata ... OK
* checking Rd cross-references ... OK
* checking for missing documentation entries ... OK
* checking for code/documentation mismatches ... OK
* checking Rd \usage sections ... OK
* checking Rd contents ... OK
* checking for unstated dependencies in examples ... OK
* checking contents of ‘data’ directory ... OK
* checking data for non-ASCII characters ... OK
* checking data for ASCII and uncompressed saves ... OK
* checking line endings in C/C++/Fortran sources/headers ... OK
* checking compiled code ... NOTE
Note: information on .o files is not available
* checking sizes of PDF files under ‘inst/doc’ ... OK
* checking files in ‘vignettes’ ... OK
* checking examples ... OK
Examples with CPU (user + system) or elapsed time > 5s
user system elapsed
referencecn.mops 7.054 0.054 17.356
cn.mops 6.392 0.177 18.870
calcFractionalCopyNumbers 6.182 0.077 6.518
calcFractionalCopyNumbers-CNVDetectionResult-method 5.708 0.083 5.861
haplocn.mops 1.119 0.032 11.373
getReadCountsFromBAM 0.478 0.018 5.550
getSegmentReadCountsFromBAM 0.269 0.013 5.425
* checking for unstated dependencies in vignettes ... OK
* checking package vignettes ... OK
* checking running R code from vignettes ... SKIPPED
* checking re-building of vignette outputs ... SKIPPED
* checking PDF version of manual ... OK
* DONE
Status: 1 NOTE
See
‘/Users/biocbuild/bbs-3.19-bioc/meat/cn.mops.Rcheck/00check.log’
for details.
cn.mops.Rcheck/00install.out
##############################################################################
##############################################################################
###
### Running command:
###
### /Library/Frameworks/R.framework/Resources/bin/R CMD INSTALL cn.mops
###
##############################################################################
##############################################################################
* installing to library ‘/Library/Frameworks/R.framework/Versions/4.4-x86_64/Resources/library’
* installing *source* package ‘cn.mops’ ...
** using staged installation
** libs
using C compiler: ‘Apple clang version 14.0.0 (clang-1400.0.29.202)’
using C++ compiler: ‘Apple clang version 14.0.0 (clang-1400.0.29.202)’
using SDK: ‘MacOSX11.3.sdk’
clang -arch x86_64 -I"/Library/Frameworks/R.framework/Resources/include" -DNDEBUG -I/opt/R/x86_64/include -fPIC -falign-functions=64 -Wall -g -O2 -c R_init_cnmops.c -o R_init_cnmops.o
clang++ -arch x86_64 -std=gnu++17 -I"/Library/Frameworks/R.framework/Resources/include" -DNDEBUG -I/opt/R/x86_64/include -fPIC -falign-functions=64 -Wall -g -O2 -c cnmops.cpp -o cnmops.o
clang++ -arch x86_64 -std=gnu++17 -I"/Library/Frameworks/R.framework/Resources/include" -DNDEBUG -I/opt/R/x86_64/include -fPIC -falign-functions=64 -Wall -g -O2 -c segment.cpp -o segment.o
segment.cpp:61:31: warning: variable 'maxStatistic' set but not used [-Wunused-but-set-variable]
double newStatistic,meanDiff,maxStatistic,DOF,a,b,eps1;
^
segment.cpp:59:20: warning: variable 'globalSd' set but not used [-Wunused-but-set-variable]
double globalMean,globalSd,diff,M2,globalVariance;
^
segment.cpp:64:9: warning: unused variable 'Rf_beta' [-Wunused-variable]
double beta,nn;
^
/Library/Frameworks/R.framework/Resources/include/Rmath.h:210:15: note: expanded from macro 'beta'
#define beta Rf_beta
^
segment.cpp:60:9: warning: variable 'oldStatistic' set but not used [-Wunused-but-set-variable]
double oldStatistic, meanLeft,meanRight,varLeft,varRight;
^
segment.cpp:62:40: warning: variable 'maxIdx' set but not used [-Wunused-but-set-variable]
double newPValue, maxPValue,oldPValue,maxIdx;
^
5 warnings generated.
clang++ -arch x86_64 -std=gnu++17 -dynamiclib -Wl,-headerpad_max_install_names -undefined dynamic_lookup -L/Library/Frameworks/R.framework/Resources/lib -L/opt/R/x86_64/lib -o cn.mops.so R_init_cnmops.o cnmops.o segment.o -F/Library/Frameworks/R.framework/.. -framework R -Wl,-framework -Wl,CoreFoundation
installing to /Library/Frameworks/R.framework/Versions/4.4-x86_64/Resources/library/00LOCK-cn.mops/00new/cn.mops/libs
** R
** data
** inst
** byte-compile and prepare package for lazy loading
** help
*** installing help indices
** building package indices
** installing vignettes
** testing if installed package can be loaded from temporary location
** checking absolute paths in shared objects and dynamic libraries
** testing if installed package can be loaded from final location
** testing if installed package keeps a record of temporary installation path
* DONE (cn.mops)
cn.mops.Rcheck/cn.mops-Ex.timings
| name | user | system | elapsed | |
| CNVDetectionResult | 0.001 | 0.001 | 0.002 | |
| calcFractionalCopyNumbers-CNVDetectionResult-method | 5.708 | 0.083 | 5.861 | |
| calcFractionalCopyNumbers | 6.182 | 0.077 | 6.518 | |
| calcIntegerCopyNumbers-CNVDetectionResult-method | 0.524 | 0.008 | 0.535 | |
| calcIntegerCopyNumbers | 0.471 | 0.008 | 0.485 | |
| cn.mops | 6.392 | 0.177 | 18.870 | |
| cnvr-CNVDetectionResult-method | 0.225 | 0.007 | 0.233 | |
| cnvr | 0.538 | 0.015 | 0.553 | |
| cnvs-CNVDetectionResult-method | 0.209 | 0.006 | 0.216 | |
| cnvs | 0.201 | 0.003 | 0.204 | |
| exomecn.mops | 2.397 | 0.022 | 2.443 | |
| getReadCountsFromBAM | 0.478 | 0.018 | 5.550 | |
| getSegmentReadCountsFromBAM | 0.269 | 0.013 | 5.425 | |
| gr-CNVDetectionResult-method | 0.225 | 0.003 | 0.229 | |
| gr | 0.215 | 0.004 | 0.220 | |
| haplocn.mops | 1.119 | 0.032 | 11.373 | |
| individualCall-CNVDetectionResult-method | 0.201 | 0.003 | 0.205 | |
| individualCall | 0.226 | 0.004 | 0.233 | |
| iniCall-CNVDetectionResult-method | 0.261 | 0.003 | 0.266 | |
| iniCall | 0.217 | 0.003 | 0.222 | |
| integerCopyNumber-CNVDetectionResult-method | 0.231 | 0.003 | 0.236 | |
| integerCopyNumber | 0.225 | 0.003 | 0.231 | |
| localAssessments-CNVDetectionResult-method | 0.283 | 0.008 | 0.296 | |
| localAssessments | 0.250 | 0.004 | 0.257 | |
| makeRobustCNVR | 0.631 | 0.009 | 0.640 | |
| normalizeChromosomes | 0.154 | 0.010 | 0.165 | |
| normalizeGenome | 0.158 | 0.013 | 0.171 | |
| normalizedData-CNVDetectionResult-method | 0.252 | 0.005 | 0.258 | |
| normalizedData | 0.223 | 0.008 | 0.232 | |
| params-CNVDetectionResult-method | 0.222 | 0.014 | 0.239 | |
| params | 0.215 | 0.013 | 0.230 | |
| posteriorProbs-CNVDetectionResult-method | 0.232 | 0.005 | 0.239 | |
| posteriorProbs | 0.230 | 0.003 | 0.234 | |
| referencecn.mops | 7.054 | 0.054 | 17.356 | |
| sampleNames-CNVDetectionResult-method | 0.248 | 0.003 | 0.252 | |
| sampleNames | 0.234 | 0.006 | 0.240 | |
| segment | 0.023 | 0.001 | 0.023 | |
| segmentation-CNVDetectionResult-method | 0.213 | 0.005 | 0.219 | |
| segmentation | 0.224 | 0.004 | 0.230 | |
| segplot-CNVDetectionResult-method | 0.969 | 0.011 | 0.984 | |
| segplot | 0.975 | 0.007 | 0.989 | |
| singlecn.mops | 0.663 | 0.006 | 0.674 | |