| Back to Multiple platform build/check report for BioC 3.19: simplified long | 
 | 
This page was generated on 2024-10-18 20:38 -0400 (Fri, 18 Oct 2024).
| Hostname | OS | Arch (*) | R version | Installed pkgs | 
|---|---|---|---|---|
| nebbiolo1 | Linux (Ubuntu 22.04.3 LTS) | x86_64 | 4.4.1 (2024-06-14) -- "Race for Your Life" | 4763 | 
| palomino7 | Windows Server 2022 Datacenter | x64 | 4.4.1 (2024-06-14 ucrt) -- "Race for Your Life" | 4500 | 
| merida1 | macOS 12.7.5 Monterey | x86_64 | 4.4.1 (2024-06-14) -- "Race for Your Life" | 4530 | 
| kjohnson1 | macOS 13.6.6 Ventura | arm64 | 4.4.1 (2024-06-14) -- "Race for Your Life" | 4480 | 
| Click on any hostname to see more info about the system (e.g. compilers) (*) as reported by 'uname -p', except on Windows and Mac OS X | ||||
| Package 385/2300 | Hostname | OS / Arch | INSTALL | BUILD | CHECK | BUILD BIN | ||||||||
| cn.mops 1.50.0  (landing page) Gundula Povysil 
 | nebbiolo1 | Linux (Ubuntu 22.04.3 LTS) / x86_64 | OK | OK | OK |  | ||||||||
| palomino7 | Windows Server 2022 Datacenter / x64 | OK | OK | OK | OK |  | ||||||||
| merida1 | macOS 12.7.5 Monterey / x86_64 | OK | OK | OK | OK |  | ||||||||
| kjohnson1 | macOS 13.6.6 Ventura / arm64 | OK | OK | OK | OK |  | ||||||||
| To the developers/maintainers of the cn.mops package: - Allow up to 24 hours (and sometimes 48 hours) for your latest push to git@git.bioconductor.org:packages/cn.mops.git to reflect on this report. See Troubleshooting Build Report for more information. - Use the following Renviron settings to reproduce errors and warnings. - If 'R CMD check' started to fail recently on the Linux builder(s) over a missing dependency, add the missing dependency to 'Suggests:' in your DESCRIPTION file. See Renviron.bioc for more information. | 
| Package: cn.mops | 
| Version: 1.50.0 | 
| Command: /home/biocbuild/bbs-3.19-bioc/R/bin/R CMD check --install=check:cn.mops.install-out.txt --library=/home/biocbuild/bbs-3.19-bioc/R/site-library --timings cn.mops_1.50.0.tar.gz | 
| StartedAt: 2024-10-16 22:54:38 -0400 (Wed, 16 Oct 2024) | 
| EndedAt: 2024-10-16 22:57:52 -0400 (Wed, 16 Oct 2024) | 
| EllapsedTime: 193.5 seconds | 
| RetCode: 0 | 
| Status: OK | 
| CheckDir: cn.mops.Rcheck | 
| Warnings: 0 | 
##############################################################################
##############################################################################
###
### Running command:
###
###   /home/biocbuild/bbs-3.19-bioc/R/bin/R CMD check --install=check:cn.mops.install-out.txt --library=/home/biocbuild/bbs-3.19-bioc/R/site-library --timings cn.mops_1.50.0.tar.gz
###
##############################################################################
##############################################################################
* using log directory ‘/home/biocbuild/bbs-3.19-bioc/meat/cn.mops.Rcheck’
* using R version 4.4.1 (2024-06-14)
* using platform: x86_64-pc-linux-gnu
* R was compiled by
    gcc (Ubuntu 11.4.0-1ubuntu1~22.04) 11.4.0
    GNU Fortran (Ubuntu 11.4.0-1ubuntu1~22.04) 11.4.0
* running under: Ubuntu 22.04.5 LTS
* using session charset: UTF-8
* checking for file ‘cn.mops/DESCRIPTION’ ... OK
* checking extension type ... Package
* this is package ‘cn.mops’ version ‘1.50.0’
* checking package namespace information ... OK
* checking package dependencies ... OK
* checking if this is a source package ... OK
* checking if there is a namespace ... OK
* checking for hidden files and directories ... OK
* checking for portable file names ... OK
* checking for sufficient/correct file permissions ... OK
* checking whether package ‘cn.mops’ can be installed ... OK
* used C compiler: ‘gcc (Ubuntu 11.4.0-1ubuntu1~22.04) 11.4.0’
* used C++ compiler: ‘g++ (Ubuntu 11.4.0-1ubuntu1~22.04) 11.4.0’
* checking installed package size ... OK
* checking package directory ... OK
* checking ‘build’ directory ... OK
* checking DESCRIPTION meta-information ... OK
* checking top-level files ... OK
* checking for left-over files ... OK
* checking index information ... OK
* checking package subdirectories ... OK
* checking code files for non-ASCII characters ... OK
* checking R files for syntax errors ... OK
* checking whether the package can be loaded ... OK
* checking whether the package can be loaded with stated dependencies ... OK
* checking whether the package can be unloaded cleanly ... OK
* checking whether the namespace can be loaded with stated dependencies ... OK
* checking whether the namespace can be unloaded cleanly ... OK
* checking loading without being on the library search path ... OK
* checking whether startup messages can be suppressed ... OK
* checking dependencies in R code ... OK
* checking S3 generic/method consistency ... OK
* checking replacement functions ... OK
* checking foreign function calls ... OK
* checking R code for possible problems ... OK
* checking Rd files ... OK
* checking Rd metadata ... OK
* checking Rd cross-references ... OK
* checking for missing documentation entries ... OK
* checking for code/documentation mismatches ... OK
* checking Rd \usage sections ... OK
* checking Rd contents ... OK
* checking for unstated dependencies in examples ... OK
* checking contents of ‘data’ directory ... OK
* checking data for non-ASCII characters ... OK
* checking data for ASCII and uncompressed saves ... OK
* checking line endings in C/C++/Fortran sources/headers ... OK
* checking compiled code ... NOTE
Note: information on .o files is not available
* checking files in ‘vignettes’ ... OK
* checking examples ... OK
Examples with CPU (user + system) or elapsed time > 5s
                                                     user system elapsed
referencecn.mops                                    6.884  0.057  15.471
cn.mops                                             5.537  0.065  15.938
calcFractionalCopyNumbers-CNVDetectionResult-method 5.232  0.024   5.256
calcFractionalCopyNumbers                           5.036  0.028   5.064
haplocn.mops                                        1.032  0.085   9.826
* checking for unstated dependencies in vignettes ... OK
* checking package vignettes ... OK
* checking re-building of vignette outputs ... OK
* checking PDF version of manual ... OK
* DONE
Status: 1 NOTE
See
  ‘/home/biocbuild/bbs-3.19-bioc/meat/cn.mops.Rcheck/00check.log’
for details.
cn.mops.Rcheck/00install.out
##############################################################################
##############################################################################
###
### Running command:
###
###   /home/biocbuild/bbs-3.19-bioc/R/bin/R CMD INSTALL cn.mops
###
##############################################################################
##############################################################################
* installing to library ‘/home/biocbuild/bbs-3.19-bioc/R/site-library’
* installing *source* package ‘cn.mops’ ...
** using staged installation
** libs
using C compiler: ‘gcc (Ubuntu 11.4.0-1ubuntu1~22.04) 11.4.0’
using C++ compiler: ‘g++ (Ubuntu 11.4.0-1ubuntu1~22.04) 11.4.0’
gcc -I"/home/biocbuild/bbs-3.19-bioc/R/include" -DNDEBUG   -I/usr/local/include    -fpic  -g -O2  -Wall -c R_init_cnmops.c -o R_init_cnmops.o
g++ -std=gnu++17 -I"/home/biocbuild/bbs-3.19-bioc/R/include" -DNDEBUG   -I/usr/local/include    -fpic  -g -O2  -Wall  -c cnmops.cpp -o cnmops.o
g++ -std=gnu++17 -I"/home/biocbuild/bbs-3.19-bioc/R/include" -DNDEBUG   -I/usr/local/include    -fpic  -g -O2  -Wall  -c segment.cpp -o segment.o
segment.cpp: In function ‘SEXPREC* segment(SEXP, SEXP, SEXP, SEXP, SEXP, SEXP)’:
segment.cpp:59:27: warning: variable ‘globalSd’ set but not used [-Wunused-but-set-variable]
   59 |         double globalMean,globalSd,diff,M2,globalVariance;
      |                           ^~~~~~~~
segment.cpp:60:16: warning: variable ‘oldStatistic’ set but not used [-Wunused-but-set-variable]
   60 |         double oldStatistic, meanLeft,meanRight,varLeft,varRight;
      |                ^~~~~~~~~~~~
segment.cpp:61:38: warning: variable ‘maxStatistic’ set but not used [-Wunused-but-set-variable]
   61 |         double newStatistic,meanDiff,maxStatistic,DOF,a,b,eps1;
      |                                      ^~~~~~~~~~~~
segment.cpp:62:47: warning: variable ‘maxIdx’ set but not used [-Wunused-but-set-variable]
   62 |         double newPValue, maxPValue,oldPValue,maxIdx;
      |                                               ^~~~~~
In file included from segment.cpp:10:
/home/biocbuild/bbs-3.19-bioc/R/include/Rmath.h:210:25: warning: unused variable ‘Rf_beta’ [-Wunused-variable]
  210 | #define beta            Rf_beta
      |                         ^~~~~~~
segment.cpp:64:16: note: in expansion of macro ‘beta’
   64 |         double beta,nn;
      |                ^~~~
g++ -std=gnu++17 -shared -L/home/biocbuild/bbs-3.19-bioc/R/lib -L/usr/local/lib -o cn.mops.so R_init_cnmops.o cnmops.o segment.o -L/home/biocbuild/bbs-3.19-bioc/R/lib -lR
installing to /home/biocbuild/bbs-3.19-bioc/R/site-library/00LOCK-cn.mops/00new/cn.mops/libs
** R
** data
** inst
** byte-compile and prepare package for lazy loading
** help
*** installing help indices
** building package indices
** installing vignettes
** testing if installed package can be loaded from temporary location
** checking absolute paths in shared objects and dynamic libraries
** testing if installed package can be loaded from final location
** testing if installed package keeps a record of temporary installation path
* DONE (cn.mops)
cn.mops.Rcheck/cn.mops-Ex.timings
| name | user | system | elapsed | |
| CNVDetectionResult | 0.001 | 0.000 | 0.002 | |
| calcFractionalCopyNumbers-CNVDetectionResult-method | 5.232 | 0.024 | 5.256 | |
| calcFractionalCopyNumbers | 5.036 | 0.028 | 5.064 | |
| calcIntegerCopyNumbers-CNVDetectionResult-method | 0.392 | 0.004 | 0.395 | |
| calcIntegerCopyNumbers | 0.378 | 0.000 | 0.378 | |
| cn.mops | 5.537 | 0.065 | 15.938 | |
| cnvr-CNVDetectionResult-method | 0.204 | 0.008 | 0.212 | |
| cnvr | 0.19 | 0.00 | 0.19 | |
| cnvs-CNVDetectionResult-method | 0.188 | 0.000 | 0.188 | |
| cnvs | 0.180 | 0.000 | 0.181 | |
| exomecn.mops | 2.033 | 0.023 | 2.056 | |
| getReadCountsFromBAM | 0.358 | 0.005 | 4.707 | |
| getSegmentReadCountsFromBAM | 0.237 | 0.004 | 4.860 | |
| gr-CNVDetectionResult-method | 0.246 | 0.057 | 0.302 | |
| gr | 0.216 | 0.051 | 0.268 | |
| haplocn.mops | 1.032 | 0.085 | 9.826 | |
| individualCall-CNVDetectionResult-method | 0.226 | 0.008 | 0.234 | |
| individualCall | 0.218 | 0.003 | 0.222 | |
| iniCall-CNVDetectionResult-method | 0.204 | 0.008 | 0.212 | |
| iniCall | 0.233 | 0.020 | 0.252 | |
| integerCopyNumber-CNVDetectionResult-method | 0.210 | 0.004 | 0.214 | |
| integerCopyNumber | 0.191 | 0.012 | 0.203 | |
| localAssessments-CNVDetectionResult-method | 0.209 | 0.011 | 0.222 | |
| localAssessments | 0.192 | 0.008 | 0.200 | |
| makeRobustCNVR | 0.345 | 0.012 | 0.357 | |
| normalizeChromosomes | 0.121 | 0.039 | 0.161 | |
| normalizeGenome | 0.501 | 0.168 | 0.669 | |
| normalizedData-CNVDetectionResult-method | 0.198 | 0.004 | 0.202 | |
| normalizedData | 0.210 | 0.003 | 0.214 | |
| params-CNVDetectionResult-method | 0.188 | 0.024 | 0.212 | |
| params | 0.184 | 0.014 | 0.198 | |
| posteriorProbs-CNVDetectionResult-method | 0.197 | 0.006 | 0.202 | |
| posteriorProbs | 0.196 | 0.000 | 0.196 | |
| referencecn.mops | 6.884 | 0.057 | 15.471 | |
| sampleNames-CNVDetectionResult-method | 0.219 | 0.024 | 0.243 | |
| sampleNames | 0.191 | 0.020 | 0.211 | |
| segment | 0.018 | 0.000 | 0.018 | |
| segmentation-CNVDetectionResult-method | 0.198 | 0.004 | 0.201 | |
| segmentation | 0.201 | 0.004 | 0.204 | |
| segplot-CNVDetectionResult-method | 0.842 | 0.004 | 0.846 | |
| segplot | 0.826 | 0.000 | 0.826 | |
| singlecn.mops | 0.605 | 0.004 | 0.608 | |