| Back to Multiple platform build/check report for BioC 3.19: simplified long |
|
This page was generated on 2024-10-18 20:41 -0400 (Fri, 18 Oct 2024).
| Hostname | OS | Arch (*) | R version | Installed pkgs |
|---|---|---|---|---|
| nebbiolo1 | Linux (Ubuntu 22.04.3 LTS) | x86_64 | 4.4.1 (2024-06-14) -- "Race for Your Life" | 4763 |
| palomino7 | Windows Server 2022 Datacenter | x64 | 4.4.1 (2024-06-14 ucrt) -- "Race for Your Life" | 4500 |
| merida1 | macOS 12.7.5 Monterey | x86_64 | 4.4.1 (2024-06-14) -- "Race for Your Life" | 4530 |
| kjohnson1 | macOS 13.6.6 Ventura | arm64 | 4.4.1 (2024-06-14) -- "Race for Your Life" | 4480 |
| Click on any hostname to see more info about the system (e.g. compilers) (*) as reported by 'uname -p', except on Windows and Mac OS X | ||||
| Package 385/2300 | Hostname | OS / Arch | INSTALL | BUILD | CHECK | BUILD BIN | ||||||||
| cn.mops 1.50.0 (landing page) Gundula Povysil
| nebbiolo1 | Linux (Ubuntu 22.04.3 LTS) / x86_64 | OK | OK | OK | |||||||||
| palomino7 | Windows Server 2022 Datacenter / x64 | OK | OK | OK | OK | |||||||||
| merida1 | macOS 12.7.5 Monterey / x86_64 | OK | OK | OK | OK | |||||||||
| kjohnson1 | macOS 13.6.6 Ventura / arm64 | OK | OK | OK | OK | |||||||||
|
To the developers/maintainers of the cn.mops package: - Allow up to 24 hours (and sometimes 48 hours) for your latest push to git@git.bioconductor.org:packages/cn.mops.git to reflect on this report. See Troubleshooting Build Report for more information. - Use the following Renviron settings to reproduce errors and warnings. - If 'R CMD check' started to fail recently on the Linux builder(s) over a missing dependency, add the missing dependency to 'Suggests:' in your DESCRIPTION file. See Renviron.bioc for more information. |
| Package: cn.mops |
| Version: 1.50.0 |
| Command: /Library/Frameworks/R.framework/Resources/bin/R CMD check --install=check:cn.mops.install-out.txt --library=/Library/Frameworks/R.framework/Resources/library --no-vignettes --timings cn.mops_1.50.0.tar.gz |
| StartedAt: 2024-10-17 16:38:38 -0400 (Thu, 17 Oct 2024) |
| EndedAt: 2024-10-17 16:42:36 -0400 (Thu, 17 Oct 2024) |
| EllapsedTime: 237.7 seconds |
| RetCode: 0 |
| Status: OK |
| CheckDir: cn.mops.Rcheck |
| Warnings: 0 |
##############################################################################
##############################################################################
###
### Running command:
###
### /Library/Frameworks/R.framework/Resources/bin/R CMD check --install=check:cn.mops.install-out.txt --library=/Library/Frameworks/R.framework/Resources/library --no-vignettes --timings cn.mops_1.50.0.tar.gz
###
##############################################################################
##############################################################################
* using log directory ‘/Users/biocbuild/bbs-3.19-bioc/meat/cn.mops.Rcheck’
* using R version 4.4.1 (2024-06-14)
* using platform: aarch64-apple-darwin20
* R was compiled by
Apple clang version 14.0.0 (clang-1400.0.29.202)
GNU Fortran (GCC) 12.2.0
* running under: macOS Ventura 13.6.6
* using session charset: UTF-8
* using option ‘--no-vignettes’
* checking for file ‘cn.mops/DESCRIPTION’ ... OK
* checking extension type ... Package
* this is package ‘cn.mops’ version ‘1.50.0’
* checking package namespace information ... OK
* checking package dependencies ... OK
* checking if this is a source package ... OK
* checking if there is a namespace ... OK
* checking for hidden files and directories ... OK
* checking for portable file names ... OK
* checking for sufficient/correct file permissions ... OK
* checking whether package ‘cn.mops’ can be installed ... OK
* used C compiler: ‘Apple clang version 15.0.0 (clang-1500.0.40.1)’
* used C++ compiler: ‘Apple clang version 15.0.0 (clang-1500.0.40.1)’
* used SDK: ‘MacOSX11.3.sdk’
* checking installed package size ... OK
* checking package directory ... OK
* checking ‘build’ directory ... OK
* checking DESCRIPTION meta-information ... OK
* checking top-level files ... OK
* checking for left-over files ... OK
* checking index information ... OK
* checking package subdirectories ... OK
* checking code files for non-ASCII characters ... OK
* checking R files for syntax errors ... OK
* checking whether the package can be loaded ... OK
* checking whether the package can be loaded with stated dependencies ... OK
* checking whether the package can be unloaded cleanly ... OK
* checking whether the namespace can be loaded with stated dependencies ... OK
* checking whether the namespace can be unloaded cleanly ... OK
* checking whether startup messages can be suppressed ... OK
* checking dependencies in R code ... OK
* checking S3 generic/method consistency ... OK
* checking replacement functions ... OK
* checking foreign function calls ... OK
* checking R code for possible problems ... OK
* checking Rd files ... OK
* checking Rd metadata ... OK
* checking Rd cross-references ... OK
* checking for missing documentation entries ... OK
* checking for code/documentation mismatches ... OK
* checking Rd \usage sections ... OK
* checking Rd contents ... OK
* checking for unstated dependencies in examples ... OK
* checking contents of ‘data’ directory ... OK
* checking data for non-ASCII characters ... OK
* checking data for ASCII and uncompressed saves ... OK
* checking line endings in C/C++/Fortran sources/headers ... OK
* checking compiled code ... NOTE
Note: information on .o files is not available
* checking sizes of PDF files under ‘inst/doc’ ... OK
* checking files in ‘vignettes’ ... OK
* checking examples ... OK
Examples with CPU (user + system) or elapsed time > 5s
user system elapsed
referencecn.mops 8.344 0.080 21.163
calcFractionalCopyNumbers-CNVDetectionResult-method 6.290 0.072 6.901
calcFractionalCopyNumbers 6.031 0.048 6.304
cn.mops 5.776 0.184 20.992
haplocn.mops 1.145 0.051 14.214
getReadCountsFromBAM 0.488 0.035 6.948
getSegmentReadCountsFromBAM 0.306 0.021 6.703
* checking for unstated dependencies in vignettes ... OK
* checking package vignettes ... OK
* checking running R code from vignettes ... SKIPPED
* checking re-building of vignette outputs ... SKIPPED
* checking PDF version of manual ... OK
* DONE
Status: 1 NOTE
See
‘/Users/biocbuild/bbs-3.19-bioc/meat/cn.mops.Rcheck/00check.log’
for details.
cn.mops.Rcheck/00install.out
##############################################################################
##############################################################################
###
### Running command:
###
### /Library/Frameworks/R.framework/Resources/bin/R CMD INSTALL cn.mops
###
##############################################################################
##############################################################################
* installing to library ‘/Library/Frameworks/R.framework/Versions/4.4-arm64/Resources/library’
* installing *source* package ‘cn.mops’ ...
** using staged installation
** libs
using C compiler: ‘Apple clang version 15.0.0 (clang-1500.0.40.1)’
using C++ compiler: ‘Apple clang version 15.0.0 (clang-1500.0.40.1)’
using SDK: ‘MacOSX11.3.sdk’
clang -arch arm64 -I"/Library/Frameworks/R.framework/Resources/include" -DNDEBUG -I/opt/R/arm64/include -fPIC -falign-functions=64 -Wall -g -O2 -c R_init_cnmops.c -o R_init_cnmops.o
clang++ -arch arm64 -std=gnu++17 -I"/Library/Frameworks/R.framework/Resources/include" -DNDEBUG -I/opt/R/arm64/include -fPIC -falign-functions=64 -Wall -g -O2 -c cnmops.cpp -o cnmops.o
clang++ -arch arm64 -std=gnu++17 -I"/Library/Frameworks/R.framework/Resources/include" -DNDEBUG -I/opt/R/arm64/include -fPIC -falign-functions=64 -Wall -g -O2 -c segment.cpp -o segment.o
segment.cpp:59:20: warning: variable 'globalSd' set but not used [-Wunused-but-set-variable]
double globalMean,globalSd,diff,M2,globalVariance;
^
segment.cpp:60:9: warning: variable 'oldStatistic' set but not used [-Wunused-but-set-variable]
double oldStatistic, meanLeft,meanRight,varLeft,varRight;
^
segment.cpp:61:31: warning: variable 'maxStatistic' set but not used [-Wunused-but-set-variable]
double newStatistic,meanDiff,maxStatistic,DOF,a,b,eps1;
^
segment.cpp:62:40: warning: variable 'maxIdx' set but not used [-Wunused-but-set-variable]
double newPValue, maxPValue,oldPValue,maxIdx;
^
segment.cpp:64:9: warning: unused variable 'Rf_beta' [-Wunused-variable]
double beta,nn;
^
/Library/Frameworks/R.framework/Resources/include/Rmath.h:210:15: note: expanded from macro 'beta'
#define beta Rf_beta
^
5 warnings generated.
clang++ -arch arm64 -std=gnu++17 -dynamiclib -Wl,-headerpad_max_install_names -undefined dynamic_lookup -L/Library/Frameworks/R.framework/Resources/lib -L/opt/R/arm64/lib -o cn.mops.so R_init_cnmops.o cnmops.o segment.o -F/Library/Frameworks/R.framework/.. -framework R -Wl,-framework -Wl,CoreFoundation
installing to /Library/Frameworks/R.framework/Versions/4.4-arm64/Resources/library/00LOCK-cn.mops/00new/cn.mops/libs
** R
** data
** inst
** byte-compile and prepare package for lazy loading
** help
*** installing help indices
** building package indices
** installing vignettes
** testing if installed package can be loaded from temporary location
** checking absolute paths in shared objects and dynamic libraries
** testing if installed package can be loaded from final location
** testing if installed package keeps a record of temporary installation path
* DONE (cn.mops)
cn.mops.Rcheck/cn.mops-Ex.timings
| name | user | system | elapsed | |
| CNVDetectionResult | 0.001 | 0.001 | 0.002 | |
| calcFractionalCopyNumbers-CNVDetectionResult-method | 6.290 | 0.072 | 6.901 | |
| calcFractionalCopyNumbers | 6.031 | 0.048 | 6.304 | |
| calcIntegerCopyNumbers-CNVDetectionResult-method | 0.442 | 0.007 | 0.456 | |
| calcIntegerCopyNumbers | 0.469 | 0.008 | 0.488 | |
| cn.mops | 5.776 | 0.184 | 20.992 | |
| cnvr-CNVDetectionResult-method | 0.236 | 0.009 | 0.266 | |
| cnvr | 0.699 | 0.015 | 0.783 | |
| cnvs-CNVDetectionResult-method | 0.241 | 0.007 | 0.282 | |
| cnvs | 0.234 | 0.005 | 0.262 | |
| exomecn.mops | 2.358 | 0.041 | 2.518 | |
| getReadCountsFromBAM | 0.488 | 0.035 | 6.948 | |
| getSegmentReadCountsFromBAM | 0.306 | 0.021 | 6.703 | |
| gr-CNVDetectionResult-method | 0.240 | 0.006 | 0.270 | |
| gr | 0.249 | 0.005 | 0.264 | |
| haplocn.mops | 1.145 | 0.051 | 14.214 | |
| individualCall-CNVDetectionResult-method | 0.250 | 0.005 | 0.271 | |
| individualCall | 0.242 | 0.006 | 0.268 | |
| iniCall-CNVDetectionResult-method | 0.251 | 0.005 | 0.284 | |
| iniCall | 0.247 | 0.006 | 0.278 | |
| integerCopyNumber-CNVDetectionResult-method | 0.251 | 0.006 | 0.276 | |
| integerCopyNumber | 0.253 | 0.005 | 0.277 | |
| localAssessments-CNVDetectionResult-method | 0.296 | 0.013 | 0.326 | |
| localAssessments | 0.248 | 0.010 | 0.270 | |
| makeRobustCNVR | 0.417 | 0.006 | 0.440 | |
| normalizeChromosomes | 0.169 | 0.011 | 0.185 | |
| normalizeGenome | 0.185 | 0.018 | 0.211 | |
| normalizedData-CNVDetectionResult-method | 0.251 | 0.006 | 0.269 | |
| normalizedData | 0.261 | 0.008 | 0.288 | |
| params-CNVDetectionResult-method | 0.250 | 0.016 | 0.273 | |
| params | 0.234 | 0.015 | 0.259 | |
| posteriorProbs-CNVDetectionResult-method | 0.245 | 0.006 | 0.275 | |
| posteriorProbs | 0.228 | 0.005 | 0.241 | |
| referencecn.mops | 8.344 | 0.080 | 21.163 | |
| sampleNames-CNVDetectionResult-method | 0.252 | 0.008 | 0.298 | |
| sampleNames | 0.223 | 0.005 | 0.250 | |
| segment | 0.022 | 0.000 | 0.025 | |
| segmentation-CNVDetectionResult-method | 0.248 | 0.006 | 0.289 | |
| segmentation | 0.233 | 0.006 | 0.263 | |
| segplot-CNVDetectionResult-method | 1.404 | 0.021 | 1.600 | |
| segplot | 0.984 | 0.014 | 1.163 | |
| singlecn.mops | 0.710 | 0.011 | 0.802 | |