| Back to Multiple platform build/check report for BioC 3.19: simplified long | 
 | 
This page was generated on 2024-06-11 14:43 -0400 (Tue, 11 Jun 2024).
| Hostname | OS | Arch (*) | R version | Installed pkgs | 
|---|---|---|---|---|
| nebbiolo1 | Linux (Ubuntu 22.04.3 LTS) | x86_64 | 4.4.0 (2024-04-24) -- "Puppy Cup" | 4757 | 
| palomino3 | Windows Server 2022 Datacenter | x64 | 4.4.0 (2024-04-24 ucrt) -- "Puppy Cup" | 4491 | 
| lconway | macOS 12.7.1 Monterey | x86_64 | 4.4.0 (2024-04-24) -- "Puppy Cup" | 4522 | 
| kjohnson3 | macOS 13.6.5 Ventura | arm64 | 4.4.0 (2024-04-24) -- "Puppy Cup" | 4468 | 
| Click on any hostname to see more info about the system (e.g. compilers) (*) as reported by 'uname -p', except on Windows and Mac OS X | ||||
| Package 385/2300 | Hostname | OS / Arch | INSTALL | BUILD | CHECK | BUILD BIN | ||||||||
| cn.mops 1.50.0  (landing page) Gundula Povysil 
 | nebbiolo1 | Linux (Ubuntu 22.04.3 LTS) / x86_64 | OK | OK | OK |  | ||||||||
| palomino3 | Windows Server 2022 Datacenter / x64 | OK | OK | OK | OK |  | ||||||||
| lconway | macOS 12.7.1 Monterey / x86_64 | OK | OK | OK | OK |  | ||||||||
| kjohnson3 | macOS 13.6.5 Ventura / arm64 | OK | OK | OK | OK |  | ||||||||
| To the developers/maintainers of the cn.mops package: - Allow up to 24 hours (and sometimes 48 hours) for your latest push to git@git.bioconductor.org:packages/cn.mops.git to reflect on this report. See Troubleshooting Build Report for more information. - Use the following Renviron settings to reproduce errors and warnings. - If 'R CMD check' started to fail recently on the Linux builder(s) over a missing dependency, add the missing dependency to 'Suggests:' in your DESCRIPTION file. See Renviron.bioc for more information. | 
| Package: cn.mops | 
| Version: 1.50.0 | 
| Command: /Library/Frameworks/R.framework/Resources/bin/R CMD check --install=check:cn.mops.install-out.txt --library=/Library/Frameworks/R.framework/Resources/library --no-vignettes --timings cn.mops_1.50.0.tar.gz | 
| StartedAt: 2024-06-10 11:03:06 -0400 (Mon, 10 Jun 2024) | 
| EndedAt: 2024-06-10 11:09:08 -0400 (Mon, 10 Jun 2024) | 
| EllapsedTime: 362.1 seconds | 
| RetCode: 0 | 
| Status: OK | 
| CheckDir: cn.mops.Rcheck | 
| Warnings: 0 | 
##############################################################################
##############################################################################
###
### Running command:
###
###   /Library/Frameworks/R.framework/Resources/bin/R CMD check --install=check:cn.mops.install-out.txt --library=/Library/Frameworks/R.framework/Resources/library --no-vignettes --timings cn.mops_1.50.0.tar.gz
###
##############################################################################
##############################################################################
* using log directory ‘/Users/biocbuild/bbs-3.19-bioc/meat/cn.mops.Rcheck’
* using R version 4.4.0 (2024-04-24)
* using platform: aarch64-apple-darwin20
* R was compiled by
    Apple clang version 14.0.0 (clang-1400.0.29.202)
    GNU Fortran (GCC) 12.2.0
* running under: macOS Ventura 13.6.5
* using session charset: UTF-8
* using option ‘--no-vignettes’
* checking for file ‘cn.mops/DESCRIPTION’ ... OK
* checking extension type ... Package
* this is package ‘cn.mops’ version ‘1.50.0’
* checking package namespace information ... OK
* checking package dependencies ... OK
* checking if this is a source package ... OK
* checking if there is a namespace ... OK
* checking for hidden files and directories ... OK
* checking for portable file names ... OK
* checking for sufficient/correct file permissions ... OK
* checking whether package ‘cn.mops’ can be installed ... OK
* used C compiler: ‘Apple clang version 15.0.0 (clang-1500.1.0.2.5)’
* used C++ compiler: ‘Apple clang version 15.0.0 (clang-1500.1.0.2.5)’
* used SDK: ‘MacOSX11.3.sdk’
* checking installed package size ... OK
* checking package directory ... OK
* checking ‘build’ directory ... OK
* checking DESCRIPTION meta-information ... OK
* checking top-level files ... OK
* checking for left-over files ... OK
* checking index information ... OK
* checking package subdirectories ... OK
* checking code files for non-ASCII characters ... OK
* checking R files for syntax errors ... OK
* checking whether the package can be loaded ... OK
* checking whether the package can be loaded with stated dependencies ... OK
* checking whether the package can be unloaded cleanly ... OK
* checking whether the namespace can be loaded with stated dependencies ... OK
* checking whether the namespace can be unloaded cleanly ... OK
* checking whether startup messages can be suppressed ... OK
* checking dependencies in R code ... OK
* checking S3 generic/method consistency ... OK
* checking replacement functions ... OK
* checking foreign function calls ... OK
* checking R code for possible problems ... OK
* checking Rd files ... OK
* checking Rd metadata ... OK
* checking Rd cross-references ... OK
* checking for missing documentation entries ... OK
* checking for code/documentation mismatches ... OK
* checking Rd \usage sections ... OK
* checking Rd contents ... OK
* checking for unstated dependencies in examples ... OK
* checking contents of ‘data’ directory ... OK
* checking data for non-ASCII characters ... OK
* checking data for ASCII and uncompressed saves ... OK
* checking line endings in C/C++/Fortran sources/headers ... OK
* checking compiled code ... NOTE
Note: information on .o files is not available
* checking sizes of PDF files under ‘inst/doc’ ... OK
* checking files in ‘vignettes’ ... OK
* checking examples ... OK
Examples with CPU (user + system) or elapsed time > 5s
                                                     user system elapsed
referencecn.mops                                    7.204  0.086  28.255
cn.mops                                             5.859  0.171  31.064
calcFractionalCopyNumbers-CNVDetectionResult-method 5.686  0.069   9.069
calcFractionalCopyNumbers                           5.392  0.048   8.422
haplocn.mops                                        1.119  0.055  19.932
getReadCountsFromBAM                                0.516  0.036  10.114
getSegmentReadCountsFromBAM                         0.309  0.026   9.992
* checking for unstated dependencies in vignettes ... OK
* checking package vignettes ... OK
* checking running R code from vignettes ... SKIPPED
* checking re-building of vignette outputs ... SKIPPED
* checking PDF version of manual ... OK
* DONE
Status: 1 NOTE
See
  ‘/Users/biocbuild/bbs-3.19-bioc/meat/cn.mops.Rcheck/00check.log’
for details.
cn.mops.Rcheck/00install.out
##############################################################################
##############################################################################
###
### Running command:
###
###   /Library/Frameworks/R.framework/Resources/bin/R CMD INSTALL cn.mops
###
##############################################################################
##############################################################################
* installing to library ‘/Library/Frameworks/R.framework/Versions/4.4-arm64/Resources/library’
* installing *source* package ‘cn.mops’ ...
** using staged installation
** libs
using C compiler: ‘Apple clang version 15.0.0 (clang-1500.1.0.2.5)’
using C++ compiler: ‘Apple clang version 15.0.0 (clang-1500.1.0.2.5)’
using SDK: ‘MacOSX11.3.sdk’
clang -arch arm64 -I"/Library/Frameworks/R.framework/Resources/include" -DNDEBUG   -I/opt/R/arm64/include    -fPIC  -falign-functions=64 -Wall -g -O2  -c R_init_cnmops.c -o R_init_cnmops.o
clang++ -arch arm64 -std=gnu++17 -I"/Library/Frameworks/R.framework/Resources/include" -DNDEBUG   -I/opt/R/arm64/include    -fPIC  -falign-functions=64 -Wall -g -O2   -c cnmops.cpp -o cnmops.o
clang++ -arch arm64 -std=gnu++17 -I"/Library/Frameworks/R.framework/Resources/include" -DNDEBUG   -I/opt/R/arm64/include    -fPIC  -falign-functions=64 -Wall -g -O2   -c segment.cpp -o segment.o
segment.cpp:59:20: warning: variable 'globalSd' set but not used [-Wunused-but-set-variable]
        double globalMean,globalSd,diff,M2,globalVariance;
                          ^
segment.cpp:60:9: warning: variable 'oldStatistic' set but not used [-Wunused-but-set-variable]
        double oldStatistic, meanLeft,meanRight,varLeft,varRight;
               ^
segment.cpp:61:31: warning: variable 'maxStatistic' set but not used [-Wunused-but-set-variable]
        double newStatistic,meanDiff,maxStatistic,DOF,a,b,eps1;
                                     ^
segment.cpp:62:40: warning: variable 'maxIdx' set but not used [-Wunused-but-set-variable]
        double newPValue, maxPValue,oldPValue,maxIdx;
                                              ^
segment.cpp:64:9: warning: unused variable 'Rf_beta' [-Wunused-variable]
        double beta,nn;
               ^
/Library/Frameworks/R.framework/Resources/include/Rmath.h:210:15: note: expanded from macro 'beta'
#define beta            Rf_beta
                        ^
5 warnings generated.
clang++ -arch arm64 -std=gnu++17 -dynamiclib -Wl,-headerpad_max_install_names -undefined dynamic_lookup -L/Library/Frameworks/R.framework/Resources/lib -L/opt/R/arm64/lib -o cn.mops.so R_init_cnmops.o cnmops.o segment.o -F/Library/Frameworks/R.framework/.. -framework R -Wl,-framework -Wl,CoreFoundation
installing to /Library/Frameworks/R.framework/Versions/4.4-arm64/Resources/library/00LOCK-cn.mops/00new/cn.mops/libs
** R
** data
** inst
** byte-compile and prepare package for lazy loading
** help
*** installing help indices
** building package indices
** installing vignettes
** testing if installed package can be loaded from temporary location
** checking absolute paths in shared objects and dynamic libraries
** testing if installed package can be loaded from final location
** testing if installed package keeps a record of temporary installation path
* DONE (cn.mops)
cn.mops.Rcheck/cn.mops-Ex.timings
| name | user | system | elapsed | |
| CNVDetectionResult | 0.001 | 0.000 | 0.002 | |
| calcFractionalCopyNumbers-CNVDetectionResult-method | 5.686 | 0.069 | 9.069 | |
| calcFractionalCopyNumbers | 5.392 | 0.048 | 8.422 | |
| calcIntegerCopyNumbers-CNVDetectionResult-method | 0.439 | 0.009 | 0.730 | |
| calcIntegerCopyNumbers | 0.410 | 0.008 | 0.643 | |
| cn.mops | 5.859 | 0.171 | 31.064 | |
| cnvr-CNVDetectionResult-method | 0.239 | 0.007 | 0.399 | |
| cnvr | 0.796 | 0.015 | 1.270 | |
| cnvs-CNVDetectionResult-method | 0.240 | 0.006 | 0.405 | |
| cnvs | 0.215 | 0.007 | 0.324 | |
| exomecn.mops | 2.372 | 0.035 | 3.798 | |
| getReadCountsFromBAM | 0.516 | 0.036 | 10.114 | |
| getSegmentReadCountsFromBAM | 0.309 | 0.026 | 9.992 | |
| gr-CNVDetectionResult-method | 0.253 | 0.007 | 0.445 | |
| gr | 0.249 | 0.006 | 0.400 | |
| haplocn.mops | 1.119 | 0.055 | 19.932 | |
| individualCall-CNVDetectionResult-method | 0.238 | 0.006 | 0.359 | |
| individualCall | 0.245 | 0.006 | 0.372 | |
| iniCall-CNVDetectionResult-method | 0.257 | 0.006 | 0.444 | |
| iniCall | 0.189 | 0.006 | 0.296 | |
| integerCopyNumber-CNVDetectionResult-method | 0.213 | 0.005 | 0.267 | |
| integerCopyNumber | 0.236 | 0.005 | 0.360 | |
| localAssessments-CNVDetectionResult-method | 0.305 | 0.010 | 0.513 | |
| localAssessments | 0.260 | 0.008 | 0.397 | |
| makeRobustCNVR | 0.399 | 0.006 | 0.495 | |
| normalizeChromosomes | 0.132 | 0.008 | 0.200 | |
| normalizeGenome | 0.161 | 0.011 | 0.287 | |
| normalizedData-CNVDetectionResult-method | 0.205 | 0.005 | 0.227 | |
| normalizedData | 0.247 | 0.009 | 0.351 | |
| params-CNVDetectionResult-method | 0.206 | 0.010 | 0.231 | |
| params | 0.218 | 0.012 | 0.352 | |
| posteriorProbs-CNVDetectionResult-method | 0.228 | 0.005 | 0.323 | |
| posteriorProbs | 0.226 | 0.005 | 0.446 | |
| referencecn.mops | 7.204 | 0.086 | 28.255 | |
| sampleNames-CNVDetectionResult-method | 0.227 | 0.006 | 0.387 | |
| sampleNames | 0.251 | 0.007 | 0.416 | |
| segment | 0.022 | 0.001 | 0.024 | |
| segmentation-CNVDetectionResult-method | 0.234 | 0.007 | 0.365 | |
| segmentation | 0.253 | 0.007 | 0.380 | |
| segplot-CNVDetectionResult-method | 1.599 | 0.025 | 2.533 | |
| segplot | 0.984 | 0.014 | 1.505 | |
| singlecn.mops | 0.707 | 0.010 | 1.049 | |