| Back to Multiple platform build/check report for BioC 3.19: simplified long |
|
This page was generated on 2024-10-18 20:40 -0400 (Fri, 18 Oct 2024).
| Hostname | OS | Arch (*) | R version | Installed pkgs |
|---|---|---|---|---|
| nebbiolo1 | Linux (Ubuntu 22.04.3 LTS) | x86_64 | 4.4.1 (2024-06-14) -- "Race for Your Life" | 4763 |
| palomino7 | Windows Server 2022 Datacenter | x64 | 4.4.1 (2024-06-14 ucrt) -- "Race for Your Life" | 4500 |
| merida1 | macOS 12.7.5 Monterey | x86_64 | 4.4.1 (2024-06-14) -- "Race for Your Life" | 4530 |
| kjohnson1 | macOS 13.6.6 Ventura | arm64 | 4.4.1 (2024-06-14) -- "Race for Your Life" | 4480 |
| Click on any hostname to see more info about the system (e.g. compilers) (*) as reported by 'uname -p', except on Windows and Mac OS X | ||||
| Package 1907/2300 | Hostname | OS / Arch | INSTALL | BUILD | CHECK | BUILD BIN | ||||||||
| Sconify 1.24.0 (landing page) Tyler J Burns
| nebbiolo1 | Linux (Ubuntu 22.04.3 LTS) / x86_64 | OK | OK | OK | |||||||||
| palomino7 | Windows Server 2022 Datacenter / x64 | OK | OK | OK | OK | |||||||||
| merida1 | macOS 12.7.5 Monterey / x86_64 | OK | OK | OK | OK | |||||||||
| kjohnson1 | macOS 13.6.6 Ventura / arm64 | OK | OK | OK | NA | |||||||||
|
To the developers/maintainers of the Sconify package: - Allow up to 24 hours (and sometimes 48 hours) for your latest push to git@git.bioconductor.org:packages/Sconify.git to reflect on this report. See Troubleshooting Build Report for more information. - Use the following Renviron settings to reproduce errors and warnings. - If 'R CMD check' started to fail recently on the Linux builder(s) over a missing dependency, add the missing dependency to 'Suggests:' in your DESCRIPTION file. See Renviron.bioc for more information. |
| Package: Sconify |
| Version: 1.24.0 |
| Command: E:\biocbuild\bbs-3.19-bioc\R\bin\R.exe CMD check --no-multiarch --install=check:Sconify.install-out.txt --library=E:\biocbuild\bbs-3.19-bioc\R\library --no-vignettes --timings Sconify_1.24.0.tar.gz |
| StartedAt: 2024-10-17 05:32:37 -0400 (Thu, 17 Oct 2024) |
| EndedAt: 2024-10-17 05:34:43 -0400 (Thu, 17 Oct 2024) |
| EllapsedTime: 125.8 seconds |
| RetCode: 0 |
| Status: OK |
| CheckDir: Sconify.Rcheck |
| Warnings: 0 |
##############################################################################
##############################################################################
###
### Running command:
###
### E:\biocbuild\bbs-3.19-bioc\R\bin\R.exe CMD check --no-multiarch --install=check:Sconify.install-out.txt --library=E:\biocbuild\bbs-3.19-bioc\R\library --no-vignettes --timings Sconify_1.24.0.tar.gz
###
##############################################################################
##############################################################################
* using log directory 'E:/biocbuild/bbs-3.19-bioc/meat/Sconify.Rcheck'
* using R version 4.4.1 (2024-06-14 ucrt)
* using platform: x86_64-w64-mingw32
* R was compiled by
gcc.exe (GCC) 13.2.0
GNU Fortran (GCC) 13.2.0
* running under: Windows Server 2022 x64 (build 20348)
* using session charset: UTF-8
* using option '--no-vignettes'
* checking for file 'Sconify/DESCRIPTION' ... OK
* checking extension type ... Package
* this is package 'Sconify' version '1.24.0'
* package encoding: UTF-8
* checking package namespace information ... OK
* checking package dependencies ... OK
* checking if this is a source package ... OK
* checking if there is a namespace ... OK
* checking for hidden files and directories ... OK
* checking for portable file names ... OK
* checking whether package 'Sconify' can be installed ... OK
* checking installed package size ... OK
* checking package directory ... OK
* checking 'build' directory ... OK
* checking DESCRIPTION meta-information ... OK
* checking top-level files ... OK
* checking for left-over files ... OK
* checking index information ... OK
* checking package subdirectories ... OK
* checking code files for non-ASCII characters ... OK
* checking R files for syntax errors ... OK
* checking whether the package can be loaded ... OK
* checking whether the package can be loaded with stated dependencies ... OK
* checking whether the package can be unloaded cleanly ... OK
* checking whether the namespace can be loaded with stated dependencies ... OK
* checking whether the namespace can be unloaded cleanly ... OK
* checking dependencies in R code ... OK
* checking S3 generic/method consistency ... OK
* checking replacement functions ... OK
* checking foreign function calls ... OK
* checking R code for possible problems ... OK
* checking Rd files ... OK
* checking Rd metadata ... OK
* checking Rd cross-references ... OK
* checking for missing documentation entries ... OK
* checking for code/documentation mismatches ... OK
* checking Rd \usage sections ... OK
* checking Rd contents ... OK
* checking for unstated dependencies in examples ... OK
* checking contents of 'data' directory ... OK
* checking data for non-ASCII characters ... OK
* checking LazyData ... OK
* checking data for ASCII and uncompressed saves ... OK
* checking files in 'vignettes' ... OK
* checking examples ... OK
Examples with CPU (user + system) or elapsed time > 5s
user system elapsed
SconeValues 17.18 0.56 17.74
* checking for unstated dependencies in 'tests' ... OK
* checking tests ...
Running 'testthat.R'
OK
* checking for unstated dependencies in vignettes ... OK
* checking package vignettes ... OK
* checking running R code from vignettes ... SKIPPED
* checking re-building of vignette outputs ... SKIPPED
* checking PDF version of manual ... OK
* DONE
Status: OK
Sconify.Rcheck/00install.out
############################################################################## ############################################################################## ### ### Running command: ### ### E:\biocbuild\bbs-3.19-bioc\R\bin\R.exe CMD INSTALL Sconify ### ############################################################################## ############################################################################## * installing to library 'E:/biocbuild/bbs-3.19-bioc/R/library' * installing *source* package 'Sconify' ... ** using staged installation ** R ** data *** moving datasets to lazyload DB ** inst ** byte-compile and prepare package for lazy loading Note: wrong number of arguments to '/' Note: wrong number of arguments to 'asinh' ** help *** installing help indices ** building package indices ** installing vignettes ** testing if installed package can be loaded from temporary location ** testing if installed package can be loaded from final location ** testing if installed package keeps a record of temporary installation path * DONE (Sconify)
Sconify.Rcheck/tests/testthat.Rout
R version 4.4.1 (2024-06-14 ucrt) -- "Race for Your Life"
Copyright (C) 2024 The R Foundation for Statistical Computing
Platform: x86_64-w64-mingw32/x64
R is free software and comes with ABSOLUTELY NO WARRANTY.
You are welcome to redistribute it under certain conditions.
Type 'license()' or 'licence()' for distribution details.
R is a collaborative project with many contributors.
Type 'contributors()' for more information and
'citation()' on how to cite R or R packages in publications.
Type 'demo()' for some demos, 'help()' for on-line help, or
'help.start()' for an HTML browser interface to help.
Type 'q()' to quit R.
> library(testthat)
> library(Sconify)
>
> test_check("Sconify")
Read the 100 x 27 data matrix successfully!
OpenMP is working. 1 threads.
Using no_dims = 2, perplexity = 30.000000, and theta = 0.500000
Computing input similarities...
Building tree...
Done in 0.02 seconds (sparsity = 0.964800)!
Learning embedding...
Iteration 50: error is 48.027788 (50 iterations in 0.01 seconds)
Iteration 100: error is 52.191666 (50 iterations in 0.01 seconds)
Iteration 150: error is 50.226970 (50 iterations in 0.01 seconds)
Iteration 200: error is 50.931527 (50 iterations in 0.02 seconds)
Iteration 250: error is 48.783918 (50 iterations in 0.01 seconds)
Iteration 300: error is 1.462559 (50 iterations in 0.01 seconds)
Iteration 350: error is 0.563631 (50 iterations in 0.01 seconds)
Iteration 400: error is 0.206200 (50 iterations in 0.01 seconds)
Iteration 450: error is 0.159223 (50 iterations in 0.01 seconds)
Iteration 500: error is 0.140263 (50 iterations in 0.01 seconds)
Iteration 550: error is 0.134278 (50 iterations in 0.01 seconds)
Iteration 600: error is 0.131414 (50 iterations in 0.01 seconds)
Iteration 650: error is 0.128901 (50 iterations in 0.01 seconds)
Iteration 700: error is 0.130855 (50 iterations in 0.01 seconds)
Iteration 750: error is 0.131430 (50 iterations in 0.01 seconds)
Iteration 800: error is 0.131832 (50 iterations in 0.01 seconds)
Iteration 850: error is 0.130624 (50 iterations in 0.01 seconds)
Iteration 900: error is 0.131505 (50 iterations in 0.01 seconds)
Iteration 950: error is 0.130046 (50 iterations in 0.01 seconds)
Iteration 1000: error is 0.132180 (50 iterations in 0.01 seconds)
Fitting performed in 0.23 seconds.
Read the 1000 x 27 data matrix successfully!
OpenMP is working. 1 threads.
Using no_dims = 2, perplexity = 30.000000, and theta = 0.500000
Computing input similarities...
Building tree...
Done in 0.20 seconds (sparsity = 0.129120)!
Learning embedding...
Iteration 50: error is 67.612692 (50 iterations in 0.22 seconds)
Iteration 100: error is 60.924639 (50 iterations in 0.19 seconds)
Iteration 150: error is 60.366593 (50 iterations in 0.16 seconds)
Iteration 200: error is 60.204453 (50 iterations in 0.17 seconds)
Iteration 250: error is 60.134807 (50 iterations in 0.15 seconds)
Iteration 300: error is 1.336097 (50 iterations in 0.11 seconds)
Iteration 350: error is 1.230112 (50 iterations in 0.10 seconds)
Iteration 400: error is 1.197992 (50 iterations in 0.10 seconds)
Iteration 450: error is 1.186090 (50 iterations in 0.10 seconds)
Iteration 500: error is 1.178856 (50 iterations in 0.10 seconds)
Iteration 550: error is 1.172917 (50 iterations in 0.10 seconds)
Iteration 600: error is 1.167558 (50 iterations in 0.13 seconds)
Iteration 650: error is 1.163849 (50 iterations in 0.16 seconds)
Iteration 700: error is 1.160749 (50 iterations in 0.13 seconds)
Iteration 750: error is 1.158347 (50 iterations in 0.11 seconds)
Iteration 800: error is 1.155782 (50 iterations in 0.10 seconds)
Iteration 850: error is 1.154468 (50 iterations in 0.12 seconds)
Iteration 900: error is 1.152844 (50 iterations in 0.16 seconds)
Iteration 950: error is 1.151193 (50 iterations in 0.16 seconds)
Iteration 1000: error is 1.149808 (50 iterations in 0.16 seconds)
Fitting performed in 2.72 seconds.
[ FAIL 0 | WARN 4 | SKIP 0 | PASS 72 ]
[ FAIL 0 | WARN 4 | SKIP 0 | PASS 72 ]
>
> proc.time()
user system elapsed
21.84 0.92 22.79
Sconify.Rcheck/Sconify-Ex.timings
| name | user | system | elapsed | |
| FcsToTibble | 0.11 | 0.02 | 0.12 | |
| Fnn | 0.56 | 0.73 | 1.30 | |
| GetKnnDe | 0.10 | 0.00 | 0.09 | |
| GetMarkerNames | 0.03 | 0.00 | 0.03 | |
| ImputeTesting | 4.32 | 0.17 | 4.48 | |
| MakeHist | 0.43 | 0.03 | 0.47 | |
| MakeKnnList | 0.47 | 0.00 | 0.47 | |
| MeaningOfLife | 0 | 0 | 0 | |
| ParseMarkers | 0.36 | 0.10 | 0.84 | |
| PostProcessing | 0.08 | 0.00 | 0.08 | |
| ProcessMultipleFiles | 0.17 | 0.00 | 0.17 | |
| QuantNormalizeElements | 0.2 | 0.0 | 0.2 | |
| SconeValues | 17.18 | 0.56 | 17.74 | |
| SplitFile | 0.06 | 0.00 | 0.06 | |
| StringToNumbers | 0 | 0 | 0 | |
| SubsampleAndTsne | 1.61 | 0.00 | 1.61 | |
| TsneVis | 0.17 | 0.00 | 0.17 | |