| Back to Multiple platform build/check report for BioC 3.19: simplified long |
|
This page was generated on 2024-10-18 20:38 -0400 (Fri, 18 Oct 2024).
| Hostname | OS | Arch (*) | R version | Installed pkgs |
|---|---|---|---|---|
| nebbiolo1 | Linux (Ubuntu 22.04.3 LTS) | x86_64 | 4.4.1 (2024-06-14) -- "Race for Your Life" | 4763 |
| palomino7 | Windows Server 2022 Datacenter | x64 | 4.4.1 (2024-06-14 ucrt) -- "Race for Your Life" | 4500 |
| merida1 | macOS 12.7.5 Monterey | x86_64 | 4.4.1 (2024-06-14) -- "Race for Your Life" | 4530 |
| kjohnson1 | macOS 13.6.6 Ventura | arm64 | 4.4.1 (2024-06-14) -- "Race for Your Life" | 4480 |
| Click on any hostname to see more info about the system (e.g. compilers) (*) as reported by 'uname -p', except on Windows and Mac OS X | ||||
| Package 1907/2300 | Hostname | OS / Arch | INSTALL | BUILD | CHECK | BUILD BIN | ||||||||
| Sconify 1.24.0 (landing page) Tyler J Burns
| nebbiolo1 | Linux (Ubuntu 22.04.3 LTS) / x86_64 | OK | OK | OK | |||||||||
| palomino7 | Windows Server 2022 Datacenter / x64 | OK | OK | OK | OK | |||||||||
| merida1 | macOS 12.7.5 Monterey / x86_64 | OK | OK | OK | OK | |||||||||
| kjohnson1 | macOS 13.6.6 Ventura / arm64 | OK | OK | OK | NA | |||||||||
|
To the developers/maintainers of the Sconify package: - Allow up to 24 hours (and sometimes 48 hours) for your latest push to git@git.bioconductor.org:packages/Sconify.git to reflect on this report. See Troubleshooting Build Report for more information. - Use the following Renviron settings to reproduce errors and warnings. - If 'R CMD check' started to fail recently on the Linux builder(s) over a missing dependency, add the missing dependency to 'Suggests:' in your DESCRIPTION file. See Renviron.bioc for more information. |
| Package: Sconify |
| Version: 1.24.0 |
| Command: /home/biocbuild/bbs-3.19-bioc/R/bin/R CMD check --install=check:Sconify.install-out.txt --library=/home/biocbuild/bbs-3.19-bioc/R/site-library --timings Sconify_1.24.0.tar.gz |
| StartedAt: 2024-10-17 04:53:31 -0400 (Thu, 17 Oct 2024) |
| EndedAt: 2024-10-17 04:55:38 -0400 (Thu, 17 Oct 2024) |
| EllapsedTime: 126.2 seconds |
| RetCode: 0 |
| Status: OK |
| CheckDir: Sconify.Rcheck |
| Warnings: 0 |
##############################################################################
##############################################################################
###
### Running command:
###
### /home/biocbuild/bbs-3.19-bioc/R/bin/R CMD check --install=check:Sconify.install-out.txt --library=/home/biocbuild/bbs-3.19-bioc/R/site-library --timings Sconify_1.24.0.tar.gz
###
##############################################################################
##############################################################################
* using log directory ‘/home/biocbuild/bbs-3.19-bioc/meat/Sconify.Rcheck’
* using R version 4.4.1 (2024-06-14)
* using platform: x86_64-pc-linux-gnu
* R was compiled by
gcc (Ubuntu 11.4.0-1ubuntu1~22.04) 11.4.0
GNU Fortran (Ubuntu 11.4.0-1ubuntu1~22.04) 11.4.0
* running under: Ubuntu 22.04.5 LTS
* using session charset: UTF-8
* checking for file ‘Sconify/DESCRIPTION’ ... OK
* checking extension type ... Package
* this is package ‘Sconify’ version ‘1.24.0’
* package encoding: UTF-8
* checking package namespace information ... OK
* checking package dependencies ... OK
* checking if this is a source package ... OK
* checking if there is a namespace ... OK
* checking for hidden files and directories ... OK
* checking for portable file names ... OK
* checking for sufficient/correct file permissions ... OK
* checking whether package ‘Sconify’ can be installed ... OK
* checking installed package size ... OK
* checking package directory ... OK
* checking ‘build’ directory ... OK
* checking DESCRIPTION meta-information ... OK
* checking top-level files ... OK
* checking for left-over files ... OK
* checking index information ... OK
* checking package subdirectories ... OK
* checking code files for non-ASCII characters ... OK
* checking R files for syntax errors ... OK
* checking whether the package can be loaded ... OK
* checking whether the package can be loaded with stated dependencies ... OK
* checking whether the package can be unloaded cleanly ... OK
* checking whether the namespace can be loaded with stated dependencies ... OK
* checking whether the namespace can be unloaded cleanly ... OK
* checking loading without being on the library search path ... OK
* checking dependencies in R code ... OK
* checking S3 generic/method consistency ... OK
* checking replacement functions ... OK
* checking foreign function calls ... OK
* checking R code for possible problems ... OK
* checking Rd files ... OK
* checking Rd metadata ... OK
* checking Rd cross-references ... OK
* checking for missing documentation entries ... OK
* checking for code/documentation mismatches ... OK
* checking Rd \usage sections ... OK
* checking Rd contents ... OK
* checking for unstated dependencies in examples ... OK
* checking contents of ‘data’ directory ... OK
* checking data for non-ASCII characters ... OK
* checking LazyData ... OK
* checking data for ASCII and uncompressed saves ... OK
* checking files in ‘vignettes’ ... OK
* checking examples ... OK
Examples with CPU (user + system) or elapsed time > 5s
user system elapsed
SconeValues 12.317 0.176 12.493
* checking for unstated dependencies in ‘tests’ ... OK
* checking tests ...
Running ‘testthat.R’
OK
* checking for unstated dependencies in vignettes ... OK
* checking package vignettes ... OK
* checking re-building of vignette outputs ... OK
* checking PDF version of manual ... OK
* DONE
Status: OK
Sconify.Rcheck/00install.out
############################################################################## ############################################################################## ### ### Running command: ### ### /home/biocbuild/bbs-3.19-bioc/R/bin/R CMD INSTALL Sconify ### ############################################################################## ############################################################################## * installing to library ‘/home/biocbuild/bbs-3.19-bioc/R/site-library’ * installing *source* package ‘Sconify’ ... ** using staged installation ** R ** data *** moving datasets to lazyload DB ** inst ** byte-compile and prepare package for lazy loading Note: wrong number of arguments to '/' Note: wrong number of arguments to 'asinh' ** help *** installing help indices ** building package indices ** installing vignettes ** testing if installed package can be loaded from temporary location ** testing if installed package can be loaded from final location ** testing if installed package keeps a record of temporary installation path * DONE (Sconify)
Sconify.Rcheck/tests/testthat.Rout
R version 4.4.1 (2024-06-14) -- "Race for Your Life"
Copyright (C) 2024 The R Foundation for Statistical Computing
Platform: x86_64-pc-linux-gnu
R is free software and comes with ABSOLUTELY NO WARRANTY.
You are welcome to redistribute it under certain conditions.
Type 'license()' or 'licence()' for distribution details.
R is a collaborative project with many contributors.
Type 'contributors()' for more information and
'citation()' on how to cite R or R packages in publications.
Type 'demo()' for some demos, 'help()' for on-line help, or
'help.start()' for an HTML browser interface to help.
Type 'q()' to quit R.
> library(testthat)
> library(Sconify)
>
> test_check("Sconify")
Read the 100 x 27 data matrix successfully!
OpenMP is working. 1 threads.
Using no_dims = 2, perplexity = 30.000000, and theta = 0.500000
Computing input similarities...
Building tree...
Done in 0.01 seconds (sparsity = 0.969800)!
Learning embedding...
Iteration 50: error is 52.417752 (50 iterations in 0.01 seconds)
Iteration 100: error is 49.842170 (50 iterations in 0.01 seconds)
Iteration 150: error is 52.950756 (50 iterations in 0.01 seconds)
Iteration 200: error is 52.576039 (50 iterations in 0.01 seconds)
Iteration 250: error is 52.450687 (50 iterations in 0.01 seconds)
Iteration 300: error is 1.490699 (50 iterations in 0.01 seconds)
Iteration 350: error is 0.945085 (50 iterations in 0.01 seconds)
Iteration 400: error is 0.604364 (50 iterations in 0.01 seconds)
Iteration 450: error is 0.190802 (50 iterations in 0.01 seconds)
Iteration 500: error is 0.154324 (50 iterations in 0.01 seconds)
Iteration 550: error is 0.143858 (50 iterations in 0.01 seconds)
Iteration 600: error is 0.143857 (50 iterations in 0.01 seconds)
Iteration 650: error is 0.144962 (50 iterations in 0.01 seconds)
Iteration 700: error is 0.145813 (50 iterations in 0.01 seconds)
Iteration 750: error is 0.146149 (50 iterations in 0.01 seconds)
Iteration 800: error is 0.145750 (50 iterations in 0.01 seconds)
Iteration 850: error is 0.145904 (50 iterations in 0.01 seconds)
Iteration 900: error is 0.145899 (50 iterations in 0.01 seconds)
Iteration 950: error is 0.145505 (50 iterations in 0.01 seconds)
Iteration 1000: error is 0.145866 (50 iterations in 0.01 seconds)
Fitting performed in 0.17 seconds.
Read the 1000 x 27 data matrix successfully!
OpenMP is working. 1 threads.
Using no_dims = 2, perplexity = 30.000000, and theta = 0.500000
Computing input similarities...
Building tree...
Done in 0.11 seconds (sparsity = 0.129120)!
Learning embedding...
Iteration 50: error is 63.900169 (50 iterations in 0.21 seconds)
Iteration 100: error is 60.620917 (50 iterations in 0.15 seconds)
Iteration 150: error is 60.276254 (50 iterations in 0.15 seconds)
Iteration 200: error is 60.156407 (50 iterations in 0.15 seconds)
Iteration 250: error is 60.104402 (50 iterations in 0.16 seconds)
Iteration 300: error is 1.339795 (50 iterations in 0.13 seconds)
Iteration 350: error is 1.232116 (50 iterations in 0.12 seconds)
Iteration 400: error is 1.203556 (50 iterations in 0.13 seconds)
Iteration 450: error is 1.188858 (50 iterations in 0.13 seconds)
Iteration 500: error is 1.178807 (50 iterations in 0.13 seconds)
Iteration 550: error is 1.173329 (50 iterations in 0.12 seconds)
Iteration 600: error is 1.168445 (50 iterations in 0.13 seconds)
Iteration 650: error is 1.163810 (50 iterations in 0.12 seconds)
Iteration 700: error is 1.160304 (50 iterations in 0.12 seconds)
Iteration 750: error is 1.157723 (50 iterations in 0.13 seconds)
Iteration 800: error is 1.155787 (50 iterations in 0.13 seconds)
Iteration 850: error is 1.154204 (50 iterations in 0.13 seconds)
Iteration 900: error is 1.152871 (50 iterations in 0.12 seconds)
Iteration 950: error is 1.152048 (50 iterations in 0.13 seconds)
Iteration 1000: error is 1.150577 (50 iterations in 0.13 seconds)
Fitting performed in 2.72 seconds.
[ FAIL 0 | WARN 4 | SKIP 0 | PASS 72 ]
[ FAIL 0 | WARN 4 | SKIP 0 | PASS 72 ]
>
> proc.time()
user system elapsed
17.434 0.343 17.788
Sconify.Rcheck/Sconify-Ex.timings
| name | user | system | elapsed | |
| FcsToTibble | 0.114 | 0.009 | 0.124 | |
| Fnn | 0.323 | 1.077 | 1.400 | |
| GetKnnDe | 0.069 | 0.013 | 0.082 | |
| GetMarkerNames | 0.015 | 0.012 | 0.028 | |
| ImputeTesting | 2.955 | 0.019 | 2.974 | |
| MakeHist | 0.285 | 0.004 | 0.289 | |
| MakeKnnList | 0.284 | 0.000 | 0.284 | |
| MeaningOfLife | 0.001 | 0.000 | 0.001 | |
| ParseMarkers | 0.247 | 0.007 | 0.269 | |
| PostProcessing | 0.07 | 0.00 | 0.07 | |
| ProcessMultipleFiles | 0.144 | 0.012 | 0.157 | |
| QuantNormalizeElements | 0.185 | 0.012 | 0.197 | |
| SconeValues | 12.317 | 0.176 | 12.493 | |
| SplitFile | 0.071 | 0.000 | 0.071 | |
| StringToNumbers | 0.001 | 0.000 | 0.000 | |
| SubsampleAndTsne | 1.617 | 0.000 | 1.617 | |
| TsneVis | 0.166 | 0.000 | 0.166 | |