| Back to Multiple platform build/check report for BioC 3.19: simplified long |
|
This page was generated on 2024-10-18 20:41 -0400 (Fri, 18 Oct 2024).
| Hostname | OS | Arch (*) | R version | Installed pkgs |
|---|---|---|---|---|
| nebbiolo1 | Linux (Ubuntu 22.04.3 LTS) | x86_64 | 4.4.1 (2024-06-14) -- "Race for Your Life" | 4763 |
| palomino7 | Windows Server 2022 Datacenter | x64 | 4.4.1 (2024-06-14 ucrt) -- "Race for Your Life" | 4500 |
| merida1 | macOS 12.7.5 Monterey | x86_64 | 4.4.1 (2024-06-14) -- "Race for Your Life" | 4530 |
| kjohnson1 | macOS 13.6.6 Ventura | arm64 | 4.4.1 (2024-06-14) -- "Race for Your Life" | 4480 |
| Click on any hostname to see more info about the system (e.g. compilers) (*) as reported by 'uname -p', except on Windows and Mac OS X | ||||
| Package 1907/2300 | Hostname | OS / Arch | INSTALL | BUILD | CHECK | BUILD BIN | ||||||||
| Sconify 1.24.0 (landing page) Tyler J Burns
| nebbiolo1 | Linux (Ubuntu 22.04.3 LTS) / x86_64 | OK | OK | OK | |||||||||
| palomino7 | Windows Server 2022 Datacenter / x64 | OK | OK | OK | OK | |||||||||
| merida1 | macOS 12.7.5 Monterey / x86_64 | OK | OK | OK | OK | |||||||||
| kjohnson1 | macOS 13.6.6 Ventura / arm64 | OK | OK | OK | NA | |||||||||
|
To the developers/maintainers of the Sconify package: - Allow up to 24 hours (and sometimes 48 hours) for your latest push to git@git.bioconductor.org:packages/Sconify.git to reflect on this report. See Troubleshooting Build Report for more information. - Use the following Renviron settings to reproduce errors and warnings. - If 'R CMD check' started to fail recently on the Linux builder(s) over a missing dependency, add the missing dependency to 'Suggests:' in your DESCRIPTION file. See Renviron.bioc for more information. |
| Package: Sconify |
| Version: 1.24.0 |
| Command: /Library/Frameworks/R.framework/Resources/bin/R CMD check --install=check:Sconify.install-out.txt --library=/Library/Frameworks/R.framework/Resources/library --no-vignettes --timings Sconify_1.24.0.tar.gz |
| StartedAt: 2024-10-17 12:45:16 -0400 (Thu, 17 Oct 2024) |
| EndedAt: 2024-10-17 12:50:05 -0400 (Thu, 17 Oct 2024) |
| EllapsedTime: 289.5 seconds |
| RetCode: 0 |
| Status: OK |
| CheckDir: Sconify.Rcheck |
| Warnings: 0 |
##############################################################################
##############################################################################
###
### Running command:
###
### /Library/Frameworks/R.framework/Resources/bin/R CMD check --install=check:Sconify.install-out.txt --library=/Library/Frameworks/R.framework/Resources/library --no-vignettes --timings Sconify_1.24.0.tar.gz
###
##############################################################################
##############################################################################
* using log directory ‘/Users/biocbuild/bbs-3.19-bioc/meat/Sconify.Rcheck’
* using R version 4.4.1 (2024-06-14)
* using platform: x86_64-apple-darwin20
* R was compiled by
Apple clang version 14.0.0 (clang-1400.0.29.202)
GNU Fortran (GCC) 12.2.0
* running under: macOS Monterey 12.7.6
* using session charset: UTF-8
* using option ‘--no-vignettes’
* checking for file ‘Sconify/DESCRIPTION’ ... OK
* checking extension type ... Package
* this is package ‘Sconify’ version ‘1.24.0’
* package encoding: UTF-8
* checking package namespace information ... OK
* checking package dependencies ... OK
* checking if this is a source package ... OK
* checking if there is a namespace ... OK
* checking for hidden files and directories ... OK
* checking for portable file names ... OK
* checking for sufficient/correct file permissions ... OK
* checking whether package ‘Sconify’ can be installed ... OK
* checking installed package size ... OK
* checking package directory ... OK
* checking ‘build’ directory ... OK
* checking DESCRIPTION meta-information ... OK
* checking top-level files ... OK
* checking for left-over files ... OK
* checking index information ... OK
* checking package subdirectories ... OK
* checking code files for non-ASCII characters ... OK
* checking R files for syntax errors ... OK
* checking whether the package can be loaded ... OK
* checking whether the package can be loaded with stated dependencies ... OK
* checking whether the package can be unloaded cleanly ... OK
* checking whether the namespace can be loaded with stated dependencies ... OK
* checking whether the namespace can be unloaded cleanly ... OK
* checking dependencies in R code ... OK
* checking S3 generic/method consistency ... OK
* checking replacement functions ... OK
* checking foreign function calls ... OK
* checking R code for possible problems ... OK
* checking Rd files ... OK
* checking Rd metadata ... OK
* checking Rd cross-references ... OK
* checking for missing documentation entries ... OK
* checking for code/documentation mismatches ... OK
* checking Rd \usage sections ... OK
* checking Rd contents ... OK
* checking for unstated dependencies in examples ... OK
* checking contents of ‘data’ directory ... OK
* checking data for non-ASCII characters ... OK
* checking LazyData ... OK
* checking data for ASCII and uncompressed saves ... OK
* checking files in ‘vignettes’ ... OK
* checking examples ... OK
Examples with CPU (user + system) or elapsed time > 5s
user system elapsed
SconeValues 30.640 0.394 37.803
ImputeTesting 9.179 0.077 11.377
* checking for unstated dependencies in ‘tests’ ... OK
* checking tests ...
Running ‘testthat.R’
OK
* checking for unstated dependencies in vignettes ... OK
* checking package vignettes ... OK
* checking running R code from vignettes ... SKIPPED
* checking re-building of vignette outputs ... SKIPPED
* checking PDF version of manual ... OK
* DONE
Status: OK
Sconify.Rcheck/00install.out
############################################################################## ############################################################################## ### ### Running command: ### ### /Library/Frameworks/R.framework/Resources/bin/R CMD INSTALL Sconify ### ############################################################################## ############################################################################## * installing to library ‘/Library/Frameworks/R.framework/Versions/4.4-x86_64/Resources/library’ * installing *source* package ‘Sconify’ ... ** using staged installation ** R ** data *** moving datasets to lazyload DB ** inst ** byte-compile and prepare package for lazy loading Note: wrong number of arguments to '/' Note: wrong number of arguments to 'asinh' ** help *** installing help indices ** building package indices ** installing vignettes ** testing if installed package can be loaded from temporary location ** testing if installed package can be loaded from final location ** testing if installed package keeps a record of temporary installation path * DONE (Sconify)
Sconify.Rcheck/tests/testthat.Rout
R version 4.4.1 (2024-06-14) -- "Race for Your Life"
Copyright (C) 2024 The R Foundation for Statistical Computing
Platform: x86_64-apple-darwin20
R is free software and comes with ABSOLUTELY NO WARRANTY.
You are welcome to redistribute it under certain conditions.
Type 'license()' or 'licence()' for distribution details.
R is a collaborative project with many contributors.
Type 'contributors()' for more information and
'citation()' on how to cite R or R packages in publications.
Type 'demo()' for some demos, 'help()' for on-line help, or
'help.start()' for an HTML browser interface to help.
Type 'q()' to quit R.
> library(testthat)
> library(Sconify)
>
> test_check("Sconify")
Read the 100 x 27 data matrix successfully!
Using no_dims = 2, perplexity = 30.000000, and theta = 0.500000
Computing input similarities...
Building tree...
Done in 0.01 seconds (sparsity = 0.969600)!
Learning embedding...
Iteration 50: error is 54.233315 (50 iterations in 0.02 seconds)
Iteration 100: error is 51.997946 (50 iterations in 0.02 seconds)
Iteration 150: error is 53.100622 (50 iterations in 0.02 seconds)
Iteration 200: error is 52.141738 (50 iterations in 0.02 seconds)
Iteration 250: error is 49.413331 (50 iterations in 0.02 seconds)
Iteration 300: error is 1.474188 (50 iterations in 0.01 seconds)
Iteration 350: error is 0.770188 (50 iterations in 0.01 seconds)
Iteration 400: error is 0.296792 (50 iterations in 0.01 seconds)
Iteration 450: error is 0.234819 (50 iterations in 0.01 seconds)
Iteration 500: error is 0.237507 (50 iterations in 0.01 seconds)
Iteration 550: error is 0.237860 (50 iterations in 0.01 seconds)
Iteration 600: error is 0.237780 (50 iterations in 0.01 seconds)
Iteration 650: error is 0.237806 (50 iterations in 0.01 seconds)
Iteration 700: error is 0.238427 (50 iterations in 0.01 seconds)
Iteration 750: error is 0.238420 (50 iterations in 0.01 seconds)
Iteration 800: error is 0.239052 (50 iterations in 0.01 seconds)
Iteration 850: error is 0.239327 (50 iterations in 0.01 seconds)
Iteration 900: error is 0.234010 (50 iterations in 0.01 seconds)
Iteration 950: error is 0.232324 (50 iterations in 0.01 seconds)
Iteration 1000: error is 0.233137 (50 iterations in 0.01 seconds)
Fitting performed in 0.30 seconds.
Read the 1000 x 27 data matrix successfully!
Using no_dims = 2, perplexity = 30.000000, and theta = 0.500000
Computing input similarities...
Building tree...
Done in 0.21 seconds (sparsity = 0.129120)!
Learning embedding...
Iteration 50: error is 63.938520 (50 iterations in 0.35 seconds)
Iteration 100: error is 60.685183 (50 iterations in 0.24 seconds)
Iteration 150: error is 60.300476 (50 iterations in 0.24 seconds)
Iteration 200: error is 60.170577 (50 iterations in 0.25 seconds)
Iteration 250: error is 60.104366 (50 iterations in 0.25 seconds)
Iteration 300: error is 1.337860 (50 iterations in 0.22 seconds)
Iteration 350: error is 1.229843 (50 iterations in 0.22 seconds)
Iteration 400: error is 1.198105 (50 iterations in 0.21 seconds)
Iteration 450: error is 1.185501 (50 iterations in 0.22 seconds)
Iteration 500: error is 1.175226 (50 iterations in 0.22 seconds)
Iteration 550: error is 1.166629 (50 iterations in 0.22 seconds)
Iteration 600: error is 1.161011 (50 iterations in 0.22 seconds)
Iteration 650: error is 1.156194 (50 iterations in 0.21 seconds)
Iteration 700: error is 1.153425 (50 iterations in 0.22 seconds)
Iteration 750: error is 1.151161 (50 iterations in 0.21 seconds)
Iteration 800: error is 1.148552 (50 iterations in 0.22 seconds)
Iteration 850: error is 1.147579 (50 iterations in 0.22 seconds)
Iteration 900: error is 1.147177 (50 iterations in 0.22 seconds)
Iteration 950: error is 1.145717 (50 iterations in 0.22 seconds)
Iteration 1000: error is 1.144184 (50 iterations in 0.22 seconds)
Fitting performed in 4.58 seconds.
[ FAIL 0 | WARN 4 | SKIP 0 | PASS 72 ]
[ FAIL 0 | WARN 4 | SKIP 0 | PASS 72 ]
>
> proc.time()
user system elapsed
47.331 1.120 59.173
Sconify.Rcheck/Sconify-Ex.timings
| name | user | system | elapsed | |
| FcsToTibble | 0.289 | 0.011 | 0.375 | |
| Fnn | 0.929 | 2.759 | 4.933 | |
| GetKnnDe | 0.118 | 0.018 | 0.173 | |
| GetMarkerNames | 0.057 | 0.005 | 0.076 | |
| ImputeTesting | 9.179 | 0.077 | 11.377 | |
| MakeHist | 0.725 | 0.017 | 0.908 | |
| MakeKnnList | 0.858 | 0.029 | 1.076 | |
| MeaningOfLife | 0.001 | 0.000 | 0.003 | |
| ParseMarkers | 0.543 | 0.047 | 1.130 | |
| PostProcessing | 0.238 | 0.007 | 0.284 | |
| ProcessMultipleFiles | 0.255 | 0.009 | 0.320 | |
| QuantNormalizeElements | 0.518 | 0.006 | 0.642 | |
| SconeValues | 30.640 | 0.394 | 37.803 | |
| SplitFile | 0.195 | 0.005 | 0.242 | |
| StringToNumbers | 0.000 | 0.000 | 0.001 | |
| SubsampleAndTsne | 2.778 | 0.072 | 3.572 | |
| TsneVis | 0.398 | 0.013 | 0.507 | |