| Back to Multiple platform build/check report for BioC 3.18: simplified long |
|
This page was generated on 2023-11-02 11:41:24 -0400 (Thu, 02 Nov 2023).
| Hostname | OS | Arch (*) | R version | Installed pkgs |
|---|---|---|---|---|
| nebbiolo2 | Linux (Ubuntu 22.04.2 LTS) | x86_64 | 4.3.1 (2023-06-16) -- "Beagle Scouts" | 4729 |
| palomino4 | Windows Server 2022 Datacenter | x64 | 4.3.1 (2023-06-16 ucrt) -- "Beagle Scouts" | 4463 |
| lconway | macOS 12.6.5 Monterey | x86_64 | 4.3.1 Patched (2023-06-17 r84564) -- "Beagle Scouts" | 4478 |
| kunpeng2 | Linux (openEuler 22.03 LTS-SP1) | aarch64 | 4.3.1 (2023-06-16) -- "Beagle Scouts" | 4464 |
| Click on any hostname to see more info about the system (e.g. compilers) (*) as reported by 'uname -p', except on Windows and Mac OS X | ||||
| Package 2196/2266 | Hostname | OS / Arch | INSTALL | BUILD | CHECK | BUILD BIN | ||||||||
| twoddpcr 1.26.0 (landing page) Anthony Chiu
| nebbiolo2 | Linux (Ubuntu 22.04.2 LTS) / x86_64 | OK | OK | OK | |||||||||
| palomino4 | Windows Server 2022 Datacenter / x64 | OK | OK | OK | OK | |||||||||
| lconway | macOS 12.6.5 Monterey / x86_64 | OK | OK | OK | OK | |||||||||
| kjohnson1 | macOS 13.6.1 Ventura / arm64 | see weekly results here | ||||||||||||
| kunpeng2 | Linux (openEuler 22.03 LTS-SP1) / aarch64 | OK | OK | OK | ||||||||||
|
To the developers/maintainers of the twoddpcr package: - Allow up to 24 hours (and sometimes 48 hours) for your latest push to git@git.bioconductor.org:packages/twoddpcr.git to reflect on this report. See Troubleshooting Build Report for more information. - Use the following Renviron settings to reproduce errors and warnings. - If 'R CMD check' started to fail recently on the Linux builder(s) over a missing dependency, add the missing dependency to 'Suggests:' in your DESCRIPTION file. See Renviron.bioc for more information. - See Martin Grigorov's blog post for how to debug Linux ARM64 related issues on a x86_64 host. |
| Package: twoddpcr |
| Version: 1.26.0 |
| Command: /home/biocbuild/R/R-4.3.1/bin/R CMD check --install=check:twoddpcr.install-out.txt --library=/home/biocbuild/R/R-4.3.1/site-library --no-vignettes --timings twoddpcr_1.26.0.tar.gz |
| StartedAt: 2023-11-02 15:07:41 -0000 (Thu, 02 Nov 2023) |
| EndedAt: 2023-11-02 15:10:06 -0000 (Thu, 02 Nov 2023) |
| EllapsedTime: 145.3 seconds |
| RetCode: 0 |
| Status: OK |
| CheckDir: twoddpcr.Rcheck |
| Warnings: 0 |
##############################################################################
##############################################################################
###
### Running command:
###
### /home/biocbuild/R/R-4.3.1/bin/R CMD check --install=check:twoddpcr.install-out.txt --library=/home/biocbuild/R/R-4.3.1/site-library --no-vignettes --timings twoddpcr_1.26.0.tar.gz
###
##############################################################################
##############################################################################
* using log directory ‘/home/biocbuild/bbs-3.18-bioc/meat/twoddpcr.Rcheck’
* using R version 4.3.1 (2023-06-16)
* using platform: aarch64-unknown-linux-gnu (64-bit)
* R was compiled by
gcc (GCC) 10.3.1
GNU Fortran (GCC) 10.3.1
* running under: openEuler 22.03 (LTS-SP1)
* using session charset: UTF-8
* using option ‘--no-vignettes’
* checking for file ‘twoddpcr/DESCRIPTION’ ... OK
* this is package ‘twoddpcr’ version ‘1.26.0’
* checking package namespace information ... OK
* checking package dependencies ... OK
* checking if this is a source package ... OK
* checking if there is a namespace ... OK
* checking for hidden files and directories ... OK
* checking for portable file names ... OK
* checking for sufficient/correct file permissions ... OK
* checking whether package ‘twoddpcr’ can be installed ... OK
* checking installed package size ... OK
* checking package directory ... OK
* checking ‘build’ directory ... OK
* checking DESCRIPTION meta-information ... OK
* checking top-level files ... OK
* checking for left-over files ... OK
* checking index information ... OK
* checking package subdirectories ... OK
* checking R files for non-ASCII characters ... OK
* checking R files for syntax errors ... OK
* checking whether the package can be loaded ... OK
* checking whether the package can be loaded with stated dependencies ... OK
* checking whether the package can be unloaded cleanly ... OK
* checking whether the namespace can be loaded with stated dependencies ... OK
* checking whether the namespace can be unloaded cleanly ... OK
* checking loading without being on the library search path ... OK
* checking dependencies in R code ... OK
* checking S3 generic/method consistency ... OK
* checking replacement functions ... OK
* checking foreign function calls ... OK
* checking R code for possible problems ... OK
* checking Rd files ... OK
* checking Rd metadata ... OK
* checking Rd cross-references ... OK
* checking for missing documentation entries ... OK
* checking for code/documentation mismatches ... OK
* checking Rd \usage sections ... NOTE
S3 methods shown with full name in documentation object 'ggplot.well':
‘ggplot.well’ ‘ggplot.plate’
The \usage entries for S3 methods should use the \method markup and not
their full name.
See chapter ‘Writing R documentation files’ in the ‘Writing R
Extensions’ manual.
* checking Rd contents ... OK
* checking for unstated dependencies in examples ... OK
* checking contents of ‘data’ directory ... OK
* checking data for non-ASCII characters ... OK
* checking LazyData ... OK
* checking data for ASCII and uncompressed saves ... OK
* checking files in ‘vignettes’ ... OK
* checking examples ... OK
Examples with CPU (user + system) or elapsed time > 5s
user system elapsed
knnClassify 17.358 0.096 17.479
ggplot.well 5.811 0.084 5.901
* checking for unstated dependencies in ‘tests’ ... OK
* checking tests ...
Running ‘testthat.R’
OK
* checking for unstated dependencies in vignettes ... OK
* checking package vignettes in ‘inst/doc’ ... OK
* checking running R code from vignettes ... SKIPPED
* checking re-building of vignette outputs ... SKIPPED
* checking PDF version of manual ... OK
* DONE
Status: 1 NOTE
See
‘/home/biocbuild/bbs-3.18-bioc/meat/twoddpcr.Rcheck/00check.log’
for details.
twoddpcr.Rcheck/00install.out
############################################################################## ############################################################################## ### ### Running command: ### ### /home/biocbuild/R/R-4.3.1/bin/R CMD INSTALL twoddpcr ### ############################################################################## ############################################################################## * installing to library ‘/home/biocbuild/R/R-4.3.1/site-library’ * installing *source* package ‘twoddpcr’ ... ** using staged installation ** R ** data *** moving datasets to lazyload DB ** inst ** byte-compile and prepare package for lazy loading ** help *** installing help indices ** building package indices ** installing vignettes ** testing if installed package can be loaded from temporary location ** testing if installed package can be loaded from final location ** testing if installed package keeps a record of temporary installation path * DONE (twoddpcr)
twoddpcr.Rcheck/tests/testthat.Rout
R version 4.3.1 (2023-06-16) -- "Beagle Scouts"
Copyright (C) 2023 The R Foundation for Statistical Computing
Platform: aarch64-unknown-linux-gnu (64-bit)
R is free software and comes with ABSOLUTELY NO WARRANTY.
You are welcome to redistribute it under certain conditions.
Type 'license()' or 'licence()' for distribution details.
R is a collaborative project with many contributors.
Type 'contributors()' for more information and
'citation()' on how to cite R or R packages in publications.
Type 'demo()' for some demos, 'help()' for on-line help, or
'help.start()' for an HTML browser interface to help.
Type 'q()' to quit R.
> library(testthat)
> library(twoddpcr)
>
> test_check("twoddpcr")
[ FAIL 0 | WARN 2 | SKIP 0 | PASS 155 ]
[ FAIL 0 | WARN 2 | SKIP 0 | PASS 155 ]
>
> proc.time()
user system elapsed
8.264 0.296 8.568
twoddpcr.Rcheck/twoddpcr-Ex.timings
| name | user | system | elapsed | |
| amplitudes | 0.431 | 0.012 | 0.444 | |
| basicsSummary | 0.006 | 0.000 | 0.007 | |
| castSummary | 0.023 | 0.000 | 0.023 | |
| classCov | 0.075 | 0.000 | 0.076 | |
| classMeans | 0.086 | 0.000 | 0.086 | |
| classStats | 0.101 | 0.000 | 0.101 | |
| clusterCentres | 0.962 | 0.004 | 0.967 | |
| copiesSummary | 0.006 | 0.000 | 0.006 | |
| ddpcrPlate-class | 0.506 | 0.000 | 0.509 | |
| ddpcrWell-class | 0.027 | 0.000 | 0.028 | |
| ddpcrWell-methods | 0.293 | 0.003 | 0.297 | |
| dropletPlot | 3.976 | 0.092 | 4.073 | |
| exportTable | 0.178 | 0.012 | 0.191 | |
| extractPlateName | 0 | 0 | 0 | |
| extractWellNames | 0 | 0 | 0 | |
| facetPlot | 2.614 | 0.080 | 2.699 | |
| flatPlot | 4.363 | 0.096 | 4.466 | |
| fullCopiesSummary | 0.008 | 0.000 | 0.008 | |
| fullCountsSummary | 0.032 | 0.004 | 0.036 | |
| ggplot.well | 5.811 | 0.084 | 5.901 | |
| gridClassify | 4.525 | 0.095 | 4.628 | |
| heatPlot | 1.769 | 0.008 | 1.779 | |
| kmeansClassify | 1.528 | 0.072 | 1.602 | |
| knnClassify | 17.358 | 0.096 | 17.479 | |
| mahalanobisRain | 1.060 | 0.020 | 1.083 | |
| mutantCopiesSummary | 0.005 | 0.000 | 0.005 | |
| numDroplets | 0.32 | 0.00 | 0.32 | |
| parseClusterCounts | 0.015 | 0.000 | 0.015 | |
| plateClassification | 1.431 | 0.008 | 1.443 | |
| plateClassificationMethod | 0.506 | 0.001 | 0.509 | |
| plateSummary | 2.139 | 0.002 | 2.145 | |
| positiveCounts | 0.032 | 0.000 | 0.031 | |
| readCSVDataFrame | 0.016 | 0.000 | 0.016 | |
| relabelClasses | 0.059 | 0.000 | 0.060 | |
| removeDropletClasses | 0.963 | 0.004 | 0.970 | |
| renormalisePlate | 4.691 | 0.000 | 4.700 | |
| sdRain | 3.343 | 0.008 | 3.358 | |
| setChannelNames | 0.001 | 0.000 | 0.002 | |
| setDropletVolume | 0.000 | 0.000 | 0.001 | |
| sortDataFrame | 0.003 | 0.000 | 0.002 | |
| sortWells | 0.348 | 0.000 | 0.348 | |
| thresholdClassify | 1.940 | 0.004 | 1.947 | |
| wellClassification | 0.028 | 0.000 | 0.027 | |
| wellClassificationMethod | 0.026 | 0.000 | 0.026 | |
| whiteTheme | 1.174 | 0.012 | 1.189 | |
| wildTypeCopiesSummary | 0.005 | 0.000 | 0.005 | |