| Back to Multiple platform build/check report for BioC 3.18: simplified long |
|
This page was generated on 2024-03-04 11:37:59 -0500 (Mon, 04 Mar 2024).
| Hostname | OS | Arch (*) | R version | Installed pkgs |
|---|---|---|---|---|
| nebbiolo2 | Linux (Ubuntu 22.04.3 LTS) | x86_64 | 4.3.2 Patched (2023-11-13 r85521) -- "Eye Holes" | 4692 |
| palomino4 | Windows Server 2022 Datacenter | x64 | 4.3.2 (2023-10-31 ucrt) -- "Eye Holes" | 4445 |
| lconway | macOS 12.7.1 Monterey | x86_64 | 4.3.2 Patched (2023-11-01 r85457) -- "Eye Holes" | 4466 |
| Click on any hostname to see more info about the system (e.g. compilers) (*) as reported by 'uname -p', except on Windows and Mac OS X | ||||
| Package 2196/2266 | Hostname | OS / Arch | INSTALL | BUILD | CHECK | BUILD BIN | ||||||||
| twoddpcr 1.26.0 (landing page) Anthony Chiu
| nebbiolo2 | Linux (Ubuntu 22.04.3 LTS) / x86_64 | OK | OK | OK | |||||||||
| palomino4 | Windows Server 2022 Datacenter / x64 | OK | OK | OK | OK | |||||||||
| lconway | macOS 12.7.1 Monterey / x86_64 | OK | OK | OK | OK | |||||||||
| kjohnson1 | macOS 13.6.1 Ventura / arm64 | see weekly results here | ||||||||||||
|
To the developers/maintainers of the twoddpcr package: - Allow up to 24 hours (and sometimes 48 hours) for your latest push to git@git.bioconductor.org:packages/twoddpcr.git to reflect on this report. See Troubleshooting Build Report for more information. - Use the following Renviron settings to reproduce errors and warnings. - If 'R CMD check' started to fail recently on the Linux builder(s) over a missing dependency, add the missing dependency to 'Suggests:' in your DESCRIPTION file. See Renviron.bioc for more information. |
| Package: twoddpcr |
| Version: 1.26.0 |
| Command: /Library/Frameworks/R.framework/Resources/bin/R CMD check --install=check:twoddpcr.install-out.txt --library=/Library/Frameworks/R.framework/Resources/library --no-vignettes --timings twoddpcr_1.26.0.tar.gz |
| StartedAt: 2024-03-04 00:05:29 -0500 (Mon, 04 Mar 2024) |
| EndedAt: 2024-03-04 00:07:47 -0500 (Mon, 04 Mar 2024) |
| EllapsedTime: 137.8 seconds |
| RetCode: 0 |
| Status: OK |
| CheckDir: twoddpcr.Rcheck |
| Warnings: 0 |
##############################################################################
##############################################################################
###
### Running command:
###
### /Library/Frameworks/R.framework/Resources/bin/R CMD check --install=check:twoddpcr.install-out.txt --library=/Library/Frameworks/R.framework/Resources/library --no-vignettes --timings twoddpcr_1.26.0.tar.gz
###
##############################################################################
##############################################################################
* using log directory ‘/Users/biocbuild/bbs-3.18-bioc/meat/twoddpcr.Rcheck’
* using R version 4.3.2 Patched (2023-11-01 r85457)
* using platform: x86_64-apple-darwin20 (64-bit)
* R was compiled by
Apple clang version 14.0.3 (clang-1403.0.22.14.1)
GNU Fortran (GCC) 12.2.0
* running under: macOS Monterey 12.7.1
* using session charset: UTF-8
* using option ‘--no-vignettes’
* checking for file ‘twoddpcr/DESCRIPTION’ ... OK
* this is package ‘twoddpcr’ version ‘1.26.0’
* checking package namespace information ... OK
* checking package dependencies ... OK
* checking if this is a source package ... OK
* checking if there is a namespace ... OK
* checking for hidden files and directories ... OK
* checking for portable file names ... OK
* checking for sufficient/correct file permissions ... OK
* checking whether package ‘twoddpcr’ can be installed ... OK
* checking installed package size ... OK
* checking package directory ... OK
* checking ‘build’ directory ... OK
* checking DESCRIPTION meta-information ... OK
* checking top-level files ... OK
* checking for left-over files ... OK
* checking index information ... OK
* checking package subdirectories ... OK
* checking R files for non-ASCII characters ... OK
* checking R files for syntax errors ... OK
* checking whether the package can be loaded ... OK
* checking whether the package can be loaded with stated dependencies ... OK
* checking whether the package can be unloaded cleanly ... OK
* checking whether the namespace can be loaded with stated dependencies ... OK
* checking whether the namespace can be unloaded cleanly ... OK
* checking dependencies in R code ... OK
* checking S3 generic/method consistency ... OK
* checking replacement functions ... OK
* checking foreign function calls ... OK
* checking R code for possible problems ... OK
* checking Rd files ... OK
* checking Rd metadata ... OK
* checking Rd cross-references ... OK
* checking for missing documentation entries ... OK
* checking for code/documentation mismatches ... OK
* checking Rd \usage sections ... NOTE
S3 methods shown with full name in documentation object 'ggplot.well':
‘ggplot.well’ ‘ggplot.plate’
The \usage entries for S3 methods should use the \method markup and not
their full name.
See chapter ‘Writing R documentation files’ in the ‘Writing R
Extensions’ manual.
* checking Rd contents ... OK
* checking for unstated dependencies in examples ... OK
* checking contents of ‘data’ directory ... OK
* checking data for non-ASCII characters ... OK
* checking LazyData ... OK
* checking data for ASCII and uncompressed saves ... OK
* checking files in ‘vignettes’ ... OK
* checking examples ... OK
Examples with CPU (user + system) or elapsed time > 5s
user system elapsed
knnClassify 9.568 0.222 9.851
ggplot.well 6.274 0.270 6.584
gridClassify 5.184 0.161 5.369
* checking for unstated dependencies in ‘tests’ ... OK
* checking tests ...
Running ‘testthat.R’
OK
* checking for unstated dependencies in vignettes ... OK
* checking package vignettes in ‘inst/doc’ ... OK
* checking running R code from vignettes ... SKIPPED
* checking re-building of vignette outputs ... SKIPPED
* checking PDF version of manual ... OK
* DONE
Status: 1 NOTE
See
‘/Users/biocbuild/bbs-3.18-bioc/meat/twoddpcr.Rcheck/00check.log’
for details.
twoddpcr.Rcheck/00install.out
############################################################################## ############################################################################## ### ### Running command: ### ### /Library/Frameworks/R.framework/Resources/bin/R CMD INSTALL twoddpcr ### ############################################################################## ############################################################################## * installing to library ‘/Library/Frameworks/R.framework/Versions/4.3-x86_64/Resources/library’ * installing *source* package ‘twoddpcr’ ... ** using staged installation ** R ** data *** moving datasets to lazyload DB ** inst ** byte-compile and prepare package for lazy loading ** help *** installing help indices ** building package indices ** installing vignettes ** testing if installed package can be loaded from temporary location ** testing if installed package can be loaded from final location ** testing if installed package keeps a record of temporary installation path * DONE (twoddpcr)
twoddpcr.Rcheck/tests/testthat.Rout
R version 4.3.2 Patched (2023-11-01 r85457) -- "Eye Holes"
Copyright (C) 2023 The R Foundation for Statistical Computing
Platform: x86_64-apple-darwin20 (64-bit)
R is free software and comes with ABSOLUTELY NO WARRANTY.
You are welcome to redistribute it under certain conditions.
Type 'license()' or 'licence()' for distribution details.
R is a collaborative project with many contributors.
Type 'contributors()' for more information and
'citation()' on how to cite R or R packages in publications.
Type 'demo()' for some demos, 'help()' for on-line help, or
'help.start()' for an HTML browser interface to help.
Type 'q()' to quit R.
> library(testthat)
> library(twoddpcr)
>
> test_check("twoddpcr")
[ FAIL 0 | WARN 3 | SKIP 0 | PASS 155 ]
[ FAIL 0 | WARN 3 | SKIP 0 | PASS 155 ]
>
> proc.time()
user system elapsed
7.003 0.570 7.642
twoddpcr.Rcheck/twoddpcr-Ex.timings
| name | user | system | elapsed | |
| amplitudes | 0.318 | 0.025 | 0.344 | |
| basicsSummary | 0.004 | 0.000 | 0.004 | |
| castSummary | 0.019 | 0.004 | 0.024 | |
| classCov | 0.056 | 0.008 | 0.063 | |
| classMeans | 0.071 | 0.011 | 0.083 | |
| classStats | 0.075 | 0.014 | 0.090 | |
| clusterCentres | 0.768 | 0.054 | 0.828 | |
| copiesSummary | 0.005 | 0.001 | 0.006 | |
| ddpcrPlate-class | 0.317 | 0.013 | 0.332 | |
| ddpcrWell-class | 0.031 | 0.002 | 0.034 | |
| ddpcrWell-methods | 0.282 | 0.010 | 0.293 | |
| dropletPlot | 3.968 | 0.212 | 4.215 | |
| exportTable | 0.191 | 0.026 | 0.237 | |
| extractPlateName | 0.000 | 0.000 | 0.001 | |
| extractWellNames | 0.000 | 0.001 | 0.001 | |
| facetPlot | 2.209 | 0.116 | 2.340 | |
| flatPlot | 3.561 | 0.221 | 3.821 | |
| fullCopiesSummary | 0.005 | 0.001 | 0.005 | |
| fullCountsSummary | 0.020 | 0.004 | 0.024 | |
| ggplot.well | 6.274 | 0.270 | 6.584 | |
| gridClassify | 5.184 | 0.161 | 5.369 | |
| heatPlot | 1.451 | 0.062 | 1.523 | |
| kmeansClassify | 1.225 | 0.067 | 1.299 | |
| knnClassify | 9.568 | 0.222 | 9.851 | |
| mahalanobisRain | 0.650 | 0.058 | 0.710 | |
| mutantCopiesSummary | 0.003 | 0.001 | 0.004 | |
| numDroplets | 0.285 | 0.003 | 0.291 | |
| parseClusterCounts | 0.014 | 0.002 | 0.016 | |
| plateClassification | 0.983 | 0.048 | 1.034 | |
| plateClassificationMethod | 0.302 | 0.007 | 0.310 | |
| plateSummary | 1.619 | 0.038 | 1.669 | |
| positiveCounts | 0.027 | 0.000 | 0.028 | |
| readCSVDataFrame | 0.013 | 0.004 | 0.018 | |
| relabelClasses | 0.151 | 0.012 | 0.164 | |
| removeDropletClasses | 0.766 | 0.042 | 0.823 | |
| renormalisePlate | 3.597 | 0.201 | 3.819 | |
| sdRain | 2.565 | 0.052 | 2.634 | |
| setChannelNames | 0.001 | 0.001 | 0.002 | |
| setDropletVolume | 0.000 | 0.001 | 0.000 | |
| sortDataFrame | 0.002 | 0.001 | 0.004 | |
| sortWells | 0.300 | 0.003 | 0.304 | |
| thresholdClassify | 1.852 | 0.058 | 1.924 | |
| wellClassification | 0.023 | 0.001 | 0.024 | |
| wellClassificationMethod | 0.024 | 0.001 | 0.025 | |
| whiteTheme | 1.531 | 0.047 | 1.588 | |
| wildTypeCopiesSummary | 0.005 | 0.002 | 0.006 | |