| Back to Multiple platform build/check report for BioC 3.18: simplified long |
|
This page was generated on 2023-10-24 11:41:35 -0400 (Tue, 24 Oct 2023).
| Hostname | OS | Arch (*) | R version | Installed pkgs |
|---|---|---|---|---|
| nebbiolo2 | Linux (Ubuntu 22.04.2 LTS) | x86_64 | 4.3.1 (2023-06-16) -- "Beagle Scouts" | 4724 |
| palomino4 | Windows Server 2022 Datacenter | x64 | 4.3.1 (2023-06-16 ucrt) -- "Beagle Scouts" | 4459 |
| lconway | macOS 12.6.5 Monterey | x86_64 | 4.3.1 Patched (2023-06-17 r84564) -- "Beagle Scouts" | 4473 |
| kunpeng2 | Linux (openEuler 22.03 LTS-SP1) | aarch64 | 4.3.1 (2023-06-16) -- "Beagle Scouts" | 4461 |
| Click on any hostname to see more info about the system (e.g. compilers) (*) as reported by 'uname -p', except on Windows and Mac OS X | ||||
| Package 2053/2264 | Hostname | OS / Arch | INSTALL | BUILD | CHECK | BUILD BIN | ||||||||
| standR 1.5.3 (landing page) Ning Liu
| nebbiolo2 | Linux (Ubuntu 22.04.2 LTS) / x86_64 | OK | OK | OK | |||||||||
| palomino4 | Windows Server 2022 Datacenter / x64 | OK | OK | OK | OK | |||||||||
| lconway | macOS 12.6.5 Monterey / x86_64 | OK | ERROR | skipped | skipped | |||||||||
| kjohnson1 | macOS 13.3.1 Ventura / arm64 | see weekly results here | ||||||||||||
| kunpeng2 | Linux (openEuler 22.03 LTS-SP1) / aarch64 | OK | OK | OK | ||||||||||
|
To the developers/maintainers of the standR package: - Allow up to 24 hours (and sometimes 48 hours) for your latest push to git@git.bioconductor.org:packages/standR.git to reflect on this report. See Troubleshooting Build Report for more information. - Use the following Renviron settings to reproduce errors and warnings. - If 'R CMD check' started to fail recently on the Linux builder(s) over a missing dependency, add the missing dependency to 'Suggests:' in your DESCRIPTION file. See Renviron.bioc for more information. - See Martin Grigorov's blog post for how to debug Linux ARM64 related issues on a x86_64 host. |
| Package: standR |
| Version: 1.5.3 |
| Command: /home/biocbuild/R/R-4.3.1/bin/R CMD check --install=check:standR.install-out.txt --library=/home/biocbuild/R/R-4.3.1/site-library --timings standR_1.5.3.tar.gz |
| StartedAt: 2023-10-24 13:47:53 -0000 (Tue, 24 Oct 2023) |
| EndedAt: 2023-10-24 13:56:30 -0000 (Tue, 24 Oct 2023) |
| EllapsedTime: 516.9 seconds |
| RetCode: 0 |
| Status: OK |
| CheckDir: standR.Rcheck |
| Warnings: 0 |
##############################################################################
##############################################################################
###
### Running command:
###
### /home/biocbuild/R/R-4.3.1/bin/R CMD check --install=check:standR.install-out.txt --library=/home/biocbuild/R/R-4.3.1/site-library --timings standR_1.5.3.tar.gz
###
##############################################################################
##############################################################################
* using log directory ‘/home/biocbuild/bbs-3.18-bioc/meat/standR.Rcheck’
* using R version 4.3.1 (2023-06-16)
* using platform: aarch64-unknown-linux-gnu (64-bit)
* R was compiled by
gcc (GCC) 10.3.1
GNU Fortran (GCC) 10.3.1
* running under: openEuler 22.03 (LTS-SP1)
* using session charset: UTF-8
* checking for file ‘standR/DESCRIPTION’ ... OK
* this is package ‘standR’ version ‘1.5.3’
* package encoding: UTF-8
* checking package namespace information ... OK
* checking package dependencies ... OK
* checking if this is a source package ... OK
* checking if there is a namespace ... OK
* checking for hidden files and directories ... OK
* checking for portable file names ... OK
* checking for sufficient/correct file permissions ... OK
* checking whether package ‘standR’ can be installed ... OK
* checking installed package size ... OK
* checking package directory ... OK
* checking ‘build’ directory ... OK
* checking DESCRIPTION meta-information ... OK
* checking top-level files ... OK
* checking for left-over files ... OK
* checking index information ... OK
* checking package subdirectories ... OK
* checking R files for non-ASCII characters ... OK
* checking R files for syntax errors ... OK
* checking whether the package can be loaded ... OK
* checking whether the package can be loaded with stated dependencies ... OK
* checking whether the package can be unloaded cleanly ... OK
* checking whether the namespace can be loaded with stated dependencies ... OK
* checking whether the namespace can be unloaded cleanly ... OK
* checking loading without being on the library search path ... OK
* checking dependencies in R code ... OK
* checking S3 generic/method consistency ... OK
* checking replacement functions ... OK
* checking foreign function calls ... OK
* checking R code for possible problems ... OK
* checking Rd files ... OK
* checking Rd metadata ... OK
* checking Rd cross-references ... OK
* checking for missing documentation entries ... OK
* checking for code/documentation mismatches ... OK
* checking Rd \usage sections ... OK
* checking Rd contents ... OK
* checking for unstated dependencies in examples ... OK
* checking contents of ‘data’ directory ... OK
* checking data for non-ASCII characters ... OK
* checking data for ASCII and uncompressed saves ... OK
* checking files in ‘vignettes’ ... OK
* checking examples ... OK
Examples with CPU (user + system) or elapsed time > 5s
user system elapsed
prepareSpatialDecon 11.068 1.393 15.319
readGeoMx 7.062 1.273 11.143
findBestK 7.543 0.164 7.721
* checking for unstated dependencies in ‘tests’ ... OK
* checking tests ...
Running ‘testthat.R’
OK
* checking for unstated dependencies in vignettes ... OK
* checking package vignettes in ‘inst/doc’ ... OK
* checking running R code from vignettes ...
‘Quick_start.Rmd’ using ‘UTF-8’... OK
NONE
* checking re-building of vignette outputs ... OK
* checking PDF version of manual ... OK
* DONE
Status: OK
standR.Rcheck/00install.out
############################################################################## ############################################################################## ### ### Running command: ### ### /home/biocbuild/R/R-4.3.1/bin/R CMD INSTALL standR ### ############################################################################## ############################################################################## * installing to library ‘/home/biocbuild/R/R-4.3.1/site-library’ * installing *source* package ‘standR’ ... ** using staged installation ** R ** data ** inst ** byte-compile and prepare package for lazy loading in method for ‘drawPCA’ with signature ‘"DGEList"’: no definition for class “DGEList” in method for ‘drawPCA’ with signature ‘"SpatialExperiment"’: no definition for class “SpatialExperiment” in method for ‘plotDR’ with signature ‘"SpatialExperiment","ANY"’: no definition for class “SpatialExperiment” in method for ‘plotMDS’ with signature ‘"DGEList","ANY","ANY","ANY"’: no definition for class “DGEList” in method for ‘plotMDS’ with signature ‘"SpatialExperiment"’: no definition for class “SpatialExperiment” in method for ‘plotRLExpr’ with signature ‘"DGEList","ANY"’: no definition for class “DGEList” ** help *** installing help indices *** copying figures ** building package indices ** installing vignettes ** testing if installed package can be loaded from temporary location ** testing if installed package can be loaded from final location ** testing if installed package keeps a record of temporary installation path * DONE (standR)
standR.Rcheck/tests/testthat.Rout
R version 4.3.1 (2023-06-16) -- "Beagle Scouts"
Copyright (C) 2023 The R Foundation for Statistical Computing
Platform: aarch64-unknown-linux-gnu (64-bit)
R is free software and comes with ABSOLUTELY NO WARRANTY.
You are welcome to redistribute it under certain conditions.
Type 'license()' or 'licence()' for distribution details.
R is a collaborative project with many contributors.
Type 'contributors()' for more information and
'citation()' on how to cite R or R packages in publications.
Type 'demo()' for some demos, 'help()' for on-line help, or
'help.start()' for an HTML browser interface to help.
Type 'q()' to quit R.
> library(testthat)
> library(standR)
>
> test_check("standR")
Loading required package: SpatialExperiment
Loading required package: SingleCellExperiment
Loading required package: SummarizedExperiment
Loading required package: MatrixGenerics
Loading required package: matrixStats
Attaching package: 'MatrixGenerics'
The following objects are masked from 'package:matrixStats':
colAlls, colAnyNAs, colAnys, colAvgsPerRowSet, colCollapse,
colCounts, colCummaxs, colCummins, colCumprods, colCumsums,
colDiffs, colIQRDiffs, colIQRs, colLogSumExps, colMadDiffs,
colMads, colMaxs, colMeans2, colMedians, colMins, colOrderStats,
colProds, colQuantiles, colRanges, colRanks, colSdDiffs, colSds,
colSums2, colTabulates, colVarDiffs, colVars, colWeightedMads,
colWeightedMeans, colWeightedMedians, colWeightedSds,
colWeightedVars, rowAlls, rowAnyNAs, rowAnys, rowAvgsPerColSet,
rowCollapse, rowCounts, rowCummaxs, rowCummins, rowCumprods,
rowCumsums, rowDiffs, rowIQRDiffs, rowIQRs, rowLogSumExps,
rowMadDiffs, rowMads, rowMaxs, rowMeans2, rowMedians, rowMins,
rowOrderStats, rowProds, rowQuantiles, rowRanges, rowRanks,
rowSdDiffs, rowSds, rowSums2, rowTabulates, rowVarDiffs, rowVars,
rowWeightedMads, rowWeightedMeans, rowWeightedMedians,
rowWeightedSds, rowWeightedVars
Loading required package: GenomicRanges
Loading required package: stats4
Loading required package: BiocGenerics
Attaching package: 'BiocGenerics'
The following objects are masked from 'package:stats':
IQR, mad, sd, var, xtabs
The following objects are masked from 'package:base':
Filter, Find, Map, Position, Reduce, anyDuplicated, aperm, append,
as.data.frame, basename, cbind, colnames, dirname, do.call,
duplicated, eval, evalq, get, grep, grepl, intersect, is.unsorted,
lapply, mapply, match, mget, order, paste, pmax, pmax.int, pmin,
pmin.int, rank, rbind, rownames, sapply, setdiff, sort, table,
tapply, union, unique, unsplit, which.max, which.min
Loading required package: S4Vectors
Attaching package: 'S4Vectors'
The following object is masked from 'package:utils':
findMatches
The following objects are masked from 'package:base':
I, expand.grid, unname
Loading required package: IRanges
Loading required package: GenomeInfoDb
Loading required package: Biobase
Welcome to Bioconductor
Vignettes contain introductory material; view with
'browseVignettes()'. To cite Bioconductor, see
'citation("Biobase")', and for packages 'citation("pkgname")'.
Attaching package: 'Biobase'
The following object is masked from 'package:MatrixGenerics':
rowMedians
The following objects are masked from 'package:matrixStats':
anyMissing, rowMedians
New names:
* `cv` -> `cv...1`
* `cv` -> `cv...2`
* `cv` -> `cv...3`
* `cv` -> `cv...4`
* `cv` -> `cv...5`
* `cv` -> `cv...6`
* `cv` -> `cv...7`
New names:
* `cv` -> `cv...1`
* `cv` -> `cv...2`
* `cv` -> `cv...3`
* `cv` -> `cv...4`
* `cv` -> `cv...5`
* `cv` -> `cv...6`
* `cv` -> `cv...7`
Rows: 18504 Columns: 232
-- Column specification --------------------------------------------------------
Delimiter: "\t"
chr (1): TargetName
dbl (231): disease3_scan | 001 | PanCK, disease3_scan | 001 | neg, disease3_...
i Use `spec()` to retrieve the full column specification for this data.
i Specify the column types or set `show_col_types = FALSE` to quiet this message.
Rows: 231 Columns: 25
-- Column specification --------------------------------------------------------
Delimiter: "\t"
chr (8): SlideName, ScanName, SegmentLabel, SegmentDisplayName, Sample_ID, ...
dbl (17): ROILabel, AOISurfaceArea, AOINucleiCount, ROICoordinateX, ROICoord...
i Use `spec()` to retrieve the full column specification for this data.
i Specify the column types or set `show_col_types = FALSE` to quiet this message.
Rows: 18504 Columns: 232
-- Column specification --------------------------------------------------------
Delimiter: "\t"
chr (1): TargetName
dbl (231): disease3_scan | 001 | PanCK, disease3_scan | 001 | neg, disease3_...
i Use `spec()` to retrieve the full column specification for this data.
i Specify the column types or set `show_col_types = FALSE` to quiet this message.
Rows: 18504 Columns: 232
-- Column specification --------------------------------------------------------
Delimiter: "\t"
chr (1): TargetName
dbl (231): disease3_scan | 001 | PanCK, disease3_scan | 001 | neg, disease3_...
i Use `spec()` to retrieve the full column specification for this data.
i Specify the column types or set `show_col_types = FALSE` to quiet this message.
Rows: 231 Columns: 25
-- Column specification --------------------------------------------------------
Delimiter: "\t"
chr (8): SlideName, ScanName, SegmentLabel, SegmentDisplayName, Sample_ID, ...
dbl (17): ROILabel, AOISurfaceArea, AOINucleiCount, ROICoordinateX, ROICoord...
i Use `spec()` to retrieve the full column specification for this data.
i Specify the column types or set `show_col_types = FALSE` to quiet this message.
Loading required namespace: scater
Loading required package: scuttle
Loading required package: ggplot2
Attaching package: 'scater'
The following object is masked from 'package:standR':
plotMDS
Loading required package: AnnotationHub
Loading required package: BiocFileCache
Loading required package: dbplyr
Attaching package: 'AnnotationHub'
The following object is masked from 'package:Biobase':
cache
see ?standR and browseVignettes('standR') for documentation
loading from cache
see ?standR and browseVignettes('standR') for documentation
loading from cache
Rows: 18504 Columns: 232
-- Column specification --------------------------------------------------------
Delimiter: "\t"
chr (1): TargetName
dbl (231): disease3_scan | 001 | PanCK, disease3_scan | 001 | neg, disease3_...
i Use `spec()` to retrieve the full column specification for this data.
i Specify the column types or set `show_col_types = FALSE` to quiet this message.
Rows: 231 Columns: 25
-- Column specification --------------------------------------------------------
Delimiter: "\t"
chr (8): SlideName, ScanName, SegmentLabel, SegmentDisplayName, Sample_ID, ...
dbl (17): ROILabel, AOISurfaceArea, AOINucleiCount, ROICoordinateX, ROICoord...
i Use `spec()` to retrieve the full column specification for this data.
i Specify the column types or set `show_col_types = FALSE` to quiet this message.
[ FAIL 0 | WARN 0 | SKIP 0 | PASS 104 ]
>
> proc.time()
user system elapsed
79.266 6.532 115.881
standR.Rcheck/standR-Ex.timings
| name | user | system | elapsed | |
| addPerROIQC | 1.294 | 0.036 | 1.333 | |
| computeClusterEvalStats | 2.327 | 0.071 | 2.406 | |
| dkd_spe_subset | 0.045 | 0.004 | 0.049 | |
| drawPCA | 0.463 | 0.008 | 0.472 | |
| findBestK | 7.543 | 0.164 | 7.721 | |
| findNCGs | 2.124 | 0.052 | 2.180 | |
| geomxBatchCorrection | 1.606 | 0.004 | 1.614 | |
| geomxNorm | 1.708 | 0.008 | 1.720 | |
| plotClusterEvalStats | 2.915 | 0.020 | 2.941 | |
| plotDR | 0.696 | 0.012 | 0.709 | |
| plotGeneQC | 1.604 | 0.008 | 1.615 | |
| plotMDS | 1.200 | 0.012 | 1.219 | |
| plotPCAbiplot | 0.557 | 0.004 | 0.563 | |
| plotPairPCA | 1.338 | 0.004 | 1.344 | |
| plotRLExpr | 2.087 | 0.020 | 2.112 | |
| plotROIQC | 1.337 | 0.024 | 1.363 | |
| plotSampleInfo | 1.098 | 0.000 | 1.101 | |
| plotScreePCA | 0.395 | 0.000 | 0.396 | |
| prepareSpatialDecon | 11.068 | 1.393 | 15.319 | |
| readGeoMx | 7.062 | 1.273 | 11.143 | |
| readGeoMxFromDGE | 0.414 | 0.036 | 0.451 | |
| spe2dge | 0.872 | 0.100 | 0.973 | |