| Back to Multiple platform build/check report for BioC 3.18: simplified long |
|
This page was generated on 2024-04-17 11:36:26 -0400 (Wed, 17 Apr 2024).
| Hostname | OS | Arch (*) | R version | Installed pkgs |
|---|---|---|---|---|
| nebbiolo2 | Linux (Ubuntu 22.04.3 LTS) | x86_64 | 4.3.3 (2024-02-29) -- "Angel Food Cake" | 4676 |
| palomino4 | Windows Server 2022 Datacenter | x64 | 4.3.3 (2024-02-29 ucrt) -- "Angel Food Cake" | 4414 |
| merida1 | macOS 12.7.1 Monterey | x86_64 | 4.3.3 (2024-02-29) -- "Angel Food Cake" | 4437 |
| Click on any hostname to see more info about the system (e.g. compilers) (*) as reported by 'uname -p', except on Windows and Mac OS X | ||||
| Package 2055/2266 | Hostname | OS / Arch | INSTALL | BUILD | CHECK | BUILD BIN | ||||||||
| standR 1.6.0 (landing page) Ning Liu
| nebbiolo2 | Linux (Ubuntu 22.04.3 LTS) / x86_64 | OK | OK | OK | |||||||||
| palomino4 | Windows Server 2022 Datacenter / x64 | OK | OK | OK | OK | |||||||||
| merida1 | macOS 12.7.1 Monterey / x86_64 | OK | OK | OK | OK | |||||||||
| kjohnson1 | macOS 13.6.1 Ventura / arm64 | see weekly results here | ||||||||||||
|
To the developers/maintainers of the standR package: - Allow up to 24 hours (and sometimes 48 hours) for your latest push to git@git.bioconductor.org:packages/standR.git to reflect on this report. See Troubleshooting Build Report for more information. - Use the following Renviron settings to reproduce errors and warnings. - If 'R CMD check' started to fail recently on the Linux builder(s) over a missing dependency, add the missing dependency to 'Suggests:' in your DESCRIPTION file. See Renviron.bioc for more information. |
| Package: standR |
| Version: 1.6.0 |
| Command: /home/biocbuild/bbs-3.18-bioc/R/bin/R CMD check --install=check:standR.install-out.txt --library=/home/biocbuild/bbs-3.18-bioc/R/site-library --timings standR_1.6.0.tar.gz |
| StartedAt: 2024-04-16 04:26:33 -0400 (Tue, 16 Apr 2024) |
| EndedAt: 2024-04-16 04:33:46 -0400 (Tue, 16 Apr 2024) |
| EllapsedTime: 432.9 seconds |
| RetCode: 0 |
| Status: OK |
| CheckDir: standR.Rcheck |
| Warnings: 0 |
##############################################################################
##############################################################################
###
### Running command:
###
### /home/biocbuild/bbs-3.18-bioc/R/bin/R CMD check --install=check:standR.install-out.txt --library=/home/biocbuild/bbs-3.18-bioc/R/site-library --timings standR_1.6.0.tar.gz
###
##############################################################################
##############################################################################
* using log directory ‘/home/biocbuild/bbs-3.18-bioc/meat/standR.Rcheck’
* using R version 4.3.3 (2024-02-29)
* using platform: x86_64-pc-linux-gnu (64-bit)
* R was compiled by
gcc (Ubuntu 11.4.0-1ubuntu1~22.04) 11.4.0
GNU Fortran (Ubuntu 11.4.0-1ubuntu1~22.04) 11.4.0
* running under: Ubuntu 22.04.4 LTS
* using session charset: UTF-8
* checking for file ‘standR/DESCRIPTION’ ... OK
* this is package ‘standR’ version ‘1.6.0’
* package encoding: UTF-8
* checking package namespace information ... OK
* checking package dependencies ... OK
* checking if this is a source package ... OK
* checking if there is a namespace ... OK
* checking for hidden files and directories ... OK
* checking for portable file names ... OK
* checking for sufficient/correct file permissions ... OK
* checking whether package ‘standR’ can be installed ... OK
* checking installed package size ... OK
* checking package directory ... OK
* checking ‘build’ directory ... OK
* checking DESCRIPTION meta-information ... OK
* checking top-level files ... OK
* checking for left-over files ... OK
* checking index information ... OK
* checking package subdirectories ... OK
* checking R files for non-ASCII characters ... OK
* checking R files for syntax errors ... OK
* checking whether the package can be loaded ... OK
* checking whether the package can be loaded with stated dependencies ... OK
* checking whether the package can be unloaded cleanly ... OK
* checking whether the namespace can be loaded with stated dependencies ... OK
* checking whether the namespace can be unloaded cleanly ... OK
* checking loading without being on the library search path ... OK
* checking dependencies in R code ... OK
* checking S3 generic/method consistency ... OK
* checking replacement functions ... OK
* checking foreign function calls ... OK
* checking R code for possible problems ... OK
* checking Rd files ... OK
* checking Rd metadata ... OK
* checking Rd cross-references ... OK
* checking for missing documentation entries ... OK
* checking for code/documentation mismatches ... OK
* checking Rd \usage sections ... OK
* checking Rd contents ... OK
* checking for unstated dependencies in examples ... OK
* checking contents of ‘data’ directory ... OK
* checking data for non-ASCII characters ... OK
* checking data for ASCII and uncompressed saves ... OK
* checking files in ‘vignettes’ ... OK
* checking examples ... OK
Examples with CPU (user + system) or elapsed time > 5s
user system elapsed
prepareSpatialDecon 8.649 1.085 9.067
readGeoMx 5.841 0.998 5.581
findBestK 4.814 0.257 5.070
* checking for unstated dependencies in ‘tests’ ... OK
* checking tests ...
Running ‘testthat.R’
OK
* checking for unstated dependencies in vignettes ... OK
* checking package vignettes in ‘inst/doc’ ... OK
* checking running R code from vignettes ...
‘Quick_start.Rmd’ using ‘UTF-8’... OK
OK
* checking re-building of vignette outputs ... OK
* checking PDF version of manual ... OK
* DONE
Status: OK
standR.Rcheck/00install.out
############################################################################## ############################################################################## ### ### Running command: ### ### /home/biocbuild/bbs-3.18-bioc/R/bin/R CMD INSTALL standR ### ############################################################################## ############################################################################## * installing to library ‘/home/biocbuild/bbs-3.18-bioc/R/site-library’ * installing *source* package ‘standR’ ... ** using staged installation ** R ** data ** inst ** byte-compile and prepare package for lazy loading in method for ‘drawPCA’ with signature ‘"DGEList"’: no definition for class “DGEList” in method for ‘drawPCA’ with signature ‘"SpatialExperiment"’: no definition for class “SpatialExperiment” in method for ‘plotDR’ with signature ‘"SpatialExperiment","ANY"’: no definition for class “SpatialExperiment” in method for ‘plotMDS’ with signature ‘"DGEList","ANY","ANY","ANY"’: no definition for class “DGEList” in method for ‘plotMDS’ with signature ‘"SpatialExperiment"’: no definition for class “SpatialExperiment” in method for ‘plotRLExpr’ with signature ‘"DGEList","ANY"’: no definition for class “DGEList” ** help *** installing help indices *** copying figures ** building package indices ** installing vignettes ** testing if installed package can be loaded from temporary location ** testing if installed package can be loaded from final location ** testing if installed package keeps a record of temporary installation path * DONE (standR)
standR.Rcheck/tests/testthat.Rout
R version 4.3.3 (2024-02-29) -- "Angel Food Cake"
Copyright (C) 2024 The R Foundation for Statistical Computing
Platform: x86_64-pc-linux-gnu (64-bit)
R is free software and comes with ABSOLUTELY NO WARRANTY.
You are welcome to redistribute it under certain conditions.
Type 'license()' or 'licence()' for distribution details.
R is a collaborative project with many contributors.
Type 'contributors()' for more information and
'citation()' on how to cite R or R packages in publications.
Type 'demo()' for some demos, 'help()' for on-line help, or
'help.start()' for an HTML browser interface to help.
Type 'q()' to quit R.
> library(testthat)
> library(standR)
>
> test_check("standR")
Loading required package: SpatialExperiment
Loading required package: SingleCellExperiment
Loading required package: SummarizedExperiment
Loading required package: MatrixGenerics
Loading required package: matrixStats
Attaching package: 'MatrixGenerics'
The following objects are masked from 'package:matrixStats':
colAlls, colAnyNAs, colAnys, colAvgsPerRowSet, colCollapse,
colCounts, colCummaxs, colCummins, colCumprods, colCumsums,
colDiffs, colIQRDiffs, colIQRs, colLogSumExps, colMadDiffs,
colMads, colMaxs, colMeans2, colMedians, colMins, colOrderStats,
colProds, colQuantiles, colRanges, colRanks, colSdDiffs, colSds,
colSums2, colTabulates, colVarDiffs, colVars, colWeightedMads,
colWeightedMeans, colWeightedMedians, colWeightedSds,
colWeightedVars, rowAlls, rowAnyNAs, rowAnys, rowAvgsPerColSet,
rowCollapse, rowCounts, rowCummaxs, rowCummins, rowCumprods,
rowCumsums, rowDiffs, rowIQRDiffs, rowIQRs, rowLogSumExps,
rowMadDiffs, rowMads, rowMaxs, rowMeans2, rowMedians, rowMins,
rowOrderStats, rowProds, rowQuantiles, rowRanges, rowRanks,
rowSdDiffs, rowSds, rowSums2, rowTabulates, rowVarDiffs, rowVars,
rowWeightedMads, rowWeightedMeans, rowWeightedMedians,
rowWeightedSds, rowWeightedVars
Loading required package: GenomicRanges
Loading required package: stats4
Loading required package: BiocGenerics
Attaching package: 'BiocGenerics'
The following objects are masked from 'package:stats':
IQR, mad, sd, var, xtabs
The following objects are masked from 'package:base':
Filter, Find, Map, Position, Reduce, anyDuplicated, aperm, append,
as.data.frame, basename, cbind, colnames, dirname, do.call,
duplicated, eval, evalq, get, grep, grepl, intersect, is.unsorted,
lapply, mapply, match, mget, order, paste, pmax, pmax.int, pmin,
pmin.int, rank, rbind, rownames, sapply, setdiff, sort, table,
tapply, union, unique, unsplit, which.max, which.min
Loading required package: S4Vectors
Attaching package: 'S4Vectors'
The following object is masked from 'package:utils':
findMatches
The following objects are masked from 'package:base':
I, expand.grid, unname
Loading required package: IRanges
Loading required package: GenomeInfoDb
Loading required package: Biobase
Welcome to Bioconductor
Vignettes contain introductory material; view with
'browseVignettes()'. To cite Bioconductor, see
'citation("Biobase")', and for packages 'citation("pkgname")'.
Attaching package: 'Biobase'
The following object is masked from 'package:MatrixGenerics':
rowMedians
The following objects are masked from 'package:matrixStats':
anyMissing, rowMedians
New names:
* `cv` -> `cv...1`
* `cv` -> `cv...2`
* `cv` -> `cv...3`
* `cv` -> `cv...4`
* `cv` -> `cv...5`
* `cv` -> `cv...6`
* `cv` -> `cv...7`
New names:
* `cv` -> `cv...1`
* `cv` -> `cv...2`
* `cv` -> `cv...3`
* `cv` -> `cv...4`
* `cv` -> `cv...5`
* `cv` -> `cv...6`
* `cv` -> `cv...7`
Rows: 18504 Columns: 232
-- Column specification --------------------------------------------------------
Delimiter: "\t"
chr (1): TargetName
dbl (231): disease3_scan | 001 | PanCK, disease3_scan | 001 | neg, disease3_...
i Use `spec()` to retrieve the full column specification for this data.
i Specify the column types or set `show_col_types = FALSE` to quiet this message.
Rows: 231 Columns: 25
-- Column specification --------------------------------------------------------
Delimiter: "\t"
chr (8): SlideName, ScanName, SegmentLabel, SegmentDisplayName, Sample_ID, ...
dbl (17): ROILabel, AOISurfaceArea, AOINucleiCount, ROICoordinateX, ROICoord...
i Use `spec()` to retrieve the full column specification for this data.
i Specify the column types or set `show_col_types = FALSE` to quiet this message.
Rows: 18504 Columns: 232
-- Column specification --------------------------------------------------------
Delimiter: "\t"
chr (1): TargetName
dbl (231): disease3_scan | 001 | PanCK, disease3_scan | 001 | neg, disease3_...
i Use `spec()` to retrieve the full column specification for this data.
i Specify the column types or set `show_col_types = FALSE` to quiet this message.
Rows: 18504 Columns: 232
-- Column specification --------------------------------------------------------
Delimiter: "\t"
chr (1): TargetName
dbl (231): disease3_scan | 001 | PanCK, disease3_scan | 001 | neg, disease3_...
i Use `spec()` to retrieve the full column specification for this data.
i Specify the column types or set `show_col_types = FALSE` to quiet this message.
Rows: 231 Columns: 25
-- Column specification --------------------------------------------------------
Delimiter: "\t"
chr (8): SlideName, ScanName, SegmentLabel, SegmentDisplayName, Sample_ID, ...
dbl (17): ROILabel, AOISurfaceArea, AOINucleiCount, ROICoordinateX, ROICoord...
i Use `spec()` to retrieve the full column specification for this data.
i Specify the column types or set `show_col_types = FALSE` to quiet this message.
Loading required namespace: scater
Loading required package: scuttle
Loading required package: ggplot2
Attaching package: 'scater'
The following object is masked from 'package:standR':
plotMDS
Loading required package: AnnotationHub
Loading required package: BiocFileCache
Loading required package: dbplyr
Attaching package: 'AnnotationHub'
The following object is masked from 'package:Biobase':
cache
see ?standR and browseVignettes('standR') for documentation
loading from cache
see ?standR and browseVignettes('standR') for documentation
loading from cache
Rows: 18504 Columns: 232
-- Column specification --------------------------------------------------------
Delimiter: "\t"
chr (1): TargetName
dbl (231): disease3_scan | 001 | PanCK, disease3_scan | 001 | neg, disease3_...
i Use `spec()` to retrieve the full column specification for this data.
i Specify the column types or set `show_col_types = FALSE` to quiet this message.
Rows: 231 Columns: 25
-- Column specification --------------------------------------------------------
Delimiter: "\t"
chr (8): SlideName, ScanName, SegmentLabel, SegmentDisplayName, Sample_ID, ...
dbl (17): ROILabel, AOISurfaceArea, AOINucleiCount, ROICoordinateX, ROICoord...
i Use `spec()` to retrieve the full column specification for this data.
i Specify the column types or set `show_col_types = FALSE` to quiet this message.
[ FAIL 0 | WARN 0 | SKIP 0 | PASS 104 ]
>
> proc.time()
user system elapsed
64.036 7.183 92.774
standR.Rcheck/standR-Ex.timings
| name | user | system | elapsed | |
| addPerROIQC | 0.898 | 0.141 | 1.039 | |
| computeClusterEvalStats | 1.656 | 0.179 | 1.835 | |
| dkd_spe_subset | 0.053 | 0.000 | 0.052 | |
| drawPCA | 0.327 | 0.020 | 0.347 | |
| findBestK | 4.814 | 0.257 | 5.070 | |
| findNCGs | 1.446 | 0.067 | 1.513 | |
| geomxBatchCorrection | 0.945 | 0.009 | 0.952 | |
| geomxNorm | 1.101 | 0.008 | 1.109 | |
| plotClusterEvalStats | 1.92 | 0.06 | 1.98 | |
| plotDR | 0.427 | 0.000 | 0.427 | |
| plotGeneQC | 1.080 | 0.007 | 1.089 | |
| plotMDS | 0.643 | 0.028 | 0.670 | |
| plotPCAbiplot | 0.361 | 0.000 | 0.361 | |
| plotPairPCA | 0.800 | 0.016 | 0.815 | |
| plotRLExpr | 1.322 | 0.009 | 1.330 | |
| plotROIQC | 0.857 | 0.007 | 0.865 | |
| plotSampleInfo | 0.703 | 0.016 | 0.718 | |
| plotScreePCA | 0.237 | 0.001 | 0.238 | |
| prepareSpatialDecon | 8.649 | 1.085 | 9.067 | |
| readGeoMx | 5.841 | 0.998 | 5.581 | |
| readGeoMxFromDGE | 0.224 | 0.000 | 0.224 | |
| spe2dge | 0.619 | 0.056 | 0.675 | |