| Back to Multiple platform build/check report for BioC 3.18: simplified long |
|
This page was generated on 2023-11-02 11:41:01 -0400 (Thu, 02 Nov 2023).
| Hostname | OS | Arch (*) | R version | Installed pkgs |
|---|---|---|---|---|
| nebbiolo2 | Linux (Ubuntu 22.04.2 LTS) | x86_64 | 4.3.1 (2023-06-16) -- "Beagle Scouts" | 4729 |
| palomino4 | Windows Server 2022 Datacenter | x64 | 4.3.1 (2023-06-16 ucrt) -- "Beagle Scouts" | 4463 |
| lconway | macOS 12.6.5 Monterey | x86_64 | 4.3.1 Patched (2023-06-17 r84564) -- "Beagle Scouts" | 4478 |
| kunpeng2 | Linux (openEuler 22.03 LTS-SP1) | aarch64 | 4.3.1 (2023-06-16) -- "Beagle Scouts" | 4464 |
| Click on any hostname to see more info about the system (e.g. compilers) (*) as reported by 'uname -p', except on Windows and Mac OS X | ||||
| Package 1441/2266 | Hostname | OS / Arch | INSTALL | BUILD | CHECK | BUILD BIN | ||||||||
| omada 1.4.0 (landing page) Sokratis Kariotis
| nebbiolo2 | Linux (Ubuntu 22.04.2 LTS) / x86_64 | OK | OK | OK | |||||||||
| palomino4 | Windows Server 2022 Datacenter / x64 | OK | OK | OK | OK | |||||||||
| lconway | macOS 12.6.5 Monterey / x86_64 | OK | OK | OK | OK | |||||||||
| kjohnson1 | macOS 13.6.1 Ventura / arm64 | see weekly results here | ||||||||||||
| kunpeng2 | Linux (openEuler 22.03 LTS-SP1) / aarch64 | OK | OK | OK | ||||||||||
|
To the developers/maintainers of the omada package: - Allow up to 24 hours (and sometimes 48 hours) for your latest push to git@git.bioconductor.org:packages/omada.git to reflect on this report. See Troubleshooting Build Report for more information. - Use the following Renviron settings to reproduce errors and warnings. - If 'R CMD check' started to fail recently on the Linux builder(s) over a missing dependency, add the missing dependency to 'Suggests:' in your DESCRIPTION file. See Renviron.bioc for more information. - See Martin Grigorov's blog post for how to debug Linux ARM64 related issues on a x86_64 host. |
| Package: omada |
| Version: 1.4.0 |
| Command: /home/biocbuild/R/R-4.3.1/bin/R CMD check --install=check:omada.install-out.txt --library=/home/biocbuild/R/R-4.3.1/site-library --no-vignettes --timings omada_1.4.0.tar.gz |
| StartedAt: 2023-11-02 12:45:56 -0000 (Thu, 02 Nov 2023) |
| EndedAt: 2023-11-02 13:02:14 -0000 (Thu, 02 Nov 2023) |
| EllapsedTime: 978.0 seconds |
| RetCode: 0 |
| Status: OK |
| CheckDir: omada.Rcheck |
| Warnings: 0 |
##############################################################################
##############################################################################
###
### Running command:
###
### /home/biocbuild/R/R-4.3.1/bin/R CMD check --install=check:omada.install-out.txt --library=/home/biocbuild/R/R-4.3.1/site-library --no-vignettes --timings omada_1.4.0.tar.gz
###
##############################################################################
##############################################################################
* using log directory ‘/home/biocbuild/bbs-3.18-bioc/meat/omada.Rcheck’
* using R version 4.3.1 (2023-06-16)
* using platform: aarch64-unknown-linux-gnu (64-bit)
* R was compiled by
gcc (GCC) 10.3.1
GNU Fortran (GCC) 10.3.1
* running under: openEuler 22.03 (LTS-SP1)
* using session charset: UTF-8
* using option ‘--no-vignettes’
* checking for file ‘omada/DESCRIPTION’ ... OK
* checking extension type ... Package
* this is package ‘omada’ version ‘1.4.0’
* package encoding: UTF-8
* checking package namespace information ... OK
* checking package dependencies ... NOTE
Depends: includes the non-default packages:
'pdfCluster', 'kernlab', 'fpc', 'Rcpp', 'diceR', 'ggplot2',
'reshape', 'genieclust', 'clValid', 'glmnet', 'dplyr'
Adding so many packages to the search path is excessive and importing
selectively is preferable.
* checking if this is a source package ... OK
* checking if there is a namespace ... OK
* checking for hidden files and directories ... OK
* checking for portable file names ... OK
* checking for sufficient/correct file permissions ... OK
* checking whether package ‘omada’ can be installed ... OK
* checking installed package size ... OK
* checking package directory ... OK
* checking ‘build’ directory ... OK
* checking DESCRIPTION meta-information ... NOTE
Package listed in more than one of Depends, Imports, Suggests, Enhances:
‘clValid’
A package should be listed in only one of these fields.
* checking top-level files ... NOTE
File
LICENSE
is not mentioned in the DESCRIPTION file.
* checking for left-over files ... OK
* checking index information ... OK
* checking package subdirectories ... OK
* checking R files for non-ASCII characters ... OK
* checking R files for syntax errors ... OK
* checking whether the package can be loaded ... OK
* checking whether the package can be loaded with stated dependencies ... OK
* checking whether the package can be unloaded cleanly ... OK
* checking whether the namespace can be loaded with stated dependencies ... OK
* checking whether the namespace can be unloaded cleanly ... OK
* checking loading without being on the library search path ... OK
* checking dependencies in R code ... NOTE
Packages in Depends field not imported from:
‘Rcpp’ ‘genieclust’ ‘glmnet’ ‘kernlab’ ‘reshape’
These packages need to be imported from (in the NAMESPACE file)
for when this namespace is loaded but not attached.
* checking S3 generic/method consistency ... OK
* checking replacement functions ... OK
* checking foreign function calls ... OK
* checking R code for possible problems ... NOTE
Index.15and28: no visible global function definition for ‘dist’
Index.15and28: no visible global function definition for ‘as.dist’
Index.sPlussMoins: no visible global function definition for ‘dist’
Index.sPlussMoins: no visible global function definition for ‘as.dist’
Index.sPlussMoins: no visible global function definition for ‘median’
Indice.cindex: no visible global function definition for ‘dist’
clusterVoting: no visible global function definition for ‘calinhara’
clusterVoting: no visible global function definition for
‘generalised_dunn_index’
clusterVoting: no visible global function definition for
‘silhouette_index’
clusterVoting: no visible global function definition for
‘negated_davies_bouldin_index’
clusterVoting: no visible binding for global variable ‘k’
clusterVoting: no visible binding for global variable ‘Frequency’
clusteringMethodSelection: no visible binding for global variable
‘value’
clusteringMethodSelection: no visible binding for global variable
‘methods’
featureSelection: no visible binding for global variable ‘featureSet’
featureSelection: no visible binding for global variable ‘means’
geneSignatures: no visible global function definition for ‘where’
geneSignatures: no visible binding for global variable ‘features’
geneSignatures: no visible binding for global variable ‘value’
geneSignatures: no visible binding for global variable ‘variable’
Undefined global functions or variables:
Frequency as.dist calinhara dist featureSet features
generalised_dunn_index k means median methods
negated_davies_bouldin_index silhouette_index value variable where
Consider adding
importFrom("stats", "as.dist", "dist", "median")
importFrom("utils", "methods")
to your NAMESPACE file.
* checking Rd files ... OK
* checking Rd metadata ... OK
* checking Rd cross-references ... OK
* checking for missing documentation entries ... OK
* checking for code/documentation mismatches ... OK
* checking Rd \usage sections ... OK
* checking Rd contents ... OK
* checking for unstated dependencies in examples ... OK
* checking contents of ‘data’ directory ... OK
* checking data for non-ASCII characters ... OK
* checking LazyData ... OK
* checking data for ASCII and uncompressed saves ... OK
* checking files in ‘vignettes’ ... OK
* checking examples ... OK
Examples with CPU (user + system) or elapsed time > 5s
user system elapsed
get_feature_selection_optimal_number_of_features 59.847 0.155 60.217
get_feature_selection_scores 58.460 0.683 59.758
get_signature_feature_coefs 40.964 8.192 70.781
get_partition_agreement_scores 40.283 2.080 45.008
get_cluster_voting_k_votes 41.413 0.107 41.606
plot_partition_agreement 39.565 0.072 39.717
get_sample_memberships 39.496 0.068 39.635
get_cluster_voting_memberships 39.096 0.068 39.248
plot_signature_feature 38.920 0.032 39.029
get_cluster_voting_scores 38.770 0.063 38.910
get_cluster_voting_metric_votes 38.229 0.088 38.399
plot_feature_selection 37.824 0.064 37.964
get_feature_selection_optimal_features 36.946 0.107 37.172
omada 32.292 0.148 37.969
plot_cluster_voting 30.473 0.084 30.616
plot_average_stabilities 13.654 0.028 13.707
get_optimal_number_of_features 13.363 0.048 13.611
get_optimal_features 11.874 0.121 12.095
get_optimal_stability_score 11.794 0.056 11.874
get_optimal_parameter_used 11.187 0.036 11.405
get_optimal_memberships 10.861 0.130 11.117
featureSelection 9.775 0.100 9.896
clusterVoting 6.304 0.156 6.496
get_average_feature_k_stabilities 5.555 0.020 5.585
* checking for unstated dependencies in ‘tests’ ... OK
* checking tests ...
Running ‘testthat.R’
OK
* checking for unstated dependencies in vignettes ... OK
* checking package vignettes in ‘inst/doc’ ... OK
* checking running R code from vignettes ... SKIPPED
* checking re-building of vignette outputs ... SKIPPED
* checking PDF version of manual ... OK
* DONE
Status: 5 NOTEs
See
‘/home/biocbuild/bbs-3.18-bioc/meat/omada.Rcheck/00check.log’
for details.
omada.Rcheck/00install.out
############################################################################## ############################################################################## ### ### Running command: ### ### /home/biocbuild/R/R-4.3.1/bin/R CMD INSTALL omada ### ############################################################################## ############################################################################## * installing to library ‘/home/biocbuild/R/R-4.3.1/site-library’ * installing *source* package ‘omada’ ... ** using staged installation ** R ** data *** moving datasets to lazyload DB ** inst ** byte-compile and prepare package for lazy loading ** help *** installing help indices ** building package indices ** installing vignettes ** testing if installed package can be loaded from temporary location ** testing if installed package can be loaded from final location ** testing if installed package keeps a record of temporary installation path * DONE (omada)
omada.Rcheck/tests/testthat.Rout
R version 4.3.1 (2023-06-16) -- "Beagle Scouts"
Copyright (C) 2023 The R Foundation for Statistical Computing
Platform: aarch64-unknown-linux-gnu (64-bit)
R is free software and comes with ABSOLUTELY NO WARRANTY.
You are welcome to redistribute it under certain conditions.
Type 'license()' or 'licence()' for distribution details.
R is a collaborative project with many contributors.
Type 'contributors()' for more information and
'citation()' on how to cite R or R packages in publications.
Type 'demo()' for some demos, 'help()' for on-line help, or
'help.start()' for an HTML browser interface to help.
Type 'q()' to quit R.
> library(testthat)
> library(omada)
Loading required package: pdfCluster
pdfCluster 1.0-4
Loading required package: kernlab
Loading required package: fpc
Loading required package: Rcpp
Loading required package: diceR
Loading required package: ggplot2
Attaching package: 'ggplot2'
The following object is masked from 'package:kernlab':
alpha
Loading required package: reshape
Loading required package: genieclust
Loading required package: clValid
Loading required package: cluster
Loading required package: glmnet
Loading required package: Matrix
Attaching package: 'Matrix'
The following object is masked from 'package:reshape':
expand
Loaded glmnet 4.1-8
Loading required package: dplyr
Attaching package: 'dplyr'
The following object is masked from 'package:reshape':
rename
The following object is masked from 'package:pdfCluster':
groups
The following object is masked from 'package:testthat':
matches
The following objects are masked from 'package:stats':
filter, lag
The following objects are masked from 'package:base':
intersect, setdiff, setequal, union
>
> test_check("omada")
[ FAIL 0 | WARN 1 | SKIP 0 | PASS 38 ]
[ FAIL 0 | WARN 1 | SKIP 0 | PASS 38 ]
>
> proc.time()
user system elapsed
111.173 0.813 112.291
omada.Rcheck/omada-Ex.timings
| name | user | system | elapsed | |
| clusterVoting | 6.304 | 0.156 | 6.496 | |
| clusteringMethodSelection | 1.272 | 0.028 | 1.302 | |
| feasibilityAnalysis | 1.742 | 0.003 | 1.749 | |
| feasibilityAnalysisDataBased | 3.049 | 0.012 | 3.066 | |
| featureSelection | 9.775 | 0.100 | 9.896 | |
| geneSignatures | 1.185 | 0.024 | 1.227 | |
| get_agreement_scores | 0.219 | 0.004 | 0.224 | |
| get_average_feature_k_stabilities | 5.555 | 0.020 | 5.585 | |
| get_average_stabilities_per_k | 1.290 | 0.028 | 1.321 | |
| get_average_stability | 1.258 | 0.000 | 1.260 | |
| get_cluster_memberships_k | 1.971 | 0.012 | 1.989 | |
| get_cluster_voting_k_votes | 41.413 | 0.107 | 41.606 | |
| get_cluster_voting_memberships | 39.096 | 0.068 | 39.248 | |
| get_cluster_voting_metric_votes | 38.229 | 0.088 | 38.399 | |
| get_cluster_voting_scores | 38.770 | 0.063 | 38.910 | |
| get_coefficient_dataset | 0.612 | 0.004 | 0.617 | |
| get_feature_selection_optimal_features | 36.946 | 0.107 | 37.172 | |
| get_feature_selection_optimal_number_of_features | 59.847 | 0.155 | 60.217 | |
| get_feature_selection_scores | 58.460 | 0.683 | 59.758 | |
| get_generated_dataset | 3.953 | 0.032 | 4.022 | |
| get_internal_metric_scores | 1.597 | 0.023 | 1.638 | |
| get_max_stability | 1.303 | 0.004 | 1.320 | |
| get_metric_votes_k | 1.603 | 0.055 | 1.669 | |
| get_optimal_features | 11.874 | 0.121 | 12.095 | |
| get_optimal_memberships | 10.861 | 0.130 | 11.117 | |
| get_optimal_number_of_features | 13.363 | 0.048 | 13.611 | |
| get_optimal_parameter_used | 11.187 | 0.036 | 11.405 | |
| get_optimal_stability_score | 11.794 | 0.056 | 11.874 | |
| get_partition_agreement_scores | 40.283 | 2.080 | 45.008 | |
| get_sample_memberships | 39.496 | 0.068 | 39.635 | |
| get_signature_feature_coefs | 40.964 | 8.192 | 70.781 | |
| get_vote_frequencies_k | 2.064 | 0.407 | 3.902 | |
| omada | 32.292 | 0.148 | 37.969 | |
| optimalClustering | 0.542 | 0.008 | 0.551 | |
| partitionAgreement | 0.753 | 0.012 | 0.766 | |
| plot_average_stabilities | 13.654 | 0.028 | 13.707 | |
| plot_cluster_voting | 30.473 | 0.084 | 30.616 | |
| plot_feature_selection | 37.824 | 0.064 | 37.964 | |
| plot_partition_agreement | 39.565 | 0.072 | 39.717 | |
| plot_signature_feature | 38.920 | 0.032 | 39.029 | |
| plot_top30percent_coefficients | 0.977 | 0.000 | 0.979 | |
| plot_vote_frequencies | 1.838 | 0.012 | 1.855 | |
| toy_gene_memberships | 0.018 | 0.000 | 0.020 | |
| toy_genes | 0.001 | 0.000 | 0.001 | |