| Back to Multiple platform build/check report for BioC 3.18: simplified long |
|
This page was generated on 2024-03-04 11:37:38 -0500 (Mon, 04 Mar 2024).
| Hostname | OS | Arch (*) | R version | Installed pkgs |
|---|---|---|---|---|
| nebbiolo2 | Linux (Ubuntu 22.04.3 LTS) | x86_64 | 4.3.2 Patched (2023-11-13 r85521) -- "Eye Holes" | 4692 |
| palomino4 | Windows Server 2022 Datacenter | x64 | 4.3.2 (2023-10-31 ucrt) -- "Eye Holes" | 4445 |
| lconway | macOS 12.7.1 Monterey | x86_64 | 4.3.2 Patched (2023-11-01 r85457) -- "Eye Holes" | 4466 |
| Click on any hostname to see more info about the system (e.g. compilers) (*) as reported by 'uname -p', except on Windows and Mac OS X | ||||
| Package 1441/2266 | Hostname | OS / Arch | INSTALL | BUILD | CHECK | BUILD BIN | ||||||||
| omada 1.4.0 (landing page) Sokratis Kariotis
| nebbiolo2 | Linux (Ubuntu 22.04.3 LTS) / x86_64 | OK | OK | OK | |||||||||
| palomino4 | Windows Server 2022 Datacenter / x64 | OK | OK | OK | OK | |||||||||
| lconway | macOS 12.7.1 Monterey / x86_64 | OK | OK | OK | OK | |||||||||
| kjohnson1 | macOS 13.6.1 Ventura / arm64 | see weekly results here | ||||||||||||
|
To the developers/maintainers of the omada package: - Allow up to 24 hours (and sometimes 48 hours) for your latest push to git@git.bioconductor.org:packages/omada.git to reflect on this report. See Troubleshooting Build Report for more information. - Use the following Renviron settings to reproduce errors and warnings. - If 'R CMD check' started to fail recently on the Linux builder(s) over a missing dependency, add the missing dependency to 'Suggests:' in your DESCRIPTION file. See Renviron.bioc for more information. |
| Package: omada |
| Version: 1.4.0 |
| Command: /Library/Frameworks/R.framework/Resources/bin/R CMD check --install=check:omada.install-out.txt --library=/Library/Frameworks/R.framework/Resources/library --no-vignettes --timings omada_1.4.0.tar.gz |
| StartedAt: 2024-03-03 22:16:08 -0500 (Sun, 03 Mar 2024) |
| EndedAt: 2024-03-03 22:30:40 -0500 (Sun, 03 Mar 2024) |
| EllapsedTime: 871.9 seconds |
| RetCode: 0 |
| Status: OK |
| CheckDir: omada.Rcheck |
| Warnings: 0 |
##############################################################################
##############################################################################
###
### Running command:
###
### /Library/Frameworks/R.framework/Resources/bin/R CMD check --install=check:omada.install-out.txt --library=/Library/Frameworks/R.framework/Resources/library --no-vignettes --timings omada_1.4.0.tar.gz
###
##############################################################################
##############################################################################
* using log directory ‘/Users/biocbuild/bbs-3.18-bioc/meat/omada.Rcheck’
* using R version 4.3.2 Patched (2023-11-01 r85457)
* using platform: x86_64-apple-darwin20 (64-bit)
* R was compiled by
Apple clang version 14.0.3 (clang-1403.0.22.14.1)
GNU Fortran (GCC) 12.2.0
* running under: macOS Monterey 12.7.1
* using session charset: UTF-8
* using option ‘--no-vignettes’
* checking for file ‘omada/DESCRIPTION’ ... OK
* checking extension type ... Package
* this is package ‘omada’ version ‘1.4.0’
* package encoding: UTF-8
* checking package namespace information ... OK
* checking package dependencies ... NOTE
Depends: includes the non-default packages:
'pdfCluster', 'kernlab', 'fpc', 'Rcpp', 'diceR', 'ggplot2',
'reshape', 'genieclust', 'clValid', 'glmnet', 'dplyr'
Adding so many packages to the search path is excessive and importing
selectively is preferable.
* checking if this is a source package ... OK
* checking if there is a namespace ... OK
* checking for hidden files and directories ... OK
* checking for portable file names ... OK
* checking for sufficient/correct file permissions ... OK
* checking whether package ‘omada’ can be installed ... OK
* checking installed package size ... OK
* checking package directory ... OK
* checking ‘build’ directory ... OK
* checking DESCRIPTION meta-information ... NOTE
Package listed in more than one of Depends, Imports, Suggests, Enhances:
‘clValid’
A package should be listed in only one of these fields.
* checking top-level files ... NOTE
File
LICENSE
is not mentioned in the DESCRIPTION file.
* checking for left-over files ... OK
* checking index information ... OK
* checking package subdirectories ... OK
* checking R files for non-ASCII characters ... OK
* checking R files for syntax errors ... OK
* checking whether the package can be loaded ... OK
* checking whether the package can be loaded with stated dependencies ... OK
* checking whether the package can be unloaded cleanly ... OK
* checking whether the namespace can be loaded with stated dependencies ... OK
* checking whether the namespace can be unloaded cleanly ... OK
* checking dependencies in R code ... NOTE
Packages in Depends field not imported from:
‘Rcpp’ ‘genieclust’ ‘glmnet’ ‘kernlab’ ‘reshape’
These packages need to be imported from (in the NAMESPACE file)
for when this namespace is loaded but not attached.
* checking S3 generic/method consistency ... OK
* checking replacement functions ... OK
* checking foreign function calls ... OK
* checking R code for possible problems ... NOTE
Index.15and28: no visible global function definition for ‘dist’
Index.15and28: no visible global function definition for ‘as.dist’
Index.sPlussMoins: no visible global function definition for ‘dist’
Index.sPlussMoins: no visible global function definition for ‘as.dist’
Index.sPlussMoins: no visible global function definition for ‘median’
Indice.cindex: no visible global function definition for ‘dist’
clusterVoting: no visible global function definition for ‘calinhara’
clusterVoting: no visible global function definition for
‘generalised_dunn_index’
clusterVoting: no visible global function definition for
‘silhouette_index’
clusterVoting: no visible global function definition for
‘negated_davies_bouldin_index’
clusterVoting: no visible binding for global variable ‘k’
clusterVoting: no visible binding for global variable ‘Frequency’
clusteringMethodSelection: no visible binding for global variable
‘value’
clusteringMethodSelection: no visible binding for global variable
‘methods’
featureSelection: no visible binding for global variable ‘featureSet’
featureSelection: no visible binding for global variable ‘means’
geneSignatures: no visible global function definition for ‘where’
geneSignatures: no visible binding for global variable ‘features’
geneSignatures: no visible binding for global variable ‘value’
geneSignatures: no visible binding for global variable ‘variable’
Undefined global functions or variables:
Frequency as.dist calinhara dist featureSet features
generalised_dunn_index k means median methods
negated_davies_bouldin_index silhouette_index value variable where
Consider adding
importFrom("stats", "as.dist", "dist", "median")
importFrom("utils", "methods")
to your NAMESPACE file.
* checking Rd files ... OK
* checking Rd metadata ... OK
* checking Rd cross-references ... OK
* checking for missing documentation entries ... OK
* checking for code/documentation mismatches ... OK
* checking Rd \usage sections ... OK
* checking Rd contents ... OK
* checking for unstated dependencies in examples ... OK
* checking contents of ‘data’ directory ... OK
* checking data for non-ASCII characters ... OK
* checking LazyData ... OK
* checking data for ASCII and uncompressed saves ... OK
* checking files in ‘vignettes’ ... OK
* checking examples ... OK
Examples with CPU (user + system) or elapsed time > 5s
user system elapsed
get_feature_selection_optimal_number_of_features 44.964 0.972 46.354
get_feature_selection_scores 44.633 0.956 45.957
get_sample_memberships 31.410 5.638 45.774
get_partition_agreement_scores 34.007 2.522 38.163
plot_partition_agreement 35.687 0.774 50.623
get_cluster_voting_k_votes 33.983 0.709 35.075
plot_feature_selection 32.317 0.798 53.765
get_signature_feature_coefs 31.084 1.398 39.270
get_feature_selection_optimal_features 31.768 0.689 32.742
plot_signature_feature 31.527 0.592 32.430
get_cluster_voting_memberships 30.362 0.643 31.341
get_cluster_voting_metric_votes 29.890 0.693 30.922
get_cluster_voting_scores 29.638 0.657 30.602
omada 22.429 0.761 31.733
plot_cluster_voting 21.482 0.490 30.944
plot_average_stabilities 13.071 0.181 23.013
get_optimal_stability_score 8.814 2.044 15.877
get_optimal_features 10.637 0.201 10.930
get_optimal_number_of_features 9.774 0.186 10.040
get_optimal_parameter_used 8.944 0.412 9.714
get_optimal_memberships 8.437 0.148 8.646
featureSelection 7.205 0.129 7.387
clusterVoting 4.523 0.551 5.120
get_average_feature_k_stabilities 4.924 0.084 5.049
* checking for unstated dependencies in ‘tests’ ... OK
* checking tests ...
Running ‘testthat.R’
OK
* checking for unstated dependencies in vignettes ... OK
* checking package vignettes in ‘inst/doc’ ... OK
* checking running R code from vignettes ... SKIPPED
* checking re-building of vignette outputs ... SKIPPED
* checking PDF version of manual ... OK
* DONE
Status: 5 NOTEs
See
‘/Users/biocbuild/bbs-3.18-bioc/meat/omada.Rcheck/00check.log’
for details.
omada.Rcheck/00install.out
############################################################################## ############################################################################## ### ### Running command: ### ### /Library/Frameworks/R.framework/Resources/bin/R CMD INSTALL omada ### ############################################################################## ############################################################################## * installing to library ‘/Library/Frameworks/R.framework/Versions/4.3-x86_64/Resources/library’ * installing *source* package ‘omada’ ... ** using staged installation ** R ** data *** moving datasets to lazyload DB ** inst ** byte-compile and prepare package for lazy loading ** help *** installing help indices ** building package indices ** installing vignettes ** testing if installed package can be loaded from temporary location ** testing if installed package can be loaded from final location ** testing if installed package keeps a record of temporary installation path * DONE (omada)
omada.Rcheck/tests/testthat.Rout
R version 4.3.2 Patched (2023-11-01 r85457) -- "Eye Holes"
Copyright (C) 2023 The R Foundation for Statistical Computing
Platform: x86_64-apple-darwin20 (64-bit)
R is free software and comes with ABSOLUTELY NO WARRANTY.
You are welcome to redistribute it under certain conditions.
Type 'license()' or 'licence()' for distribution details.
R is a collaborative project with many contributors.
Type 'contributors()' for more information and
'citation()' on how to cite R or R packages in publications.
Type 'demo()' for some demos, 'help()' for on-line help, or
'help.start()' for an HTML browser interface to help.
Type 'q()' to quit R.
> library(testthat)
> library(omada)
Loading required package: pdfCluster
pdfCluster 1.0-4
Loading required package: kernlab
Loading required package: fpc
Loading required package: Rcpp
Loading required package: diceR
Loading required package: ggplot2
Attaching package: 'ggplot2'
The following object is masked from 'package:kernlab':
alpha
Loading required package: reshape
Loading required package: genieclust
Loading required package: clValid
Loading required package: cluster
Loading required package: glmnet
Loading required package: Matrix
Attaching package: 'Matrix'
The following object is masked from 'package:reshape':
expand
Loaded glmnet 4.1-8
Loading required package: dplyr
Attaching package: 'dplyr'
The following object is masked from 'package:reshape':
rename
The following object is masked from 'package:pdfCluster':
groups
The following object is masked from 'package:testthat':
matches
The following objects are masked from 'package:stats':
filter, lag
The following objects are masked from 'package:base':
intersect, setdiff, setequal, union
>
> test_check("omada")
[ FAIL 0 | WARN 1 | SKIP 0 | PASS 38 ]
[ FAIL 0 | WARN 1 | SKIP 0 | PASS 38 ]
>
> proc.time()
user system elapsed
88.056 2.272 91.558
omada.Rcheck/omada-Ex.timings
| name | user | system | elapsed | |
| clusterVoting | 4.523 | 0.551 | 5.120 | |
| clusteringMethodSelection | 1.365 | 0.045 | 1.424 | |
| feasibilityAnalysis | 1.399 | 0.020 | 1.429 | |
| feasibilityAnalysisDataBased | 2.705 | 0.080 | 2.811 | |
| featureSelection | 7.205 | 0.129 | 7.387 | |
| geneSignatures | 0.849 | 0.013 | 0.868 | |
| get_agreement_scores | 0.162 | 0.002 | 0.165 | |
| get_average_feature_k_stabilities | 4.924 | 0.084 | 5.049 | |
| get_average_stabilities_per_k | 0.946 | 0.012 | 0.965 | |
| get_average_stability | 0.999 | 0.013 | 1.021 | |
| get_cluster_memberships_k | 0.850 | 0.121 | 0.983 | |
| get_cluster_voting_k_votes | 33.983 | 0.709 | 35.075 | |
| get_cluster_voting_memberships | 30.362 | 0.643 | 31.341 | |
| get_cluster_voting_metric_votes | 29.890 | 0.693 | 30.922 | |
| get_cluster_voting_scores | 29.638 | 0.657 | 30.602 | |
| get_coefficient_dataset | 0.397 | 0.006 | 0.408 | |
| get_feature_selection_optimal_features | 31.768 | 0.689 | 32.742 | |
| get_feature_selection_optimal_number_of_features | 44.964 | 0.972 | 46.354 | |
| get_feature_selection_scores | 44.633 | 0.956 | 45.957 | |
| get_generated_dataset | 2.973 | 0.032 | 3.022 | |
| get_internal_metric_scores | 0.870 | 0.090 | 0.968 | |
| get_max_stability | 1.021 | 0.021 | 1.050 | |
| get_metric_votes_k | 1.166 | 0.128 | 1.302 | |
| get_optimal_features | 10.637 | 0.201 | 10.930 | |
| get_optimal_memberships | 8.437 | 0.148 | 8.646 | |
| get_optimal_number_of_features | 9.774 | 0.186 | 10.040 | |
| get_optimal_parameter_used | 8.944 | 0.412 | 9.714 | |
| get_optimal_stability_score | 8.814 | 2.044 | 15.877 | |
| get_partition_agreement_scores | 34.007 | 2.522 | 38.163 | |
| get_sample_memberships | 31.410 | 5.638 | 45.774 | |
| get_signature_feature_coefs | 31.084 | 1.398 | 39.270 | |
| get_vote_frequencies_k | 0.881 | 0.437 | 2.713 | |
| omada | 22.429 | 0.761 | 31.733 | |
| optimalClustering | 0.114 | 0.006 | 0.206 | |
| partitionAgreement | 0.724 | 0.013 | 1.258 | |
| plot_average_stabilities | 13.071 | 0.181 | 23.013 | |
| plot_cluster_voting | 21.482 | 0.490 | 30.944 | |
| plot_feature_selection | 32.317 | 0.798 | 53.765 | |
| plot_partition_agreement | 35.687 | 0.774 | 50.623 | |
| plot_signature_feature | 31.527 | 0.592 | 32.430 | |
| plot_top30percent_coefficients | 0.745 | 0.011 | 0.761 | |
| plot_vote_frequencies | 1.335 | 0.133 | 1.475 | |
| toy_gene_memberships | 0.015 | 0.005 | 0.021 | |
| toy_genes | 0.001 | 0.002 | 0.004 | |