| Back to Multiple platform build/check report for BioC 3.18: simplified long |
|
This page was generated on 2024-03-04 11:37:22 -0500 (Mon, 04 Mar 2024).
| Hostname | OS | Arch (*) | R version | Installed pkgs |
|---|---|---|---|---|
| nebbiolo2 | Linux (Ubuntu 22.04.3 LTS) | x86_64 | 4.3.2 Patched (2023-11-13 r85521) -- "Eye Holes" | 4692 |
| palomino4 | Windows Server 2022 Datacenter | x64 | 4.3.2 (2023-10-31 ucrt) -- "Eye Holes" | 4445 |
| lconway | macOS 12.7.1 Monterey | x86_64 | 4.3.2 Patched (2023-11-01 r85457) -- "Eye Holes" | 4466 |
| Click on any hostname to see more info about the system (e.g. compilers) (*) as reported by 'uname -p', except on Windows and Mac OS X | ||||
| Package 781/2266 | Hostname | OS / Arch | INSTALL | BUILD | CHECK | BUILD BIN | ||||||||
| gDRutils 1.0.0 (landing page) Arkadiusz Gladki
| nebbiolo2 | Linux (Ubuntu 22.04.3 LTS) / x86_64 | OK | OK | OK | |||||||||
| palomino4 | Windows Server 2022 Datacenter / x64 | OK | OK | OK | OK | |||||||||
| lconway | macOS 12.7.1 Monterey / x86_64 | OK | OK | OK | OK | |||||||||
| kjohnson1 | macOS 13.6.1 Ventura / arm64 | see weekly results here | ||||||||||||
|
To the developers/maintainers of the gDRutils package: - Allow up to 24 hours (and sometimes 48 hours) for your latest push to git@git.bioconductor.org:packages/gDRutils.git to reflect on this report. See Troubleshooting Build Report for more information. - Use the following Renviron settings to reproduce errors and warnings. - If 'R CMD check' started to fail recently on the Linux builder(s) over a missing dependency, add the missing dependency to 'Suggests:' in your DESCRIPTION file. See Renviron.bioc for more information. |
| Package: gDRutils |
| Version: 1.0.0 |
| Command: /Library/Frameworks/R.framework/Resources/bin/R CMD check --install=check:gDRutils.install-out.txt --library=/Library/Frameworks/R.framework/Resources/library --no-vignettes --timings gDRutils_1.0.0.tar.gz |
| StartedAt: 2024-03-03 20:44:12 -0500 (Sun, 03 Mar 2024) |
| EndedAt: 2024-03-03 20:48:14 -0500 (Sun, 03 Mar 2024) |
| EllapsedTime: 242.9 seconds |
| RetCode: 0 |
| Status: OK |
| CheckDir: gDRutils.Rcheck |
| Warnings: 0 |
##############################################################################
##############################################################################
###
### Running command:
###
### /Library/Frameworks/R.framework/Resources/bin/R CMD check --install=check:gDRutils.install-out.txt --library=/Library/Frameworks/R.framework/Resources/library --no-vignettes --timings gDRutils_1.0.0.tar.gz
###
##############################################################################
##############################################################################
* using log directory ‘/Users/biocbuild/bbs-3.18-bioc/meat/gDRutils.Rcheck’
* using R version 4.3.2 Patched (2023-11-01 r85457)
* using platform: x86_64-apple-darwin20 (64-bit)
* R was compiled by
Apple clang version 14.0.3 (clang-1403.0.22.14.1)
GNU Fortran (GCC) 12.2.0
* running under: macOS Monterey 12.7.1
* using session charset: UTF-8
* using option ‘--no-vignettes’
* checking for file ‘gDRutils/DESCRIPTION’ ... OK
* checking extension type ... Package
* this is package ‘gDRutils’ version ‘1.0.0’
* package encoding: UTF-8
* checking package namespace information ... OK
* checking package dependencies ... OK
* checking if this is a source package ... OK
* checking if there is a namespace ... OK
* checking for hidden files and directories ... OK
* checking for portable file names ... OK
* checking for sufficient/correct file permissions ... OK
* checking whether package ‘gDRutils’ can be installed ... OK
* checking installed package size ... OK
* checking package directory ... OK
* checking ‘build’ directory ... OK
* checking DESCRIPTION meta-information ... OK
* checking top-level files ... OK
* checking for left-over files ... OK
* checking index information ... OK
* checking package subdirectories ... OK
* checking R files for non-ASCII characters ... OK
* checking R files for syntax errors ... OK
* checking whether the package can be loaded ... OK
* checking whether the package can be loaded with stated dependencies ... OK
* checking whether the package can be unloaded cleanly ... OK
* checking whether the namespace can be loaded with stated dependencies ... OK
* checking whether the namespace can be unloaded cleanly ... OK
* checking dependencies in R code ... OK
* checking S3 generic/method consistency ... OK
* checking replacement functions ... OK
* checking foreign function calls ... OK
* checking R code for possible problems ... OK
* checking Rd files ... OK
* checking Rd metadata ... OK
* checking Rd cross-references ... OK
* checking for missing documentation entries ... OK
* checking for code/documentation mismatches ... OK
* checking Rd \usage sections ... OK
* checking Rd contents ... OK
* checking for unstated dependencies in examples ... OK
* checking files in ‘vignettes’ ... OK
* checking examples ... OK
* checking for unstated dependencies in ‘tests’ ... OK
* checking tests ...
Running ‘testthat.R’
OK
* checking for unstated dependencies in vignettes ... OK
* checking package vignettes in ‘inst/doc’ ... OK
* checking running R code from vignettes ... SKIPPED
* checking re-building of vignette outputs ... SKIPPED
* checking PDF version of manual ... OK
* DONE
Status: OK
gDRutils.Rcheck/00install.out
############################################################################## ############################################################################## ### ### Running command: ### ### /Library/Frameworks/R.framework/Resources/bin/R CMD INSTALL gDRutils ### ############################################################################## ############################################################################## * installing to library ‘/Library/Frameworks/R.framework/Versions/4.3-x86_64/Resources/library’ * installing *source* package ‘gDRutils’ ... ** using staged installation ** R ** inst ** byte-compile and prepare package for lazy loading ** help *** installing help indices ** building package indices ** installing vignettes ** testing if installed package can be loaded from temporary location ** testing if installed package can be loaded from final location ** testing if installed package keeps a record of temporary installation path * DONE (gDRutils)
gDRutils.Rcheck/tests/testthat.Rout
R version 4.3.2 Patched (2023-11-01 r85457) -- "Eye Holes"
Copyright (C) 2023 The R Foundation for Statistical Computing
Platform: x86_64-apple-darwin20 (64-bit)
R is free software and comes with ABSOLUTELY NO WARRANTY.
You are welcome to redistribute it under certain conditions.
Type 'license()' or 'licence()' for distribution details.
R is a collaborative project with many contributors.
Type 'contributors()' for more information and
'citation()' on how to cite R or R packages in publications.
Type 'demo()' for some demos, 'help()' for on-line help, or
'help.start()' for an HTML browser interface to help.
Type 'q()' to quit R.
> library("gDRutils")
> library("testthat")
>
> test_check("gDRutils")
[ FAIL 0 | WARN 0 | SKIP 0 | PASS 461 ]
>
> proc.time()
user system elapsed
51.263 1.937 53.548
gDRutils.Rcheck/gDRutils-Ex.timings
| name | user | system | elapsed | |
| MAEpply | 1.337 | 0.070 | 1.420 | |
| SE_metadata | 0.035 | 0.005 | 0.040 | |
| aggregate_assay | 0.694 | 0.050 | 0.751 | |
| apply_bumpy_function | 1.930 | 0.099 | 2.047 | |
| assert_choices | 0.000 | 0.000 | 0.001 | |
| cap_xc50 | 0 | 0 | 0 | |
| convert_combo_data_to_dt | 0.878 | 0.046 | 0.933 | |
| convert_mae_assay_to_dt | 0.073 | 0.003 | 0.076 | |
| convert_mae_to_json | 0.766 | 0.022 | 0.795 | |
| convert_se_assay_to_dt | 0.072 | 0.003 | 0.076 | |
| convert_se_to_json | 0.020 | 0.000 | 0.021 | |
| demote_fields | 0.396 | 0.006 | 0.407 | |
| df_to_bm_assay | 0.107 | 0.002 | 0.111 | |
| dot-convert_colData_to_json | 0.003 | 0.000 | 0.004 | |
| dot-convert_metadata_to_json | 0.005 | 0.000 | 0.006 | |
| dot-convert_rowData_to_json | 0.003 | 0.000 | 0.004 | |
| dot-set_constant_fit_params | 0.000 | 0.000 | 0.001 | |
| dot-set_invalid_fit_params | 0.000 | 0.000 | 0.001 | |
| extend_normalization_type_name | 0.000 | 0.000 | 0.001 | |
| fit_curves | 0.239 | 0.039 | 0.282 | |
| flatten | 0.010 | 0.001 | 0.011 | |
| gen_synthetic_data | 0.008 | 0.002 | 0.010 | |
| get_MAE_identifiers | 0.027 | 0.004 | 0.032 | |
| get_assay_names | 0.000 | 0.000 | 0.001 | |
| get_combo_assay_names | 0.001 | 0.000 | 0.001 | |
| get_combo_base_assay_names | 0.001 | 0.000 | 0.001 | |
| get_combo_col_settings | 0.004 | 0.001 | 0.005 | |
| get_combo_score_assay_names | 0.000 | 0.001 | 0.001 | |
| get_default_identifiers | 0.000 | 0.001 | 0.001 | |
| get_env_assay_names | 0 | 0 | 0 | |
| get_expect_one_identifiers | 0.000 | 0.001 | 0.000 | |
| get_experiment_groups | 0 | 0 | 0 | |
| get_identifiers_dt | 0.007 | 0.004 | 0.012 | |
| get_idfs_synonyms | 0.000 | 0.001 | 0.000 | |
| get_iso_colors | 0.002 | 0.001 | 0.002 | |
| get_non_empty_assays | 0.066 | 0.002 | 0.069 | |
| get_required_identifiers | 0.000 | 0.000 | 0.001 | |
| get_synthetic_data | 0.013 | 0.001 | 0.014 | |
| get_testdata | 0.096 | 0.020 | 0.117 | |
| headers | 0.007 | 0.006 | 0.014 | |
| identifiers | 0.000 | 0.001 | 0.001 | |
| identify_unique_se_metadata_fields | 0.007 | 0.001 | 0.008 | |
| is_any_exp_empty | 0.049 | 0.001 | 0.050 | |
| is_exp_empty | 0.053 | 0.001 | 0.056 | |
| is_mae_empty | 0.050 | 0.002 | 0.052 | |
| logisticFit | 0.023 | 0.001 | 0.024 | |
| loop | 0 | 0 | 0 | |
| mcolData | 0.015 | 0.001 | 0.016 | |
| merge_SE | 1.868 | 0.034 | 1.920 | |
| merge_assay | 0.381 | 0.010 | 0.393 | |
| merge_metadata | 0.007 | 0.001 | 0.007 | |
| mrowData | 0.018 | 0.002 | 0.020 | |
| predict_conc_from_efficacy | 0.001 | 0.000 | 0.001 | |
| predict_efficacy_from_conc | 0.001 | 0.000 | 0.000 | |
| prettify_flat_metrics | 0.005 | 0.001 | 0.006 | |
| promote_fields | 0.254 | 0.013 | 0.271 | |
| refine_coldata | 0.012 | 0.002 | 0.014 | |
| refine_rowdata | 0.073 | 0.003 | 0.078 | |
| rename_DFrame | 0.010 | 0.001 | 0.012 | |
| rename_bumpy | 0.036 | 0.001 | 0.038 | |
| shorten_normalization_type_name | 0.000 | 0.000 | 0.001 | |
| split_SE_components | 0.036 | 0.002 | 0.038 | |
| standardize_mae | 0.178 | 0.004 | 0.182 | |
| standardize_se | 0.035 | 0.002 | 0.037 | |
| update_env_idfs_from_mae | 0.000 | 0.000 | 0.001 | |
| update_idfs_synonyms | 0.000 | 0.000 | 0.001 | |
| validate_MAE | 0.081 | 0.001 | 0.082 | |
| validate_SE | 0.026 | 0.001 | 0.028 | |
| validate_identifiers | 0.010 | 0.001 | 0.012 | |
| validate_json | 0.000 | 0.001 | 0.000 | |
| validate_mae_with_schema | 0.413 | 0.076 | 0.523 | |
| validate_se_assay_name | 0.006 | 0.001 | 0.006 | |