| Back to Multiple platform build/check report for BioC 3.18: simplified long |
|
This page was generated on 2024-04-17 11:35:58 -0400 (Wed, 17 Apr 2024).
| Hostname | OS | Arch (*) | R version | Installed pkgs |
|---|---|---|---|---|
| nebbiolo2 | Linux (Ubuntu 22.04.3 LTS) | x86_64 | 4.3.3 (2024-02-29) -- "Angel Food Cake" | 4676 |
| palomino4 | Windows Server 2022 Datacenter | x64 | 4.3.3 (2024-02-29 ucrt) -- "Angel Food Cake" | 4414 |
| merida1 | macOS 12.7.1 Monterey | x86_64 | 4.3.3 (2024-02-29) -- "Angel Food Cake" | 4437 |
| Click on any hostname to see more info about the system (e.g. compilers) (*) as reported by 'uname -p', except on Windows and Mac OS X | ||||
| Package 781/2266 | Hostname | OS / Arch | INSTALL | BUILD | CHECK | BUILD BIN | ||||||||
| gDRutils 1.0.0 (landing page) Arkadiusz Gladki
| nebbiolo2 | Linux (Ubuntu 22.04.3 LTS) / x86_64 | OK | OK | ERROR | |||||||||
| palomino4 | Windows Server 2022 Datacenter / x64 | OK | OK | OK | OK | |||||||||
| merida1 | macOS 12.7.1 Monterey / x86_64 | OK | OK | OK | OK | |||||||||
| kjohnson1 | macOS 13.6.1 Ventura / arm64 | see weekly results here | ||||||||||||
|
To the developers/maintainers of the gDRutils package: - Allow up to 24 hours (and sometimes 48 hours) for your latest push to git@git.bioconductor.org:packages/gDRutils.git to reflect on this report. See Troubleshooting Build Report for more information. - Use the following Renviron settings to reproduce errors and warnings. - If 'R CMD check' started to fail recently on the Linux builder(s) over a missing dependency, add the missing dependency to 'Suggests:' in your DESCRIPTION file. See Renviron.bioc for more information. |
| Package: gDRutils |
| Version: 1.0.0 |
| Command: /home/biocbuild/bbs-3.18-bioc/R/bin/R CMD check --install=check:gDRutils.install-out.txt --library=/home/biocbuild/bbs-3.18-bioc/R/site-library --timings gDRutils_1.0.0.tar.gz |
| StartedAt: 2024-04-15 22:59:45 -0400 (Mon, 15 Apr 2024) |
| EndedAt: 2024-04-15 23:03:20 -0400 (Mon, 15 Apr 2024) |
| EllapsedTime: 214.2 seconds |
| RetCode: 1 |
| Status: ERROR |
| CheckDir: gDRutils.Rcheck |
| Warnings: NA |
##############################################################################
##############################################################################
###
### Running command:
###
### /home/biocbuild/bbs-3.18-bioc/R/bin/R CMD check --install=check:gDRutils.install-out.txt --library=/home/biocbuild/bbs-3.18-bioc/R/site-library --timings gDRutils_1.0.0.tar.gz
###
##############################################################################
##############################################################################
* using log directory ‘/home/biocbuild/bbs-3.18-bioc/meat/gDRutils.Rcheck’
* using R version 4.3.3 (2024-02-29)
* using platform: x86_64-pc-linux-gnu (64-bit)
* R was compiled by
gcc (Ubuntu 11.4.0-1ubuntu1~22.04) 11.4.0
GNU Fortran (Ubuntu 11.4.0-1ubuntu1~22.04) 11.4.0
* running under: Ubuntu 22.04.4 LTS
* using session charset: UTF-8
* checking for file ‘gDRutils/DESCRIPTION’ ... OK
* checking extension type ... Package
* this is package ‘gDRutils’ version ‘1.0.0’
* package encoding: UTF-8
* checking package namespace information ... OK
* checking package dependencies ... OK
* checking if this is a source package ... OK
* checking if there is a namespace ... OK
* checking for hidden files and directories ... OK
* checking for portable file names ... OK
* checking for sufficient/correct file permissions ... OK
* checking whether package ‘gDRutils’ can be installed ... OK
* checking installed package size ... OK
* checking package directory ... OK
* checking ‘build’ directory ... OK
* checking DESCRIPTION meta-information ... OK
* checking top-level files ... OK
* checking for left-over files ... OK
* checking index information ... OK
* checking package subdirectories ... OK
* checking R files for non-ASCII characters ... OK
* checking R files for syntax errors ... OK
* checking whether the package can be loaded ... OK
* checking whether the package can be loaded with stated dependencies ... OK
* checking whether the package can be unloaded cleanly ... OK
* checking whether the namespace can be loaded with stated dependencies ... OK
* checking whether the namespace can be unloaded cleanly ... OK
* checking loading without being on the library search path ... OK
* checking dependencies in R code ... OK
* checking S3 generic/method consistency ... OK
* checking replacement functions ... OK
* checking foreign function calls ... OK
* checking R code for possible problems ... OK
* checking Rd files ... OK
* checking Rd metadata ... OK
* checking Rd cross-references ... OK
* checking for missing documentation entries ... OK
* checking for code/documentation mismatches ... OK
* checking Rd \usage sections ... OK
* checking Rd contents ... OK
* checking for unstated dependencies in examples ... OK
* checking files in ‘vignettes’ ... OK
* checking examples ... OK
* checking for unstated dependencies in ‘tests’ ... OK
* checking tests ...
Running ‘testthat.R’
OK
* checking for unstated dependencies in vignettes ... OK
* checking package vignettes in ‘inst/doc’ ... OK
* checking running R code from vignettes ...
‘gDRutils.Rmd’ using ‘UTF-8’... failed
ERROR
Errors in running code in vignettes:
when running code in ‘gDRutils.Rmd’
...
> validate_SE(se)
> assay(se, "Normalized") <- NULL
> validate_SE(se)
When sourcing ‘gDRutils.R’:
Error: Assertion on 'exp_assay_names' failed: Must be a subset of {'RawTreated','Controls','Averaged','SmoothMatrix','BlissExcess','HSAExcess','all_iso_points','isobolograms','BlissScore','HSAScore','CIScore_50','CIScore_80','Metrics'}, but has additional elements {'Normalized'}.
Execution halted
* checking re-building of vignette outputs ... OK
* checking PDF version of manual ... OK
* DONE
Status: 1 ERROR
See
‘/home/biocbuild/bbs-3.18-bioc/meat/gDRutils.Rcheck/00check.log’
for details.
gDRutils.Rcheck/00install.out
############################################################################## ############################################################################## ### ### Running command: ### ### /home/biocbuild/bbs-3.18-bioc/R/bin/R CMD INSTALL gDRutils ### ############################################################################## ############################################################################## * installing to library ‘/home/biocbuild/bbs-3.18-bioc/R/site-library’ * installing *source* package ‘gDRutils’ ... ** using staged installation ** R ** inst ** byte-compile and prepare package for lazy loading ** help *** installing help indices ** building package indices ** installing vignettes ** testing if installed package can be loaded from temporary location ** testing if installed package can be loaded from final location ** testing if installed package keeps a record of temporary installation path * DONE (gDRutils)
gDRutils.Rcheck/tests/testthat.Rout
R version 4.3.3 (2024-02-29) -- "Angel Food Cake"
Copyright (C) 2024 The R Foundation for Statistical Computing
Platform: x86_64-pc-linux-gnu (64-bit)
R is free software and comes with ABSOLUTELY NO WARRANTY.
You are welcome to redistribute it under certain conditions.
Type 'license()' or 'licence()' for distribution details.
R is a collaborative project with many contributors.
Type 'contributors()' for more information and
'citation()' on how to cite R or R packages in publications.
Type 'demo()' for some demos, 'help()' for on-line help, or
'help.start()' for an HTML browser interface to help.
Type 'q()' to quit R.
> library("gDRutils")
> library("testthat")
>
> test_check("gDRutils")
[ FAIL 0 | WARN 0 | SKIP 0 | PASS 461 ]
>
> proc.time()
user system elapsed
41.586 1.470 42.643
gDRutils.Rcheck/gDRutils-Ex.timings
| name | user | system | elapsed | |
| MAEpply | 1.346 | 0.027 | 1.373 | |
| SE_metadata | 0.034 | 0.000 | 0.034 | |
| aggregate_assay | 0.605 | 0.064 | 0.663 | |
| apply_bumpy_function | 1.440 | 0.156 | 1.596 | |
| assert_choices | 0.001 | 0.000 | 0.001 | |
| cap_xc50 | 0.001 | 0.000 | 0.001 | |
| convert_combo_data_to_dt | 0.669 | 0.024 | 0.668 | |
| convert_mae_assay_to_dt | 0.061 | 0.000 | 0.061 | |
| convert_mae_to_json | 0.834 | 0.100 | 0.934 | |
| convert_se_assay_to_dt | 0.050 | 0.004 | 0.053 | |
| convert_se_to_json | 0.016 | 0.000 | 0.016 | |
| demote_fields | 0.334 | 0.000 | 0.310 | |
| df_to_bm_assay | 0.088 | 0.000 | 0.088 | |
| dot-convert_colData_to_json | 0.003 | 0.000 | 0.003 | |
| dot-convert_metadata_to_json | 0.004 | 0.000 | 0.004 | |
| dot-convert_rowData_to_json | 0.003 | 0.000 | 0.003 | |
| dot-set_constant_fit_params | 0 | 0 | 0 | |
| dot-set_invalid_fit_params | 0 | 0 | 0 | |
| extend_normalization_type_name | 0.001 | 0.000 | 0.001 | |
| fit_curves | 0.185 | 0.004 | 0.189 | |
| flatten | 0.009 | 0.000 | 0.009 | |
| gen_synthetic_data | 0.005 | 0.000 | 0.005 | |
| get_MAE_identifiers | 0.023 | 0.000 | 0.023 | |
| get_assay_names | 0 | 0 | 0 | |
| get_combo_assay_names | 0 | 0 | 0 | |
| get_combo_base_assay_names | 0 | 0 | 0 | |
| get_combo_col_settings | 0.003 | 0.000 | 0.003 | |
| get_combo_score_assay_names | 0.001 | 0.000 | 0.001 | |
| get_default_identifiers | 0.001 | 0.000 | 0.001 | |
| get_env_assay_names | 0 | 0 | 0 | |
| get_expect_one_identifiers | 0 | 0 | 0 | |
| get_experiment_groups | 0 | 0 | 0 | |
| get_identifiers_dt | 0.005 | 0.000 | 0.005 | |
| get_idfs_synonyms | 0 | 0 | 0 | |
| get_iso_colors | 0.001 | 0.000 | 0.001 | |
| get_non_empty_assays | 0.052 | 0.000 | 0.050 | |
| get_required_identifiers | 0 | 0 | 0 | |
| get_synthetic_data | 0.014 | 0.000 | 0.011 | |
| get_testdata | 0.079 | 0.004 | 0.077 | |
| headers | 0.001 | 0.004 | 0.005 | |
| identifiers | 0.000 | 0.000 | 0.001 | |
| identify_unique_se_metadata_fields | 0.006 | 0.000 | 0.007 | |
| is_any_exp_empty | 0.044 | 0.000 | 0.043 | |
| is_exp_empty | 0.050 | 0.000 | 0.043 | |
| is_mae_empty | 0.049 | 0.000 | 0.043 | |
| logisticFit | 0.021 | 0.000 | 0.018 | |
| loop | 0 | 0 | 0 | |
| mcolData | 0.013 | 0.000 | 0.013 | |
| merge_SE | 1.625 | 0.004 | 1.530 | |
| merge_assay | 0.326 | 0.000 | 0.311 | |
| merge_metadata | 0.004 | 0.004 | 0.008 | |
| mrowData | 0.010 | 0.004 | 0.014 | |
| predict_conc_from_efficacy | 0 | 0 | 0 | |
| predict_efficacy_from_conc | 0 | 0 | 0 | |
| prettify_flat_metrics | 0.004 | 0.000 | 0.004 | |
| promote_fields | 0.242 | 0.000 | 0.227 | |
| refine_coldata | 0.009 | 0.000 | 0.009 | |
| refine_rowdata | 0.040 | 0.004 | 0.045 | |
| rename_DFrame | 0.008 | 0.000 | 0.009 | |
| rename_bumpy | 0.027 | 0.000 | 0.028 | |
| shorten_normalization_type_name | 0 | 0 | 0 | |
| split_SE_components | 0.025 | 0.000 | 0.025 | |
| standardize_mae | 0.128 | 0.008 | 0.135 | |
| standardize_se | 0.026 | 0.004 | 0.030 | |
| update_env_idfs_from_mae | 0.001 | 0.000 | 0.001 | |
| update_idfs_synonyms | 0 | 0 | 0 | |
| validate_MAE | 0.068 | 0.000 | 0.068 | |
| validate_SE | 0.023 | 0.000 | 0.023 | |
| validate_identifiers | 0.007 | 0.000 | 0.006 | |
| validate_json | 0 | 0 | 0 | |
| validate_mae_with_schema | 0.357 | 0.004 | 0.349 | |
| validate_se_assay_name | 0.006 | 0.000 | 0.006 | |