| Back to Multiple platform build/check report for BioC 3.18: simplified long |
|
This page was generated on 2024-04-17 11:36:48 -0400 (Wed, 17 Apr 2024).
| Hostname | OS | Arch (*) | R version | Installed pkgs |
|---|---|---|---|---|
| nebbiolo2 | Linux (Ubuntu 22.04.3 LTS) | x86_64 | 4.3.3 (2024-02-29) -- "Angel Food Cake" | 4676 |
| palomino4 | Windows Server 2022 Datacenter | x64 | 4.3.3 (2024-02-29 ucrt) -- "Angel Food Cake" | 4414 |
| merida1 | macOS 12.7.1 Monterey | x86_64 | 4.3.3 (2024-02-29) -- "Angel Food Cake" | 4437 |
| Click on any hostname to see more info about the system (e.g. compilers) (*) as reported by 'uname -p', except on Windows and Mac OS X | ||||
| Package 781/2266 | Hostname | OS / Arch | INSTALL | BUILD | CHECK | BUILD BIN | ||||||||
| gDRutils 1.0.0 (landing page) Arkadiusz Gladki
| nebbiolo2 | Linux (Ubuntu 22.04.3 LTS) / x86_64 | OK | OK | ERROR | |||||||||
| palomino4 | Windows Server 2022 Datacenter / x64 | OK | OK | OK | OK | |||||||||
| merida1 | macOS 12.7.1 Monterey / x86_64 | OK | OK | OK | OK | |||||||||
| kjohnson1 | macOS 13.6.1 Ventura / arm64 | see weekly results here | ||||||||||||
|
To the developers/maintainers of the gDRutils package: - Allow up to 24 hours (and sometimes 48 hours) for your latest push to git@git.bioconductor.org:packages/gDRutils.git to reflect on this report. See Troubleshooting Build Report for more information. - Use the following Renviron settings to reproduce errors and warnings. - If 'R CMD check' started to fail recently on the Linux builder(s) over a missing dependency, add the missing dependency to 'Suggests:' in your DESCRIPTION file. See Renviron.bioc for more information. |
| Package: gDRutils |
| Version: 1.0.0 |
| Command: F:\biocbuild\bbs-3.18-bioc\R\bin\R.exe CMD check --no-multiarch --install=check:gDRutils.install-out.txt --library=F:\biocbuild\bbs-3.18-bioc\R\library --no-vignettes --timings gDRutils_1.0.0.tar.gz |
| StartedAt: 2024-04-16 01:00:33 -0400 (Tue, 16 Apr 2024) |
| EndedAt: 2024-04-16 01:04:43 -0400 (Tue, 16 Apr 2024) |
| EllapsedTime: 250.0 seconds |
| RetCode: 0 |
| Status: OK |
| CheckDir: gDRutils.Rcheck |
| Warnings: 0 |
##############################################################################
##############################################################################
###
### Running command:
###
### F:\biocbuild\bbs-3.18-bioc\R\bin\R.exe CMD check --no-multiarch --install=check:gDRutils.install-out.txt --library=F:\biocbuild\bbs-3.18-bioc\R\library --no-vignettes --timings gDRutils_1.0.0.tar.gz
###
##############################################################################
##############################################################################
* using log directory 'F:/biocbuild/bbs-3.18-bioc/meat/gDRutils.Rcheck'
* using R version 4.3.3 (2024-02-29 ucrt)
* using platform: x86_64-w64-mingw32 (64-bit)
* R was compiled by
gcc.exe (GCC) 12.3.0
GNU Fortran (GCC) 12.3.0
* running under: Windows Server 2022 x64 (build 20348)
* using session charset: UTF-8
* using option '--no-vignettes'
* checking for file 'gDRutils/DESCRIPTION' ... OK
* checking extension type ... Package
* this is package 'gDRutils' version '1.0.0'
* package encoding: UTF-8
* checking package namespace information ... OK
* checking package dependencies ... OK
* checking if this is a source package ... OK
* checking if there is a namespace ... OK
* checking for hidden files and directories ... OK
* checking for portable file names ... OK
* checking whether package 'gDRutils' can be installed ... OK
* checking installed package size ... OK
* checking package directory ... OK
* checking 'build' directory ... OK
* checking DESCRIPTION meta-information ... OK
* checking top-level files ... OK
* checking for left-over files ... OK
* checking index information ... OK
* checking package subdirectories ... OK
* checking R files for non-ASCII characters ... OK
* checking R files for syntax errors ... OK
* checking whether the package can be loaded ... OK
* checking whether the package can be loaded with stated dependencies ... OK
* checking whether the package can be unloaded cleanly ... OK
* checking whether the namespace can be loaded with stated dependencies ... OK
* checking whether the namespace can be unloaded cleanly ... OK
* checking dependencies in R code ... OK
* checking S3 generic/method consistency ... OK
* checking replacement functions ... OK
* checking foreign function calls ... OK
* checking R code for possible problems ... OK
* checking Rd files ... OK
* checking Rd metadata ... OK
* checking Rd cross-references ... OK
* checking for missing documentation entries ... OK
* checking for code/documentation mismatches ... OK
* checking Rd \usage sections ... OK
* checking Rd contents ... OK
* checking for unstated dependencies in examples ... OK
* checking files in 'vignettes' ... OK
* checking examples ... OK
* checking for unstated dependencies in 'tests' ... OK
* checking tests ...
Running 'testthat.R'
OK
* checking for unstated dependencies in vignettes ... OK
* checking package vignettes in 'inst/doc' ... OK
* checking running R code from vignettes ... SKIPPED
* checking re-building of vignette outputs ... SKIPPED
* checking PDF version of manual ... OK
* DONE
Status: OK
gDRutils.Rcheck/00install.out
############################################################################## ############################################################################## ### ### Running command: ### ### F:\biocbuild\bbs-3.18-bioc\R\bin\R.exe CMD INSTALL gDRutils ### ############################################################################## ############################################################################## * installing to library 'F:/biocbuild/bbs-3.18-bioc/R/library' * installing *source* package 'gDRutils' ... ** using staged installation ** R ** inst ** byte-compile and prepare package for lazy loading ** help *** installing help indices ** building package indices ** installing vignettes ** testing if installed package can be loaded from temporary location ** testing if installed package can be loaded from final location ** testing if installed package keeps a record of temporary installation path * DONE (gDRutils)
gDRutils.Rcheck/tests/testthat.Rout
R version 4.3.3 (2024-02-29 ucrt) -- "Angel Food Cake"
Copyright (C) 2024 The R Foundation for Statistical Computing
Platform: x86_64-w64-mingw32/x64 (64-bit)
R is free software and comes with ABSOLUTELY NO WARRANTY.
You are welcome to redistribute it under certain conditions.
Type 'license()' or 'licence()' for distribution details.
R is a collaborative project with many contributors.
Type 'contributors()' for more information and
'citation()' on how to cite R or R packages in publications.
Type 'demo()' for some demos, 'help()' for on-line help, or
'help.start()' for an HTML browser interface to help.
Type 'q()' to quit R.
> library("gDRutils")
> library("testthat")
>
> test_check("gDRutils")
[ FAIL 0 | WARN 0 | SKIP 0 | PASS 461 ]
>
> proc.time()
user system elapsed
48.85 1.67 64.64
gDRutils.Rcheck/gDRutils-Ex.timings
| name | user | system | elapsed | |
| MAEpply | 1.28 | 0.09 | 1.37 | |
| SE_metadata | 0.03 | 0.02 | 0.04 | |
| aggregate_assay | 0.68 | 0.06 | 0.75 | |
| apply_bumpy_function | 1.46 | 0.16 | 1.61 | |
| assert_choices | 0 | 0 | 0 | |
| cap_xc50 | 0 | 0 | 0 | |
| convert_combo_data_to_dt | 0.67 | 0.03 | 0.70 | |
| convert_mae_assay_to_dt | 0.09 | 0.00 | 0.10 | |
| convert_mae_to_json | 0.77 | 0.01 | 0.78 | |
| convert_se_assay_to_dt | 0.08 | 0.00 | 0.08 | |
| convert_se_to_json | 0.01 | 0.00 | 0.01 | |
| demote_fields | 0.36 | 0.00 | 0.36 | |
| df_to_bm_assay | 0.10 | 0.00 | 0.09 | |
| dot-convert_colData_to_json | 0.01 | 0.00 | 0.02 | |
| dot-convert_metadata_to_json | 0 | 0 | 0 | |
| dot-convert_rowData_to_json | 0 | 0 | 0 | |
| dot-set_constant_fit_params | 0 | 0 | 0 | |
| dot-set_invalid_fit_params | 0 | 0 | 0 | |
| extend_normalization_type_name | 0 | 0 | 0 | |
| fit_curves | 0.19 | 0.05 | 0.23 | |
| flatten | 0.01 | 0.00 | 0.02 | |
| gen_synthetic_data | 0.02 | 0.00 | 0.02 | |
| get_MAE_identifiers | 0.02 | 0.00 | 0.01 | |
| get_assay_names | 0 | 0 | 0 | |
| get_combo_assay_names | 0 | 0 | 0 | |
| get_combo_base_assay_names | 0 | 0 | 0 | |
| get_combo_col_settings | 0 | 0 | 0 | |
| get_combo_score_assay_names | 0 | 0 | 0 | |
| get_default_identifiers | 0 | 0 | 0 | |
| get_env_assay_names | 0 | 0 | 0 | |
| get_expect_one_identifiers | 0 | 0 | 0 | |
| get_experiment_groups | 0 | 0 | 0 | |
| get_identifiers_dt | 0 | 0 | 0 | |
| get_idfs_synonyms | 0 | 0 | 0 | |
| get_iso_colors | 0 | 0 | 0 | |
| get_non_empty_assays | 0.05 | 0.00 | 0.06 | |
| get_required_identifiers | 0 | 0 | 0 | |
| get_synthetic_data | 0.01 | 0.00 | 0.02 | |
| get_testdata | 0.07 | 0.03 | 0.09 | |
| headers | 0 | 0 | 0 | |
| identifiers | 0 | 0 | 0 | |
| identify_unique_se_metadata_fields | 0 | 0 | 0 | |
| is_any_exp_empty | 0.05 | 0.00 | 0.04 | |
| is_exp_empty | 0.05 | 0.00 | 0.05 | |
| is_mae_empty | 0.04 | 0.00 | 0.05 | |
| logisticFit | 0.02 | 0.00 | 0.01 | |
| loop | 0 | 0 | 0 | |
| mcolData | 0 | 0 | 0 | |
| merge_SE | 1.57 | 0.00 | 1.56 | |
| merge_assay | 0.31 | 0.00 | 0.31 | |
| merge_metadata | 0 | 0 | 0 | |
| mrowData | 0 | 0 | 0 | |
| predict_conc_from_efficacy | 0.01 | 0.00 | 0.01 | |
| predict_efficacy_from_conc | 0 | 0 | 0 | |
| prettify_flat_metrics | 0 | 0 | 0 | |
| promote_fields | 0.22 | 0.02 | 0.24 | |
| refine_coldata | 0 | 0 | 0 | |
| refine_rowdata | 0.05 | 0.00 | 0.04 | |
| rename_DFrame | 0.00 | 0.01 | 0.02 | |
| rename_bumpy | 0.01 | 0.02 | 0.03 | |
| shorten_normalization_type_name | 0 | 0 | 0 | |
| split_SE_components | 0.03 | 0.00 | 0.03 | |
| standardize_mae | 0.18 | 0.00 | 0.19 | |
| standardize_se | 0.03 | 0.00 | 0.03 | |
| update_env_idfs_from_mae | 0 | 0 | 0 | |
| update_idfs_synonyms | 0 | 0 | 0 | |
| validate_MAE | 0.06 | 0.00 | 0.06 | |
| validate_SE | 0.02 | 0.00 | 0.02 | |
| validate_identifiers | 0.02 | 0.00 | 0.01 | |
| validate_json | 0 | 0 | 0 | |
| validate_mae_with_schema | 0.26 | 0.06 | 0.72 | |
| validate_se_assay_name | 0 | 0 | 0 | |