| Back to Multiple platform build/check report for BioC 3.18: simplified long |
|
This page was generated on 2023-11-02 11:40:40 -0400 (Thu, 02 Nov 2023).
| Hostname | OS | Arch (*) | R version | Installed pkgs |
|---|---|---|---|---|
| nebbiolo2 | Linux (Ubuntu 22.04.2 LTS) | x86_64 | 4.3.1 (2023-06-16) -- "Beagle Scouts" | 4729 |
| palomino4 | Windows Server 2022 Datacenter | x64 | 4.3.1 (2023-06-16 ucrt) -- "Beagle Scouts" | 4463 |
| lconway | macOS 12.6.5 Monterey | x86_64 | 4.3.1 Patched (2023-06-17 r84564) -- "Beagle Scouts" | 4478 |
| kunpeng2 | Linux (openEuler 22.03 LTS-SP1) | aarch64 | 4.3.1 (2023-06-16) -- "Beagle Scouts" | 4464 |
| Click on any hostname to see more info about the system (e.g. compilers) (*) as reported by 'uname -p', except on Windows and Mac OS X | ||||
| Package 684/2266 | Hostname | OS / Arch | INSTALL | BUILD | CHECK | BUILD BIN | ||||||||
| extraChIPs 1.6.0 (landing page) Stephen Pederson
| nebbiolo2 | Linux (Ubuntu 22.04.2 LTS) / x86_64 | OK | OK | OK | |||||||||
| palomino4 | Windows Server 2022 Datacenter / x64 | OK | OK | OK | OK | |||||||||
| lconway | macOS 12.6.5 Monterey / x86_64 | OK | OK | OK | OK | |||||||||
| kjohnson1 | macOS 13.6.1 Ventura / arm64 | see weekly results here | ||||||||||||
| kunpeng2 | Linux (openEuler 22.03 LTS-SP1) / aarch64 | OK | OK | OK | ||||||||||
|
To the developers/maintainers of the extraChIPs package: - Allow up to 24 hours (and sometimes 48 hours) for your latest push to git@git.bioconductor.org:packages/extraChIPs.git to reflect on this report. See Troubleshooting Build Report for more information. - Use the following Renviron settings to reproduce errors and warnings. - If 'R CMD check' started to fail recently on the Linux builder(s) over a missing dependency, add the missing dependency to 'Suggests:' in your DESCRIPTION file. See Renviron.bioc for more information. - See Martin Grigorov's blog post for how to debug Linux ARM64 related issues on a x86_64 host. |
| Package: extraChIPs |
| Version: 1.6.0 |
| Command: /home/biocbuild/R/R-4.3.1/bin/R CMD check --install=check:extraChIPs.install-out.txt --library=/home/biocbuild/R/R-4.3.1/site-library --no-vignettes --timings extraChIPs_1.6.0.tar.gz |
| StartedAt: 2023-11-02 10:26:26 -0000 (Thu, 02 Nov 2023) |
| EndedAt: 2023-11-02 10:37:21 -0000 (Thu, 02 Nov 2023) |
| EllapsedTime: 654.7 seconds |
| RetCode: 0 |
| Status: OK |
| CheckDir: extraChIPs.Rcheck |
| Warnings: 0 |
##############################################################################
##############################################################################
###
### Running command:
###
### /home/biocbuild/R/R-4.3.1/bin/R CMD check --install=check:extraChIPs.install-out.txt --library=/home/biocbuild/R/R-4.3.1/site-library --no-vignettes --timings extraChIPs_1.6.0.tar.gz
###
##############################################################################
##############################################################################
* using log directory ‘/home/biocbuild/bbs-3.18-bioc/meat/extraChIPs.Rcheck’
* using R version 4.3.1 (2023-06-16)
* using platform: aarch64-unknown-linux-gnu (64-bit)
* R was compiled by
gcc (GCC) 10.3.1
GNU Fortran (GCC) 10.3.1
* running under: openEuler 22.03 (LTS-SP1)
* using session charset: UTF-8
* using option ‘--no-vignettes’
* checking for file ‘extraChIPs/DESCRIPTION’ ... OK
* this is package ‘extraChIPs’ version ‘1.6.0’
* package encoding: UTF-8
* checking package namespace information ... OK
* checking package dependencies ... NOTE
Depends: includes the non-default packages:
'BiocParallel', 'GenomicRanges', 'ggplot2', 'ggside',
'SummarizedExperiment', 'tibble'
Adding so many packages to the search path is excessive and importing
selectively is preferable.
* checking if this is a source package ... OK
* checking if there is a namespace ... OK
* checking for hidden files and directories ... NOTE
Found the following hidden files and directories:
.BBSoptions
These were most likely included in error. See section ‘Package
structure’ in the ‘Writing R Extensions’ manual.
* checking for portable file names ... OK
* checking for sufficient/correct file permissions ... OK
* checking whether package ‘extraChIPs’ can be installed ... OK
* used C compiler: ‘gcc (GCC) 10.3.1’
* checking installed package size ... OK
* checking package directory ... OK
* checking ‘build’ directory ... OK
* checking DESCRIPTION meta-information ... OK
* checking top-level files ... OK
* checking for left-over files ... OK
* checking index information ... OK
* checking package subdirectories ... OK
* checking R files for non-ASCII characters ... OK
* checking R files for syntax errors ... OK
* checking whether the package can be loaded ... OK
* checking whether the package can be loaded with stated dependencies ... OK
* checking whether the package can be unloaded cleanly ... OK
* checking whether the namespace can be loaded with stated dependencies ... OK
* checking whether the namespace can be unloaded cleanly ... OK
* checking loading without being on the library search path ... OK
* checking dependencies in R code ... OK
* checking S3 generic/method consistency ... OK
* checking replacement functions ... OK
* checking foreign function calls ... OK
* checking R code for possible problems ... OK
* checking Rd files ... OK
* checking Rd metadata ... OK
* checking Rd cross-references ... OK
* checking for missing documentation entries ... OK
* checking for code/documentation mismatches ... OK
* checking Rd \usage sections ... OK
* checking Rd contents ... OK
* checking for unstated dependencies in examples ... OK
* checking contents of ‘data’ directory ... OK
* checking data for non-ASCII characters ... OK
* checking data for ASCII and uncompressed saves ... OK
* checking line endings in C/C++/Fortran sources/headers ... OK
* checking compiled code ... NOTE
Note: information on .o files is not available
* checking files in ‘vignettes’ ... OK
* checking examples ... OK
Examples with CPU (user + system) or elapsed time > 5s
user system elapsed
defineRegions 5.429 0.063 5.508
* checking for unstated dependencies in ‘tests’ ... OK
* checking tests ...
Running ‘testthat.R’
OK
* checking for unstated dependencies in vignettes ... OK
* checking package vignettes in ‘inst/doc’ ... OK
* checking running R code from vignettes ... SKIPPED
* checking re-building of vignette outputs ... SKIPPED
* checking PDF version of manual ... OK
* DONE
Status: 3 NOTEs
See
‘/home/biocbuild/bbs-3.18-bioc/meat/extraChIPs.Rcheck/00check.log’
for details.
extraChIPs.Rcheck/00install.out
##############################################################################
##############################################################################
###
### Running command:
###
### /home/biocbuild/R/R-4.3.1/bin/R CMD INSTALL extraChIPs
###
##############################################################################
##############################################################################
* installing to library ‘/home/biocbuild/R/R-4.3.1/site-library’
* installing *source* package ‘extraChIPs’ ...
** using staged installation
** libs
using C compiler: ‘gcc (GCC) 10.3.1’
gcc -I"/home/biocbuild/R/R-4.3.1/include" -DNDEBUG -I/usr/local/include -fPIC -g -O2 -Wall -c FMStable.c -o FMStable.o
FMStable.c: In function ‘setalpha’:
FMStable.c:4835:22: warning: unused variable ‘sinhalfangle’ [-Wunused-variable]
4835 | double sinangle, sinhalfangle;
| ^~~~~~~~~~~~
FMStable.c: In function ‘tailsMSS’:
FMStable.c:4924:21: warning: unused variable ‘temp’ [-Wunused-variable]
4924 | double z,y,dy,t,temp,scale;
| ^~~~
At top level:
FMStable.c:231:35: warning: ‘alphalarge’ defined but not used [-Wunused-variable]
231 | static int distributiontabulated, alphalarge;
| ^~~~~~~~~~
FMStable.c:227:52: warning: ‘C4’ defined but not used [-Wunused-variable]
227 | static double Clogd,alphastar,ratio,angle,C1,C2,C3,C4,eta;
| ^~
FMStable.c:227:49: warning: ‘C3’ defined but not used [-Wunused-variable]
227 | static double Clogd,alphastar,ratio,angle,C1,C2,C3,C4,eta;
| ^~
FMStable.c:227:46: warning: ‘C2’ defined but not used [-Wunused-variable]
227 | static double Clogd,alphastar,ratio,angle,C1,C2,C3,C4,eta;
| ^~
FMStable.c:227:43: warning: ‘C1’ defined but not used [-Wunused-variable]
227 | static double Clogd,alphastar,ratio,angle,C1,C2,C3,C4,eta;
| ^~
FMStable.c:227:37: warning: ‘angle’ defined but not used [-Wunused-variable]
227 | static double Clogd,alphastar,ratio,angle,C1,C2,C3,C4,eta;
| ^~~~~
FMStable.c:227:31: warning: ‘ratio’ defined but not used [-Wunused-variable]
227 | static double Clogd,alphastar,ratio,angle,C1,C2,C3,C4,eta;
| ^~~~~
gcc -I"/home/biocbuild/R/R-4.3.1/include" -DNDEBUG -I/usr/local/include -fPIC -g -O2 -Wall -c init.c -o init.o
gcc -shared -L/home/biocbuild/R/R-4.3.1/lib -L/usr/local/lib -o extraChIPs.so FMStable.o init.o -L/home/biocbuild/R/R-4.3.1/lib -lR
installing to /home/biocbuild/R/R-4.3.1/site-library/00LOCK-extraChIPs/00new/extraChIPs/libs
** R
** data
** inst
** byte-compile and prepare package for lazy loading
** help
*** installing help indices
*** copying figures
** building package indices
** installing vignettes
** testing if installed package can be loaded from temporary location
** checking absolute paths in shared objects and dynamic libraries
** testing if installed package can be loaded from final location
** testing if installed package keeps a record of temporary installation path
* DONE (extraChIPs)
extraChIPs.Rcheck/tests/testthat.Rout
R version 4.3.1 (2023-06-16) -- "Beagle Scouts"
Copyright (C) 2023 The R Foundation for Statistical Computing
Platform: aarch64-unknown-linux-gnu (64-bit)
R is free software and comes with ABSOLUTELY NO WARRANTY.
You are welcome to redistribute it under certain conditions.
Type 'license()' or 'licence()' for distribution details.
R is a collaborative project with many contributors.
Type 'contributors()' for more information and
'citation()' on how to cite R or R packages in publications.
Type 'demo()' for some demos, 'help()' for on-line help, or
'help.start()' for an HTML browser interface to help.
Type 'q()' to quit R.
> library(testthat)
> library(extraChIPs)
Loading required package: BiocParallel
Loading required package: GenomicRanges
Loading required package: stats4
Loading required package: BiocGenerics
Attaching package: 'BiocGenerics'
The following objects are masked from 'package:stats':
IQR, mad, sd, var, xtabs
The following objects are masked from 'package:base':
Filter, Find, Map, Position, Reduce, anyDuplicated, aperm, append,
as.data.frame, basename, cbind, colnames, dirname, do.call,
duplicated, eval, evalq, get, grep, grepl, intersect, is.unsorted,
lapply, mapply, match, mget, order, paste, pmax, pmax.int, pmin,
pmin.int, rank, rbind, rownames, sapply, setdiff, sort, table,
tapply, union, unique, unsplit, which.max, which.min
Loading required package: S4Vectors
Attaching package: 'S4Vectors'
The following object is masked from 'package:utils':
findMatches
The following objects are masked from 'package:base':
I, expand.grid, unname
Loading required package: IRanges
Loading required package: GenomeInfoDb
Loading required package: ggplot2
Loading required package: ggside
Loading required package: SummarizedExperiment
Loading required package: MatrixGenerics
Loading required package: matrixStats
Attaching package: 'MatrixGenerics'
The following objects are masked from 'package:matrixStats':
colAlls, colAnyNAs, colAnys, colAvgsPerRowSet, colCollapse,
colCounts, colCummaxs, colCummins, colCumprods, colCumsums,
colDiffs, colIQRDiffs, colIQRs, colLogSumExps, colMadDiffs,
colMads, colMaxs, colMeans2, colMedians, colMins, colOrderStats,
colProds, colQuantiles, colRanges, colRanks, colSdDiffs, colSds,
colSums2, colTabulates, colVarDiffs, colVars, colWeightedMads,
colWeightedMeans, colWeightedMedians, colWeightedSds,
colWeightedVars, rowAlls, rowAnyNAs, rowAnys, rowAvgsPerColSet,
rowCollapse, rowCounts, rowCummaxs, rowCummins, rowCumprods,
rowCumsums, rowDiffs, rowIQRDiffs, rowIQRs, rowLogSumExps,
rowMadDiffs, rowMads, rowMaxs, rowMeans2, rowMedians, rowMins,
rowOrderStats, rowProds, rowQuantiles, rowRanges, rowRanks,
rowSdDiffs, rowSds, rowSums2, rowTabulates, rowVarDiffs, rowVars,
rowWeightedMads, rowWeightedMeans, rowWeightedMedians,
rowWeightedSds, rowWeightedVars
Loading required package: Biobase
Welcome to Bioconductor
Vignettes contain introductory material; view with
'browseVignettes()'. To cite Bioconductor, see
'citation("Biobase")', and for packages 'citation("pkgname")'.
Attaching package: 'Biobase'
The following object is masked from 'package:MatrixGenerics':
rowMedians
The following objects are masked from 'package:matrixStats':
anyMissing, rowMedians
Loading required package: tibble
>
> test_check("extraChIPs")
Creating DGE list...
Calculating experiment-wide normalisation factors...
Estimating dispersions...
Running glmQLFit...
Creating DGE list...
Calculating experiment-wide normalisation factors...
Estimating dispersions...
Running glmQLFit...
[ FAIL 0 | WARN 0 | SKIP 0 | PASS 575 ]
>
> proc.time()
user system elapsed
94.465 2.040 96.826
extraChIPs.Rcheck/extraChIPs-Ex.timings
| name | user | system | elapsed | |
| addDiffStatus-methods | 1.641 | 0.032 | 1.676 | |
| as_tibble | 0.651 | 0.008 | 0.662 | |
| bestOverlap-methods | 1.216 | 0.148 | 1.367 | |
| chopMC | 0.234 | 0.000 | 0.234 | |
| colToRanges-methods | 0.285 | 0.019 | 0.306 | |
| collapseGenes | 0.004 | 0.001 | 0.010 | |
| cytobands | 0.013 | 0.000 | 0.014 | |
| defineRegions | 5.429 | 0.063 | 5.508 | |
| defineSeqinfo | 0.014 | 0.000 | 0.015 | |
| distinctMC | 0.520 | 0.000 | 0.521 | |
| dualFilter | 0 | 0 | 0 | |
| ex_datasets | 0.019 | 0.002 | 0.021 | |
| fitAssayDiff-methods | 0.295 | 0.004 | 0.301 | |
| fixed_width_datasets | 0.072 | 0.004 | 0.076 | |
| getProfileData-methods | 2.107 | 0.084 | 2.198 | |
| grlToSE-methods | 0.695 | 0.004 | 0.704 | |
| importPeaks | 0.205 | 0.003 | 0.210 | |
| makeConsensus | 1.341 | 0.020 | 1.366 | |
| mapByFeature | 0.968 | 0.004 | 0.979 | |
| mapGrlCols | 2.321 | 0.020 | 2.348 | |
| mergeByCol-methods | 0.469 | 0.004 | 0.474 | |
| mergeByHMP-methods | 0.672 | 0.004 | 0.678 | |
| mergeBySig-methods | 0.657 | 0.016 | 0.676 | |
| partitionRanges-methods | 1.617 | 0.016 | 1.637 | |
| plotAssayDensities-methods | 1.183 | 0.020 | 1.206 | |
| plotAssayHeatmap-methods | 0.532 | 0.016 | 0.549 | |
| plotAssayPCA-methods | 1.327 | 0.028 | 1.357 | |
| plotAssayRle-methods | 1.254 | 0.008 | 1.264 | |
| plotGrlCol | 2.068 | 0.040 | 2.112 | |
| plotHFGC | 0.000 | 0.000 | 0.001 | |
| plotOverlaps-methods | 3.956 | 0.035 | 4.006 | |
| plotPairwise | 4.227 | 0.028 | 4.262 | |
| plotPie-methods | 2.061 | 0.008 | 2.082 | |
| plotProfileHeatmap-methods | 0 | 0 | 0 | |
| plotSplitDonut-methods | 1.654 | 0.008 | 1.666 | |
| propOverlap-methods | 0.418 | 0.000 | 0.419 | |
| reduceMC | 0.343 | 0.000 | 0.343 | |
| setoptsMC-methods | 1.293 | 0.004 | 1.299 | |
| stitchRanges | 0.384 | 0.000 | 0.384 | |
| voomWeightsFromCPM | 0.307 | 0.016 | 0.337 | |